| Back to Multiple platform build/check report for BioC 3.22: simplified long |
|
This page was generated on 2025-10-24 12:03 -0400 (Fri, 24 Oct 2025).
| Hostname | OS | Arch (*) | R version | Installed pkgs |
|---|---|---|---|---|
| nebbiolo2 | Linux (Ubuntu 24.04.3 LTS) | x86_64 | 4.5.1 Patched (2025-08-23 r88802) -- "Great Square Root" | 4898 |
| lconway | macOS 12.7.6 Monterey | x86_64 | 4.5.1 Patched (2025-09-10 r88807) -- "Great Square Root" | 4688 |
| kjohnson3 | macOS 13.7.7 Ventura | arm64 | 4.5.1 Patched (2025-09-10 r88807) -- "Great Square Root" | 4634 |
| taishan | Linux (openEuler 24.03 LTS) | aarch64 | 4.5.0 (2025-04-11) -- "How About a Twenty-Six" | 4658 |
| Click on any hostname to see more info about the system (e.g. compilers) (*) as reported by 'uname -p', except on Windows and Mac OS X | ||||
| Package 1210/2359 | Hostname | OS / Arch | INSTALL | BUILD | CHECK | BUILD BIN | ||||||||
| mbkmeans 1.25.0 (landing page) Davide Risso
| nebbiolo2 | Linux (Ubuntu 24.04.3 LTS) / x86_64 | OK | OK | OK | |||||||||
| lconway | macOS 12.7.6 Monterey / x86_64 | OK | OK | OK | OK | |||||||||
| kjohnson3 | macOS 13.7.7 Ventura / arm64 | OK | OK | OK | OK | |||||||||
| taishan | Linux (openEuler 24.03 LTS) / aarch64 | OK | OK | NA | ||||||||||
|
To the developers/maintainers of the mbkmeans package: - Allow up to 24 hours (and sometimes 48 hours) for your latest push to git@git.bioconductor.org:packages/mbkmeans.git to reflect on this report. See Troubleshooting Build Report for more information. - Use the following Renviron settings to reproduce errors and warnings. - If 'R CMD check' started to fail recently on the Linux builder(s) over a missing dependency, add the missing dependency to 'Suggests:' in your DESCRIPTION file. See Renviron.bioc for more information. |
| Package: mbkmeans |
| Version: 1.25.0 |
| Command: /home/biocbuild/bbs-3.22-bioc/R/bin/R CMD INSTALL mbkmeans |
| StartedAt: 2025-10-23 15:19:03 -0400 (Thu, 23 Oct 2025) |
| EndedAt: 2025-10-23 15:19:52 -0400 (Thu, 23 Oct 2025) |
| EllapsedTime: 48.8 seconds |
| RetCode: 0 |
| Status: OK |
##############################################################################
##############################################################################
###
### Running command:
###
### /home/biocbuild/bbs-3.22-bioc/R/bin/R CMD INSTALL mbkmeans
###
##############################################################################
##############################################################################
* installing to library ‘/home/biocbuild/bbs-3.22-bioc/R/site-library’
* installing *source* package ‘mbkmeans’ ...
** this is package ‘mbkmeans’ version ‘1.25.0’
** using staged installation
** libs
using C++ compiler: ‘g++ (Ubuntu 13.3.0-6ubuntu2~24.04) 13.3.0’
using C++11
g++ -std=gnu++11 -I"/home/biocbuild/bbs-3.22-bioc/R/include" -DNDEBUG -I'/home/biocbuild/bbs-3.22-bioc/R/site-library/Rcpp/include' -I'/home/biocbuild/bbs-3.22-bioc/R/site-library/RcppArmadillo/include' -I'/home/biocbuild/bbs-3.22-bioc/R/site-library/Rhdf5lib/include' -I'/home/biocbuild/bbs-3.22-bioc/R/site-library/beachmat/include' -I'/home/biocbuild/bbs-3.22-bioc/R/site-library/ClusterR/include' -I/usr/local/include -fpic -g -O2 -Wall -Werror=format-security -c RcppExports.cpp -o RcppExports.o
In file included from /home/biocbuild/bbs-3.22-bioc/R/site-library/RcppArmadillo/include/RcppArmadillo.h:29,
from RcppExports.cpp:4:
/home/biocbuild/bbs-3.22-bioc/R/site-library/RcppArmadillo/include/RcppArmadillo/version/arma.h:66:199: note: ‘#pragma message: Using fallback compilation with Armadillo 14.6.3. Please consider defining -DARMA_USE_CURRENT and also removing C++11 compilation directive. See GitHub issue #475 for more.’
66 | #pragma message("Using fallback compilation with Armadillo 14.6.3. Please consider defining -DARMA_USE_CURRENT and also removing C++11 compilation directive. See GitHub issue #475 for more.")
| ^
g++ -std=gnu++11 -I"/home/biocbuild/bbs-3.22-bioc/R/include" -DNDEBUG -I'/home/biocbuild/bbs-3.22-bioc/R/site-library/Rcpp/include' -I'/home/biocbuild/bbs-3.22-bioc/R/site-library/RcppArmadillo/include' -I'/home/biocbuild/bbs-3.22-bioc/R/site-library/Rhdf5lib/include' -I'/home/biocbuild/bbs-3.22-bioc/R/site-library/beachmat/include' -I'/home/biocbuild/bbs-3.22-bioc/R/site-library/ClusterR/include' -I/usr/local/include -fpic -g -O2 -Wall -Werror=format-security -c mini_batch.cpp -o mini_batch.o
In file included from /home/biocbuild/bbs-3.22-bioc/R/site-library/RcppArmadillo/include/RcppArmadillo.h:29,
from mini_batch.cpp:2:
/home/biocbuild/bbs-3.22-bioc/R/site-library/RcppArmadillo/include/RcppArmadillo/version/arma.h:66:199: note: ‘#pragma message: Using fallback compilation with Armadillo 14.6.3. Please consider defining -DARMA_USE_CURRENT and also removing C++11 compilation directive. See GitHub issue #475 for more.’
66 | #pragma message("Using fallback compilation with Armadillo 14.6.3. Please consider defining -DARMA_USE_CURRENT and also removing C++11 compilation directive. See GitHub issue #475 for more.")
| ^
In file included from mini_batch.cpp:3:
/home/biocbuild/bbs-3.22-bioc/R/site-library/ClusterR/include/ClusterRHeader.h: In member function ‘arma::mat clustR::ClustHeader::KMEANS_arma(arma::mat&, int, int, bool, std::string, Rcpp::Nullable<Rcpp::Matrix<14> >, int)’:
/home/biocbuild/bbs-3.22-bioc/R/site-library/ClusterR/include/ClusterRHeader.h:862:14: warning: variable ‘status’ set but not used [-Wunused-but-set-variable]
862 | bool status;
| ^~~~~~
/home/biocbuild/bbs-3.22-bioc/R/site-library/ClusterR/include/ClusterRHeader.h: In instantiation of ‘T clustR::ClustHeader::GMM_arma_covariance_type(T, arma::mat&, int, std::string, std::string, int, int, bool, double, int) [with T = arma::gmm_priv::gmm_full<double>; arma::mat = arma::Mat<double>; std::string = std::__cxx11::basic_string<char>]’:
/home/biocbuild/bbs-3.22-bioc/R/site-library/ClusterR/include/ClusterRHeader.h:1592:65: required from here
/home/biocbuild/bbs-3.22-bioc/R/site-library/ClusterR/include/ClusterRHeader.h:1530:14: warning: variable ‘status’ set but not used [-Wunused-but-set-variable]
1530 | bool status;
| ^~~~~~
/home/biocbuild/bbs-3.22-bioc/R/site-library/ClusterR/include/ClusterRHeader.h: In instantiation of ‘T clustR::ClustHeader::GMM_arma_covariance_type(T, arma::mat&, int, std::string, std::string, int, int, bool, double, int) [with T = arma::gmm_priv::gmm_diag<double>; arma::mat = arma::Mat<double>; std::string = std::__cxx11::basic_string<char>]’:
/home/biocbuild/bbs-3.22-bioc/R/site-library/ClusterR/include/ClusterRHeader.h:1626:65: required from here
/home/biocbuild/bbs-3.22-bioc/R/site-library/ClusterR/include/ClusterRHeader.h:1530:14: warning: variable ‘status’ set but not used [-Wunused-but-set-variable]
g++ -std=gnu++11 -shared -L/home/biocbuild/bbs-3.22-bioc/R/lib -L/usr/local/lib -o mbkmeans.so RcppExports.o mini_batch.o -L/home/biocbuild/bbs-3.22-bioc/R/lib -lR
installing to /home/biocbuild/bbs-3.22-bioc/R/site-library/00LOCK-mbkmeans/00new/mbkmeans/libs
** R
** inst
** byte-compile and prepare package for lazy loading
** help
*** installing help indices
** building package indices
** installing vignettes
** testing if installed package can be loaded from temporary location
** checking absolute paths in shared objects and dynamic libraries
** testing if installed package can be loaded from final location
** testing if installed package keeps a record of temporary installation path
* DONE (mbkmeans)