| Back to Multiple platform build/check report for BioC 3.22: simplified long |
|
This page was generated on 2025-08-15 12:07 -0400 (Fri, 15 Aug 2025).
| Hostname | OS | Arch (*) | R version | Installed pkgs |
|---|---|---|---|---|
| nebbiolo2 | Linux (Ubuntu 24.04.3 LTS) | x86_64 | 4.5.1 (2025-06-13) -- "Great Square Root" | 4818 |
| palomino8 | Windows Server 2022 Datacenter | x64 | 4.5.1 (2025-06-13 ucrt) -- "Great Square Root" | 4554 |
| lconway | macOS 12.7.1 Monterey | x86_64 | 4.5.1 (2025-06-13) -- "Great Square Root" | 4595 |
| kjohnson3 | macOS 13.7.7 Ventura | arm64 | 4.5.1 Patched (2025-06-14 r88325) -- "Great Square Root" | 4537 |
| taishan | Linux (openEuler 24.03 LTS) | aarch64 | 4.5.0 (2025-04-11) -- "How About a Twenty-Six" | 4535 |
| Click on any hostname to see more info about the system (e.g. compilers) (*) as reported by 'uname -p', except on Windows and Mac OS X | ||||
| Package 1235/2317 | Hostname | OS / Arch | INSTALL | BUILD | CHECK | BUILD BIN | ||||||||
| methInheritSim 1.31.1 (landing page) Pascal Belleau
| nebbiolo2 | Linux (Ubuntu 24.04.3 LTS) / x86_64 | OK | OK | OK | |||||||||
| palomino8 | Windows Server 2022 Datacenter / x64 | OK | OK | OK | OK | |||||||||
| lconway | macOS 12.7.1 Monterey / x86_64 | OK | OK | OK | OK | |||||||||
| kjohnson3 | macOS 13.7.7 Ventura / arm64 | OK | OK | OK | OK | |||||||||
| taishan | Linux (openEuler 24.03 LTS) / aarch64 | OK | OK | OK | ||||||||||
|
To the developers/maintainers of the methInheritSim package: - Allow up to 24 hours (and sometimes 48 hours) for your latest push to git@git.bioconductor.org:packages/methInheritSim.git to reflect on this report. See Troubleshooting Build Report for more information. - Use the following Renviron settings to reproduce errors and warnings. - If 'R CMD check' started to fail recently on the Linux builder(s) over a missing dependency, add the missing dependency to 'Suggests:' in your DESCRIPTION file. See Renviron.bioc for more information. |
| Package: methInheritSim |
| Version: 1.31.1 |
| Command: chmod a+r methInheritSim -R && F:\biocbuild\bbs-3.22-bioc\R\bin\R.exe CMD build --keep-empty-dirs --no-resave-data methInheritSim |
| StartedAt: 2025-08-14 21:21:15 -0400 (Thu, 14 Aug 2025) |
| EndedAt: 2025-08-14 21:22:52 -0400 (Thu, 14 Aug 2025) |
| EllapsedTime: 96.4 seconds |
| RetCode: 0 |
| Status: OK |
| PackageFile: methInheritSim_1.31.1.tar.gz |
| PackageFileSize: 1.117 MiB |
##############################################################################
##############################################################################
###
### Running command:
###
### chmod a+r methInheritSim -R && F:\biocbuild\bbs-3.22-bioc\R\bin\R.exe CMD build --keep-empty-dirs --no-resave-data methInheritSim
###
##############################################################################
##############################################################################
* checking for file 'methInheritSim/DESCRIPTION' ... OK
* preparing 'methInheritSim':
* checking DESCRIPTION meta-information ... OK
* installing the package to build vignettes
* creating vignettes ... OK
* checking for LF line-endings in source and make files and shell scripts
* checking for empty or unneeded directories
* looking to see if a 'data/datalist' file should be added
NB: this package now depends on R (>= 3.5.0)
WARNING: Added dependency on R >= 3.5.0 because serialized objects in
serialize/load version 3 cannot be read in older versions of R.
File(s) containing such objects:
'methInheritSim/data/dataSimExample.RData'
'methInheritSim/vignettes/demo_runSim/methylGR_S1_1_3_0.9_0.8_0.5_1.rds'
'methInheritSim/vignettes/demo_runSim/methylGR_S1_1_3_0.9_0.8_0.5_2.rds'
'methInheritSim/vignettes/demo_runSim/methylGR_S1_1_6_0.9_0.8_0.5_1.rds'
'methInheritSim/vignettes/demo_runSim/methylGR_S1_1_6_0.9_0.8_0.5_2.rds'
'methInheritSim/vignettes/demo_runSim/simData_S1_1_3_0.9_0.8_0.5_1.rds'
'methInheritSim/vignettes/demo_runSim/simData_S1_1_3_0.9_0.8_0.5_2.rds'
'methInheritSim/vignettes/demo_runSim/simData_S1_1_6_0.9_0.8_0.5_1.rds'
'methInheritSim/vignettes/demo_runSim/simData_S1_1_6_0.9_0.8_0.5_2.rds'
'methInheritSim/vignettes/demo_runSim/syntheticChr_S1_1.rds'
* building 'methInheritSim_1.31.1.tar.gz'