| Back to Multiple platform build/check report for BioC 3.22: simplified long | 
 | 
This page was generated on 2025-10-30 12:35 -0400 (Thu, 30 Oct 2025).
| Hostname | OS | Arch (*) | R version | Installed pkgs | 
|---|---|---|---|---|
| nebbiolo2 | Linux (Ubuntu 24.04.3 LTS) | x86_64 | 4.5.1 Patched (2025-08-23 r88802) -- "Great Square Root" | 4901 | 
| lconway | macOS 12.7.6 Monterey | x86_64 | 4.5.1 Patched (2025-09-10 r88807) -- "Great Square Root" | 4691 | 
| kjohnson3 | macOS 13.7.7 Ventura | arm64 | 4.5.1 Patched (2025-09-10 r88807) -- "Great Square Root" | 4637 | 
| Click on any hostname to see more info about the system (e.g. compilers) (*) as reported by 'uname -p', except on Windows and Mac OS X | ||||
| Package 1448/2361 | Hostname | OS / Arch | INSTALL | BUILD | CHECK | BUILD BIN | ||||||||
| ndexr 1.32.0  (landing page) Florian Auer 
 | nebbiolo2 | Linux (Ubuntu 24.04.3 LTS) / x86_64 | OK | OK | OK |  | ||||||||
| lconway | macOS 12.7.6 Monterey / x86_64 | OK | OK | OK | OK |  | ||||||||
| kjohnson3 | macOS 13.7.7 Ventura / arm64 | OK | OK | OK | OK |  | ||||||||
| To the developers/maintainers of the ndexr package: - Allow up to 24 hours (and sometimes 48 hours) for your latest push to git@git.bioconductor.org:packages/ndexr.git to reflect on this report. See Troubleshooting Build Report for more information. - Use the following Renviron settings to reproduce errors and warnings. - If 'R CMD check' started to fail recently on the Linux builder(s) over a missing dependency, add the missing dependency to 'Suggests:' in your DESCRIPTION file. See Renviron.bioc for more information. | 
| Package: ndexr | 
| Version: 1.32.0 | 
| Command: /home/biocbuild/bbs-3.22-bioc/R/bin/R CMD check --install=check:ndexr.install-out.txt --library=/home/biocbuild/bbs-3.22-bioc/R/site-library --timings ndexr_1.32.0.tar.gz | 
| StartedAt: 2025-10-30 08:25:17 -0400 (Thu, 30 Oct 2025) | 
| EndedAt: 2025-10-30 08:26:21 -0400 (Thu, 30 Oct 2025) | 
| EllapsedTime: 64.1 seconds | 
| RetCode: 0 | 
| Status: OK | 
| CheckDir: ndexr.Rcheck | 
| Warnings: 0 | 
##############################################################################
##############################################################################
###
### Running command:
###
###   /home/biocbuild/bbs-3.22-bioc/R/bin/R CMD check --install=check:ndexr.install-out.txt --library=/home/biocbuild/bbs-3.22-bioc/R/site-library --timings ndexr_1.32.0.tar.gz
###
##############################################################################
##############################################################################
* using log directory ‘/home/biocbuild/bbs-3.22-bioc/meat/ndexr.Rcheck’
* using R version 4.5.1 Patched (2025-08-23 r88802)
* using platform: x86_64-pc-linux-gnu
* R was compiled by
    gcc (Ubuntu 13.3.0-6ubuntu2~24.04) 13.3.0
    GNU Fortran (Ubuntu 13.3.0-6ubuntu2~24.04) 13.3.0
* running under: Ubuntu 24.04.3 LTS
* using session charset: UTF-8
* checking for file ‘ndexr/DESCRIPTION’ ... OK
* checking extension type ... Package
* this is package ‘ndexr’ version ‘1.32.0’
* package encoding: UTF-8
* checking package namespace information ... OK
* checking package dependencies ... OK
* checking if this is a source package ... OK
* checking if there is a namespace ... OK
* checking for hidden files and directories ... OK
* checking for portable file names ... OK
* checking for sufficient/correct file permissions ... OK
* checking whether package ‘ndexr’ can be installed ... OK
* checking installed package size ... OK
* checking package directory ... OK
* checking ‘build’ directory ... OK
* checking DESCRIPTION meta-information ... NOTE
License stub is invalid DCF.
* checking top-level files ... OK
* checking for left-over files ... OK
* checking index information ... OK
* checking package subdirectories ... OK
* checking code files for non-ASCII characters ... OK
* checking R files for syntax errors ... OK
* checking whether the package can be loaded ... OK
* checking whether the package can be loaded with stated dependencies ... OK
* checking whether the package can be unloaded cleanly ... OK
* checking whether the namespace can be loaded with stated dependencies ... OK
* checking whether the namespace can be unloaded cleanly ... OK
* checking loading without being on the library search path ... OK
* checking dependencies in R code ... NOTE
Namespaces in Imports field not imported from:
  ‘plyr’ ‘tidyr’
  All declared Imports should be used.
Package in Depends field not imported from: ‘RCX’
  These packages need to be imported from (in the NAMESPACE file)
  for when this namespace is loaded but not attached.
Unexported object imported by a ':::' call: ‘httr:::default_ua’
  See the note in ?`:::` about the use of this operator.
* checking S3 generic/method consistency ... OK
* checking replacement functions ... OK
* checking foreign function calls ... OK
* checking R code for possible problems ... NOTE
ndex_create_network: no visible global function definition for ‘tail’
ndex_rest_DELETE: no visible global function definition for
  ‘packageVersion’
ndex_rest_GET: no visible global function definition for
  ‘packageVersion’
ndex_rest_POST: no visible global function definition for
  ‘packageVersion’
ndex_rest_PUT: no visible global function definition for
  ‘packageVersion’
Undefined global functions or variables:
  packageVersion tail
Consider adding
  importFrom("utils", "packageVersion", "tail")
to your NAMESPACE file.
* checking Rd files ... NOTE
checkRd: (-1) ndex_create_group.Rd:10: Lost braces
    10 | \item{ndexcon}{object of class NDExConnection link{ndex_connect}}
       |                                                   ^
checkRd: (-1) ndex_create_network.Rd:10: Lost braces
    10 | \item{ndexcon}{object of class NDExConnection link{ndex_connect}}
       |                                                   ^
checkRd: (-1) ndex_create_user.Rd:23: Lost braces
    23 | \item{ndexcon}{object of class NDExConnection link{ndex_connect}}
       |                                                   ^
checkRd: (-1) ndex_delete_group.Rd:10: Lost braces
    10 | \item{ndexcon}{object of class NDExConnection link{ndex_connect}}
       |                                                   ^
checkRd: (-1) ndex_delete_network.Rd:10: Lost braces
    10 | \item{ndexcon}{object of class NDExConnection link{ndex_connect}}
       |                                                   ^
checkRd: (-1) ndex_delete_user.Rd:10: Lost braces
    10 | \item{ndexcon}{object of class NDExConnection link{ndex_connect}}
       |                                                   ^
checkRd: (-1) ndex_find_groups.Rd:10: Lost braces
    10 | \item{ndexcon}{object of class NDExConnection link{ndex_connect}}
       |                                                   ^
checkRd: (-1) ndex_find_networks.Rd:10: Lost braces
    10 | \item{ndexcon}{object of class NDExConnection link{ndex_connect}}
       |                                                   ^
checkRd: (-1) ndex_find_user_byId.Rd:10: Lost braces
    10 | \item{ndexcon}{object of class NDExConnection link{ndex_connect}}
       |                                                   ^
checkRd: (-1) ndex_find_user_byName.Rd:10: Lost braces
    10 | \item{ndexcon}{object of class NDExConnection link{ndex_connect}}
       |                                                   ^
checkRd: (-1) ndex_find_users.Rd:10: Lost braces
    10 | \item{ndexcon}{object of class NDExConnection link{ndex_connect}}
       |                                                   ^
checkRd: (-1) ndex_get_group.Rd:10: Lost braces
    10 | \item{ndexcon}{object of class NDExConnection link{ndex_connect}}
       |                                                   ^
checkRd: (-1) ndex_get_network.Rd:10: Lost braces
    10 | \item{ndexcon}{object of class NDExConnection link{ndex_connect}}
       |                                                   ^
checkRd: (-1) ndex_group_delete_membership.Rd:10: Lost braces
    10 | \item{ndexcon}{object of class NDExConnection link{ndex_connect}}
       |                                                   ^
checkRd: (-1) ndex_group_list_networks.Rd:16: Lost braces
    16 | \item{ndexcon}{object of class NDExConnection link{ndex_connect}}
       |                                                   ^
checkRd: (-1) ndex_group_list_users.Rd:10: Lost braces
    10 | \item{ndexcon}{object of class NDExConnection link{ndex_connect}}
       |                                                   ^
checkRd: (-1) ndex_group_set_membership.Rd:10: Lost braces
    10 | \item{ndexcon}{object of class NDExConnection link{ndex_connect}}
       |                                                   ^
checkRd: (-1) ndex_network_aspect_get_metadata.Rd:10: Lost braces
    10 | \item{ndexcon}{object of class NDExConnection link{ndex_connect}}
       |                                                   ^
checkRd: (-1) ndex_network_delete_permission.Rd:10: Lost braces
    10 | \item{ndexcon}{object of class NDExConnection link{ndex_connect}}
       |                                                   ^
checkRd: (-1) ndex_network_get_aspect.Rd:10: Lost braces
    10 | \item{ndexcon}{object of class NDExConnection link{ndex_connect}}
       |                                                   ^
checkRd: (-1) ndex_network_get_metadata.Rd:10: Lost braces
    10 | \item{ndexcon}{object of class NDExConnection link{ndex_connect}}
       |                                                   ^
checkRd: (-1) ndex_network_get_permission.Rd:10: Lost braces
    10 | \item{ndexcon}{object of class NDExConnection link{ndex_connect}}
       |                                                   ^
checkRd: (-1) ndex_network_get_provenance.Rd:10: Lost braces
    10 | \item{ndexcon}{object of class NDExConnection link{ndex_connect}}
       |                                                   ^
checkRd: (-1) ndex_network_get_summary.Rd:10: Lost braces
    10 | \item{ndexcon}{object of class NDExConnection link{ndex_connect}}
       |                                                   ^
checkRd: (-1) ndex_network_set_systemProperties.Rd:16: Lost braces
    16 | \item{ndexcon}{object of class NDExConnection link{ndex_connect}}
       |                                                   ^
checkRd: (-1) ndex_network_update_aspect.Rd:16: Lost braces
    16 | \item{ndexcon}{object of class NDExConnection link{ndex_connect}}
       |                                                   ^
checkRd: (-1) ndex_network_update_permission.Rd:16: Lost braces
    16 | \item{ndexcon}{object of class NDExConnection link{ndex_connect}}
       |                                                   ^
checkRd: (-1) ndex_network_update_profile.Rd:16: Lost braces
    16 | \item{ndexcon}{object of class NDExConnection link{ndex_connect}}
       |                                                   ^
checkRd: (-1) ndex_update_group.Rd:18: Lost braces
    18 | \item{ndexcon}{object of class NDExConnection link{ndex_connect}}
       |                                                   ^
checkRd: (-1) ndex_update_network.Rd:10: Lost braces
    10 | \item{ndexcon}{object of class NDExConnection link{ndex_connect}}
       |                                                   ^
checkRd: (-1) ndex_update_user.Rd:22: Lost braces
    22 | \item{ndexcon}{object of class NDExConnection link{ndex_connect}}
       |                                                   ^
checkRd: (-1) ndex_user_change_password.Rd:10: Lost braces
    10 | \item{ndexcon}{object of class NDExConnection link{ndex_connect}}
       |                                                   ^
checkRd: (-1) ndex_user_forgot_password.Rd:10: Lost braces
    10 | \item{ndexcon}{object of class NDExConnection link{ndex_connect}}
       |                                                   ^
checkRd: (-1) ndex_user_get_networksummary.Rd:10: Lost braces
    10 | \item{ndexcon}{object of class NDExConnection link{ndex_connect}}
       |                                                   ^
checkRd: (-1) ndex_user_get_showcase.Rd:10: Lost braces
    10 | \item{ndexcon}{object of class NDExConnection link{ndex_connect}}
       |                                                   ^
checkRd: (-1) ndex_user_list_groups.Rd:10: Lost braces
    10 | \item{ndexcon}{object of class NDExConnection link{ndex_connect}}
       |                                                   ^
checkRd: (-1) ndex_user_list_permissions.Rd:17: Lost braces
    17 | \item{ndexcon}{object of class NDExConnection link{ndex_connect}}
       |                                                   ^
checkRd: (-1) ndex_user_mail_password.Rd:10: Lost braces
    10 | \item{ndexcon}{object of class NDExConnection link{ndex_connect}}
       |                                                   ^
checkRd: (-1) ndex_user_show_group.Rd:10: Lost braces
    10 | \item{ndexcon}{object of class NDExConnection link{ndex_connect}}
       |                                                   ^
checkRd: (-1) ndex_user_show_permission.Rd:10: Lost braces
    10 | \item{ndexcon}{object of class NDExConnection link{ndex_connect}}
       |                                                   ^
checkRd: (-1) ndex_verify_user.Rd:10: Lost braces
    10 | \item{ndexcon}{object of class NDExConnection link{ndex_connect}}
       |                                                   ^
* checking Rd metadata ... OK
* checking Rd cross-references ... OK
* checking for missing documentation entries ... OK
* checking for code/documentation mismatches ... OK
* checking Rd \usage sections ... OK
* checking Rd contents ... OK
* checking for unstated dependencies in examples ... OK
* checking files in ‘vignettes’ ... OK
* checking examples ... OK
* checking for unstated dependencies in ‘tests’ ... OK
* checking tests ...
  Running ‘testthat.R’
 OK
* checking for unstated dependencies in vignettes ... OK
* checking package vignettes ... OK
* checking re-building of vignette outputs ... OK
* checking PDF version of manual ... OK
* DONE
Status: 4 NOTEs
See
  ‘/home/biocbuild/bbs-3.22-bioc/meat/ndexr.Rcheck/00check.log’
for details.
ndexr.Rcheck/00install.out
############################################################################## ############################################################################## ### ### Running command: ### ### /home/biocbuild/bbs-3.22-bioc/R/bin/R CMD INSTALL ndexr ### ############################################################################## ############################################################################## * installing to library ‘/home/biocbuild/bbs-3.22-bioc/R/site-library’ * installing *source* package ‘ndexr’ ... ** this is package ‘ndexr’ version ‘1.32.0’ ** using staged installation ** R ** byte-compile and prepare package for lazy loading ** help *** installing help indices ** building package indices ** installing vignettes ** testing if installed package can be loaded from temporary location ** testing if installed package can be loaded from final location ** testing if installed package keeps a record of temporary installation path * DONE (ndexr)
ndexr.Rcheck/tests/testthat.Rout
R version 4.5.1 Patched (2025-08-23 r88802) -- "Great Square Root"
Copyright (C) 2025 The R Foundation for Statistical Computing
Platform: x86_64-pc-linux-gnu
R is free software and comes with ABSOLUTELY NO WARRANTY.
You are welcome to redistribute it under certain conditions.
Type 'license()' or 'licence()' for distribution details.
R is a collaborative project with many contributors.
Type 'contributors()' for more information and
'citation()' on how to cite R or R packages in publications.
Type 'demo()' for some demos, 'help()' for on-line help, or
'help.start()' for an HTML browser interface to help.
Type 'q()' to quit R.
> library(testthat)
> library(ndexr)
Loading required package: RCX
> 
> test_check("ndexr")
[ FAIL 0 | WARN 0 | SKIP 0 | PASS 124 ]
> 
> proc.time()
   user  system elapsed 
 14.632   0.526  29.647 
ndexr.Rcheck/ndexr-Ex.timings
| name | user | system | elapsed | |
| listToRCode | 0 | 0 | 0 | |
| ndex_conf_header | 0 | 0 | 0 | |
| ndex_config | 0.000 | 0.000 | 0.001 | |
| ndex_connect | 0.038 | 0.005 | 0.300 | |
| ndex_create_group | 0 | 0 | 0 | |
| ndex_create_network | 0 | 0 | 0 | |
| ndex_create_user | 0 | 0 | 0 | |
| ndex_delete_group | 0 | 0 | 0 | |
| ndex_delete_network | 0 | 0 | 0 | |
| ndex_delete_user | 0 | 0 | 0 | |
| ndex_find_groups | 0.062 | 0.001 | 0.220 | |
| ndex_find_networks | 0.086 | 0.000 | 0.576 | |
| ndex_find_user_byId | 0.037 | 0.001 | 0.262 | |
| ndex_find_user_byName | 0.029 | 0.001 | 0.181 | |
| ndex_find_users | 0.029 | 0.000 | 0.178 | |
| ndex_get_group | 0.051 | 0.002 | 0.286 | |
| ndex_get_network | 0.591 | 0.053 | 1.147 | |
| ndex_group_delete_membership | 0 | 0 | 0 | |
| ndex_group_list_networks | 0.037 | 0.001 | 0.345 | |
| ndex_group_list_users | 0.024 | 0.000 | 0.178 | |
| ndex_group_network_get_permission | 0.039 | 0.000 | 0.269 | |
| ndex_group_set_membership | 0 | 0 | 0 | |
| ndex_helper_encodeParams | 0.001 | 0.001 | 0.001 | |
| ndex_helper_getApi | 0.007 | 0.000 | 0.082 | |
| ndex_helper_httpResponseHandler | 0.016 | 0.000 | 0.102 | |
| ndex_network_aspect_get_metadata | 0.039 | 0.002 | 0.336 | |
| ndex_network_delete_permission | 0 | 0 | 0 | |
| ndex_network_get_aspect | 0.130 | 0.003 | 0.434 | |
| ndex_network_get_metadata | 0.026 | 0.001 | 0.255 | |
| ndex_network_get_permission | 0 | 0 | 0 | |
| ndex_network_get_provenance | 0.034 | 0.000 | 0.261 | |
| ndex_network_get_summary | 0.046 | 0.001 | 0.271 | |
| ndex_network_set_systemProperties | 0 | 0 | 0 | |
| ndex_network_update_aspect | 0 | 0 | 0 | |
| ndex_network_update_permission | 0.001 | 0.000 | 0.000 | |
| ndex_network_update_profile | 0 | 0 | 0 | |
| ndex_rest_DELETE | 0.004 | 0.001 | 0.080 | |
| ndex_rest_GET | 0.005 | 0.000 | 0.081 | |
| ndex_rest_POST | 0.007 | 0.001 | 0.082 | |
| ndex_rest_PUT | 0.010 | 0.000 | 0.084 | |
| ndex_update_group | 0.001 | 0.001 | 0.000 | |
| ndex_update_network | 0.001 | 0.000 | 0.000 | |
| ndex_update_user | 0 | 0 | 0 | |
| ndex_user_change_password | 0 | 0 | 0 | |
| ndex_user_forgot_password | 0 | 0 | 0 | |
| ndex_user_get_networksummary | 0 | 0 | 0 | |
| ndex_user_get_showcase | 0.060 | 0.002 | 0.293 | |
| ndex_user_list_groups | 0.000 | 0.000 | 0.001 | |
| ndex_user_list_permissions | 0.000 | 0.001 | 0.000 | |
| ndex_user_mail_password | 0 | 0 | 0 | |
| ndex_user_show_group | 0.000 | 0.000 | 0.001 | |
| ndex_user_show_permission | 0 | 0 | 0 | |
| ndex_verify_user | 0 | 0 | 0 | |
| ndexr-package | 0.001 | 0.000 | 0.000 | |
| print.NDExConnection | 0.029 | 0.000 | 0.179 | |