Back to Build/check report for BioC 3.23:   simplified   long
ABCDEFGHIJKLM[N]OPQRSTUVWXYZ

This page was generated on 2025-11-13 11:32 -0500 (Thu, 13 Nov 2025).

HostnameOSArch (*)R versionInstalled pkgs
kjohnson3macOS 13.7.7 Venturaarm64R Under development (unstable) (2025-11-04 r88984) -- "Unsuffered Consequences" 4013
Click on any hostname to see more info about the system (e.g. compilers)      (*) as reported by 'uname -p', except on Windows and Mac OS X

Package 1462/2325HostnameOS / ArchINSTALLBUILDCHECKBUILD BIN
nullranges 1.17.0  (landing page)
Michael Love
Snapshot Date: 2025-11-12 13:40 -0500 (Wed, 12 Nov 2025)
git_url: https://git.bioconductor.org/packages/nullranges
git_branch: devel
git_last_commit: f28268b
git_last_commit_date: 2025-10-29 11:12:51 -0500 (Wed, 29 Oct 2025)
kjohnson3macOS 13.7.7 Ventura / arm64  ERROR    ERROR  skippedskipped


INSTALL results for nullranges on kjohnson3

To the developers/maintainers of the nullranges package:
- Allow up to 24 hours (and sometimes 48 hours) for your latest push to git@git.bioconductor.org:packages/nullranges.git to reflect on this report. See Troubleshooting Build Report for more information.
- Use the following Renviron settings to reproduce errors and warnings.
- If 'R CMD check' started to fail recently on the Linux builder(s) over a missing dependency, add the missing dependency to 'Suggests:' in your DESCRIPTION file. See Renviron.bioc for more information.

raw results


Summary

Package: nullranges
Version: 1.17.0
Command: /Library/Frameworks/R.framework/Resources/bin/R CMD INSTALL nullranges
StartedAt: 2025-11-12 15:35:37 -0500 (Wed, 12 Nov 2025)
EndedAt: 2025-11-12 15:35:43 -0500 (Wed, 12 Nov 2025)
EllapsedTime: 5.4 seconds
RetCode: 1
Status:   ERROR  

Command output

##############################################################################
##############################################################################
###
### Running command:
###
###   /Library/Frameworks/R.framework/Resources/bin/R CMD INSTALL nullranges
###
##############################################################################
##############################################################################


* installing to library ‘/Library/Frameworks/R.framework/Versions/4.6-arm64/Resources/library’
* installing *source* package ‘nullranges’ ...
** this is package ‘nullranges’ version ‘1.17.0’
** using staged installation
** R
** inst
** byte-compile and prepare package for lazy loading
Error: object ‘filter’ is not exported by 'namespace:plyranges'
Execution halted
ERROR: lazy loading failed for package ‘nullranges’
* removing ‘/Library/Frameworks/R.framework/Versions/4.6-arm64/Resources/library/nullranges’