| Back to Multiple platform build/check report for BioC 3.22: simplified long |
|
This page was generated on 2025-10-23 12:04 -0400 (Thu, 23 Oct 2025).
| Hostname | OS | Arch (*) | R version | Installed pkgs |
|---|---|---|---|---|
| nebbiolo2 | Linux (Ubuntu 24.04.3 LTS) | x86_64 | 4.5.1 Patched (2025-08-23 r88802) -- "Great Square Root" | 4894 |
| lconway | macOS 12.7.6 Monterey | x86_64 | 4.5.1 Patched (2025-09-10 r88807) -- "Great Square Root" | 4684 |
| kjohnson3 | macOS 13.7.7 Ventura | arm64 | 4.5.1 Patched (2025-09-10 r88807) -- "Great Square Root" | 4629 |
| taishan | Linux (openEuler 24.03 LTS) | aarch64 | 4.5.0 (2025-04-11) -- "How About a Twenty-Six" | 4642 |
| Click on any hostname to see more info about the system (e.g. compilers) (*) as reported by 'uname -p', except on Windows and Mac OS X | ||||
| Package 1606/2355 | Hostname | OS / Arch | INSTALL | BUILD | CHECK | BUILD BIN | ||||||||
| plotgardener 1.15.1 (landing page) Nicole Kramer
| nebbiolo2 | Linux (Ubuntu 24.04.3 LTS) / x86_64 | OK | OK | OK | |||||||||
| lconway | macOS 12.7.6 Monterey / x86_64 | OK | OK | OK | OK | |||||||||
| kjohnson3 | macOS 13.7.7 Ventura / arm64 | OK | OK | WARNINGS | OK | |||||||||
| taishan | Linux (openEuler 24.03 LTS) / aarch64 | OK | OK | NA | ||||||||||
|
To the developers/maintainers of the plotgardener package: - Allow up to 24 hours (and sometimes 48 hours) for your latest push to git@git.bioconductor.org:packages/plotgardener.git to reflect on this report. See Troubleshooting Build Report for more information. - Use the following Renviron settings to reproduce errors and warnings. - If 'R CMD check' started to fail recently on the Linux builder(s) over a missing dependency, add the missing dependency to 'Suggests:' in your DESCRIPTION file. See Renviron.bioc for more information. |
| Package: plotgardener |
| Version: 1.15.1 |
| Command: /home/biocbuild/bbs-3.22-bioc/R/bin/R CMD check --install=check:plotgardener.install-out.txt --library=/home/biocbuild/bbs-3.22-bioc/R/site-library --timings plotgardener_1.15.1.tar.gz |
| StartedAt: 2025-10-23 03:16:56 -0400 (Thu, 23 Oct 2025) |
| EndedAt: 2025-10-23 03:25:49 -0400 (Thu, 23 Oct 2025) |
| EllapsedTime: 533.4 seconds |
| RetCode: 0 |
| Status: OK |
| CheckDir: plotgardener.Rcheck |
| Warnings: 0 |
##############################################################################
##############################################################################
###
### Running command:
###
### /home/biocbuild/bbs-3.22-bioc/R/bin/R CMD check --install=check:plotgardener.install-out.txt --library=/home/biocbuild/bbs-3.22-bioc/R/site-library --timings plotgardener_1.15.1.tar.gz
###
##############################################################################
##############################################################################
* using log directory ‘/home/biocbuild/bbs-3.22-bioc/meat/plotgardener.Rcheck’
* using R version 4.5.1 Patched (2025-08-23 r88802)
* using platform: x86_64-pc-linux-gnu
* R was compiled by
gcc (Ubuntu 13.3.0-6ubuntu2~24.04) 13.3.0
GNU Fortran (Ubuntu 13.3.0-6ubuntu2~24.04) 13.3.0
* running under: Ubuntu 24.04.3 LTS
* using session charset: UTF-8
* checking for file ‘plotgardener/DESCRIPTION’ ... OK
* this is package ‘plotgardener’ version ‘1.15.1’
* package encoding: UTF-8
* checking package namespace information ... OK
* checking package dependencies ... OK
* checking if this is a source package ... OK
* checking if there is a namespace ... OK
* checking for hidden files and directories ... OK
* checking for portable file names ... OK
* checking for sufficient/correct file permissions ... OK
* checking whether package ‘plotgardener’ can be installed ... OK
* used C++ compiler: ‘g++ (Ubuntu 13.3.0-6ubuntu2~24.04) 13.3.0’
* checking installed package size ... OK
* checking package directory ... OK
* checking ‘build’ directory ... OK
* checking DESCRIPTION meta-information ... OK
* checking top-level files ... OK
* checking for left-over files ... OK
* checking index information ... OK
* checking package subdirectories ... OK
* checking code files for non-ASCII characters ... OK
* checking R files for syntax errors ... OK
* checking whether the package can be loaded ... OK
* checking whether the package can be loaded with stated dependencies ... OK
* checking whether the package can be unloaded cleanly ... OK
* checking whether the namespace can be loaded with stated dependencies ... OK
* checking whether the namespace can be unloaded cleanly ... OK
* checking loading without being on the library search path ... OK
* checking whether startup messages can be suppressed ... OK
* checking dependencies in R code ... OK
* checking S3 generic/method consistency ... OK
* checking replacement functions ... OK
* checking foreign function calls ... OK
* checking R code for possible problems ... NOTE
.checkCool: no visible binding for global variable ‘name’
pgParams: no visible binding for global variable ‘width’
pgParams: no visible binding for global variable ‘strand’
Undefined global functions or variables:
name strand width
* checking Rd files ... NOTE
checkRd: (-1) annoDomains.Rd:28-29: Lost braces in \itemize; meant \describe ?
checkRd: (-1) annoDomains.Rd:30-31: Lost braces in \itemize; meant \describe ?
checkRd: (-1) annoDomains.Rd:32-33: Lost braces in \itemize; meant \describe ?
checkRd: (-1) annoDomains.Rd:34-35: Lost braces in \itemize; meant \describe ?
checkRd: (-1) annoGenomeLabel.Rd:47: Lost braces in \itemize; meant \describe ?
checkRd: (-1) annoGenomeLabel.Rd:48-49: Lost braces in \itemize; meant \describe ?
checkRd: (-1) annoGenomeLabel.Rd:50-51: Lost braces in \itemize; meant \describe ?
checkRd: (-1) annoGenomeLabel.Rd:69: Lost braces in \itemize; meant \describe ?
checkRd: (-1) annoGenomeLabel.Rd:70-72: Lost braces in \itemize; meant \describe ?
checkRd: (-1) annoHeatmapLegend.Rd:33: Lost braces in \itemize; meant \describe ?
checkRd: (-1) annoHeatmapLegend.Rd:34: Lost braces in \itemize; meant \describe ?
checkRd: (-1) annoPixels.Rd:30: Lost braces in \itemize; meant \describe ?
checkRd: (-1) annoPixels.Rd:31: Lost braces in \itemize; meant \describe ?
checkRd: (-1) annoPixels.Rd:32: Lost braces in \itemize; meant \describe ?
checkRd: (-1) annoPixels.Rd:39-40: Lost braces in \itemize; meant \describe ?
checkRd: (-1) annoPixels.Rd:41-42: Lost braces in \itemize; meant \describe ?
checkRd: (-1) annoPixels.Rd:43-44: Lost braces in \itemize; meant \describe ?
checkRd: (-1) annoPixels.Rd:45-46: Lost braces in \itemize; meant \describe ?
checkRd: (-1) annoSegments.Rd:64: Lost braces in \itemize; meant \describe ?
checkRd: (-1) annoSegments.Rd:65: Lost braces in \itemize; meant \describe ?
checkRd: (-1) annoSegments.Rd:66: Lost braces in \itemize; meant \describe ?
checkRd: (-1) annoXaxis.Rd:31: Lost braces in \itemize; meant \describe ?
checkRd: (-1) annoXaxis.Rd:32: Lost braces in \itemize; meant \describe ?
checkRd: (-1) annoYaxis.Rd:31: Lost braces in \itemize; meant \describe ?
checkRd: (-1) annoYaxis.Rd:32: Lost braces in \itemize; meant \describe ?
checkRd: (-1) plotGenomeLabel.Rd:58: Lost braces in \itemize; meant \describe ?
checkRd: (-1) plotGenomeLabel.Rd:59-60: Lost braces in \itemize; meant \describe ?
checkRd: (-1) plotGenomeLabel.Rd:61-62: Lost braces in \itemize; meant \describe ?
checkRd: (-1) plotGenomeLabel.Rd:80: Lost braces in \itemize; meant \describe ?
checkRd: (-1) plotGenomeLabel.Rd:81-83: Lost braces in \itemize; meant \describe ?
checkRd: (-1) plotHicRectangle.Rd:55: Lost braces in \itemize; meant \describe ?
checkRd: (-1) plotHicRectangle.Rd:56: Lost braces in \itemize; meant \describe ?
checkRd: (-1) plotHicRectangle.Rd:57: Lost braces in \itemize; meant \describe ?
checkRd: (-1) plotHicSquare.Rd:58: Lost braces in \itemize; meant \describe ?
checkRd: (-1) plotHicSquare.Rd:59: Lost braces in \itemize; meant \describe ?
checkRd: (-1) plotHicSquare.Rd:60: Lost braces in \itemize; meant \describe ?
checkRd: (-1) plotHicSquare.Rd:97: Lost braces in \itemize; meant \describe ?
checkRd: (-1) plotHicSquare.Rd:98: Lost braces in \itemize; meant \describe ?
checkRd: (-1) plotHicSquare.Rd:99: Lost braces in \itemize; meant \describe ?
checkRd: (-1) plotHicTriangle.Rd:54: Lost braces in \itemize; meant \describe ?
checkRd: (-1) plotHicTriangle.Rd:55: Lost braces in \itemize; meant \describe ?
checkRd: (-1) plotHicTriangle.Rd:56: Lost braces in \itemize; meant \describe ?
checkRd: (-1) plotIdeogram.Rd:40: Lost braces in \itemize; meant \describe ?
checkRd: (-1) plotIdeogram.Rd:41: Lost braces in \itemize; meant \describe ?
checkRd: (-1) plotLegend.Rd:42: Lost braces in \itemize; meant \describe ?
checkRd: (-1) plotLegend.Rd:43: Lost braces in \itemize; meant \describe ?
checkRd: (-1) plotManhattan.Rd:45: Lost braces in \itemize; meant \describe ?
checkRd: (-1) plotManhattan.Rd:46-47: Lost braces in \itemize; meant \describe ?
checkRd: (-1) plotManhattan.Rd:48-49: Lost braces in \itemize; meant \describe ?
checkRd: (-1) plotManhattan.Rd:50-51: Lost braces in \itemize; meant \describe ?
checkRd: (-1) plotMultiSignal.Rd:103-104: Lost braces in \itemize; meant \describe ?
checkRd: (-1) plotMultiSignal.Rd:105-106: Lost braces in \itemize; meant \describe ?
checkRd: (-1) plotPairs.Rd:58: Lost braces in \itemize; meant \describe ?
checkRd: (-1) plotPairs.Rd:59: Lost braces in \itemize; meant \describe ?
checkRd: (-1) plotPairsArches.Rd:56: Lost braces in \itemize; meant \describe ?
checkRd: (-1) plotPairsArches.Rd:57: Lost braces in \itemize; meant \describe ?
checkRd: (-1) plotPairsArches.Rd:79: Lost braces in \itemize; meant \describe ?
checkRd: (-1) plotPairsArches.Rd:80: Lost braces in \itemize; meant \describe ?
checkRd: (-1) plotRanges.Rd:62: Lost braces in \itemize; meant \describe ?
checkRd: (-1) plotRanges.Rd:63: Lost braces in \itemize; meant \describe ?
checkRd: (-1) plotRanges.Rd:70: Lost braces in \itemize; meant \describe ?
checkRd: (-1) plotRanges.Rd:71: Lost braces in \itemize; meant \describe ?
checkRd: (-1) plotSegments.Rd:68: Lost braces in \itemize; meant \describe ?
checkRd: (-1) plotSegments.Rd:69: Lost braces in \itemize; meant \describe ?
checkRd: (-1) plotSegments.Rd:70: Lost braces in \itemize; meant \describe ?
checkRd: (-1) plotSignal.Rd:104: Lost braces in \itemize; meant \describe ?
checkRd: (-1) plotSignal.Rd:105: Lost braces in \itemize; meant \describe ?
checkRd: (-1) plotTranscripts.Rd:92: Lost braces in \itemize; meant \describe ?
checkRd: (-1) plotTranscripts.Rd:93: Lost braces in \itemize; meant \describe ?
checkRd: (-1) plotTranscripts.Rd:94: Lost braces in \itemize; meant \describe ?
checkRd: (-1) plotTranscripts.Rd:95-96: Lost braces in \itemize; meant \describe ?
checkRd: (-1) readBigwig.Rd:29: Lost braces in \itemize; meant \describe ?
checkRd: (-1) readBigwig.Rd:30: Lost braces in \itemize; meant \describe ?
checkRd: (-1) readBigwig.Rd:31: Lost braces in \itemize; meant \describe ?
checkRd: (-1) readHic.Rd:54: Lost braces in \itemize; meant \describe ?
checkRd: (-1) readHic.Rd:55: Lost braces in \itemize; meant \describe ?
checkRd: (-1) readHic.Rd:68: Lost braces in \itemize; meant \describe ?
checkRd: (-1) readHic.Rd:69: Lost braces in \itemize; meant \describe ?
checkRd: (-1) readHic.Rd:70: Lost braces in \itemize; meant \describe ?
* checking Rd metadata ... OK
* checking Rd cross-references ... OK
* checking for missing documentation entries ... OK
* checking for code/documentation mismatches ... OK
* checking Rd \usage sections ... OK
* checking Rd contents ... OK
* checking for unstated dependencies in examples ... OK
* checking R/sysdata.rda ... OK
* checking line endings in C/C++/Fortran sources/headers ... OK
* checking compiled code ... NOTE
Note: information on .o files is not available
* checking files in ‘vignettes’ ... OK
* checking examples ... OK
Examples with CPU (user + system) or elapsed time > 5s
user system elapsed
plotGenes 25.920 2.517 28.440
plotRaster 17.814 1.282 19.098
readCool 0.946 0.338 44.349
* checking for unstated dependencies in ‘tests’ ... OK
* checking tests ...
Running ‘testthat.R’
OK
* checking for unstated dependencies in vignettes ... OK
* checking package vignettes ... OK
* checking re-building of vignette outputs ... OK
* checking PDF version of manual ... OK
* DONE
Status: 3 NOTEs
See
‘/home/biocbuild/bbs-3.22-bioc/meat/plotgardener.Rcheck/00check.log’
for details.
plotgardener.Rcheck/00install.out
############################################################################## ############################################################################## ### ### Running command: ### ### /home/biocbuild/bbs-3.22-bioc/R/bin/R CMD INSTALL plotgardener ### ############################################################################## ############################################################################## * installing to library ‘/home/biocbuild/bbs-3.22-bioc/R/site-library’ * installing *source* package ‘plotgardener’ ... ** this is package ‘plotgardener’ version ‘1.15.1’ ** using staged installation ** libs using C++ compiler: ‘g++ (Ubuntu 13.3.0-6ubuntu2~24.04) 13.3.0’ g++ -std=gnu++17 -I"/home/biocbuild/bbs-3.22-bioc/R/include" -DNDEBUG -I'/home/biocbuild/bbs-3.22-bioc/R/site-library/Rcpp/include' -I/usr/local/include -fpic -g -O2 -Wall -Werror=format-security -c RcppExports.cpp -o RcppExports.o g++ -std=gnu++17 -I"/home/biocbuild/bbs-3.22-bioc/R/include" -DNDEBUG -I'/home/biocbuild/bbs-3.22-bioc/R/site-library/Rcpp/include' -I/usr/local/include -fpic -g -O2 -Wall -Werror=format-security -c checkRow.cpp -o checkRow.o g++ -std=gnu++17 -I"/home/biocbuild/bbs-3.22-bioc/R/include" -DNDEBUG -I'/home/biocbuild/bbs-3.22-bioc/R/site-library/Rcpp/include' -I/usr/local/include -fpic -g -O2 -Wall -Werror=format-security -c rebinBigwig.cpp -o rebinBigwig.o g++ -std=gnu++17 -shared -L/home/biocbuild/bbs-3.22-bioc/R/lib -L/usr/local/lib -o plotgardener.so RcppExports.o checkRow.o rebinBigwig.o -L/home/biocbuild/bbs-3.22-bioc/R/lib -lR installing to /home/biocbuild/bbs-3.22-bioc/R/site-library/00LOCK-plotgardener/00new/plotgardener/libs ** R ** inst ** byte-compile and prepare package for lazy loading ** help *** installing help indices *** copying figures ** building package indices ** installing vignettes ** testing if installed package can be loaded from temporary location ** checking absolute paths in shared objects and dynamic libraries ** testing if installed package can be loaded from final location ** testing if installed package keeps a record of temporary installation path * DONE (plotgardener)
plotgardener.Rcheck/tests/testthat.Rout
R version 4.5.1 Patched (2025-08-23 r88802) -- "Great Square Root"
Copyright (C) 2025 The R Foundation for Statistical Computing
Platform: x86_64-pc-linux-gnu
R is free software and comes with ABSOLUTELY NO WARRANTY.
You are welcome to redistribute it under certain conditions.
Type 'license()' or 'licence()' for distribution details.
R is a collaborative project with many contributors.
Type 'contributors()' for more information and
'citation()' on how to cite R or R packages in publications.
Type 'demo()' for some demos, 'help()' for on-line help, or
'help.start()' for an HTML browser interface to help.
Type 'q()' to quit R.
> library(testthat)
> library(plotgardener)
Attaching package: 'plotgardener'
The following object is masked from 'package:base':
c
>
> test_check("plotgardener")
Loading required package: GenomicFeatures
Loading required package: BiocGenerics
Loading required package: generics
Attaching package: 'generics'
The following objects are masked from 'package:base':
as.difftime, as.factor, as.ordered, intersect, is.element, setdiff,
setequal, union
Attaching package: 'BiocGenerics'
The following objects are masked from 'package:stats':
IQR, mad, sd, var, xtabs
The following objects are masked from 'package:base':
Filter, Find, Map, Position, Reduce, anyDuplicated, aperm, append,
as.data.frame, basename, cbind, colnames, dirname, do.call,
duplicated, eval, evalq, get, grep, grepl, is.unsorted, lapply,
mapply, match, mget, order, paste, pmax, pmax.int, pmin, pmin.int,
rank, rbind, rownames, sapply, saveRDS, table, tapply, unique,
unsplit, which.max, which.min
Loading required package: S4Vectors
Loading required package: stats4
Attaching package: 'S4Vectors'
The following object is masked from 'package:utils':
findMatches
The following objects are masked from 'package:base':
I, expand.grid, unname
Loading required package: IRanges
Loading required package: Seqinfo
Loading required package: GenomicRanges
Loading required package: AnnotationDbi
Loading required package: Biobase
Welcome to Bioconductor
Vignettes contain introductory material; view with
'browseVignettes()'. To cite Bioconductor, see
'citation("Biobase")', and for packages 'citation("pkgname")'.
Using poppler version 24.02.0
Loading required package: BiocFileCache
Loading required package: dbplyr
Attaching package: 'AnnotationHub'
The following object is masked from 'package:Biobase':
cache
pairs[pairs1]
arches[arches1]
ranges[ranges1]
transcripts[transcripts1]
start, endLoading required package: SummarizedExperiment
Loading required package: MatrixGenerics
Loading required package: matrixStats
Attaching package: 'matrixStats'
The following objects are masked from 'package:Biobase':
anyMissing, rowMedians
Attaching package: 'MatrixGenerics'
The following objects are masked from 'package:matrixStats':
colAlls, colAnyNAs, colAnys, colAvgsPerRowSet, colCollapse,
colCounts, colCummaxs, colCummins, colCumprods, colCumsums,
colDiffs, colIQRDiffs, colIQRs, colLogSumExps, colMadDiffs,
colMads, colMaxs, colMeans2, colMedians, colMins, colOrderStats,
colProds, colQuantiles, colRanges, colRanks, colSdDiffs, colSds,
colSums2, colTabulates, colVarDiffs, colVars, colWeightedMads,
colWeightedMeans, colWeightedMedians, colWeightedSds,
colWeightedVars, rowAlls, rowAnyNAs, rowAnys, rowAvgsPerColSet,
rowCollapse, rowCounts, rowCummaxs, rowCummins, rowCumprods,
rowCumsums, rowDiffs, rowIQRDiffs, rowIQRs, rowLogSumExps,
rowMadDiffs, rowMads, rowMaxs, rowMeans2, rowMedians, rowMins,
rowOrderStats, rowProds, rowQuantiles, rowRanges, rowRanks,
rowSdDiffs, rowSds, rowSums2, rowTabulates, rowVarDiffs, rowVars,
rowWeightedMads, rowWeightedMeans, rowWeightedMedians,
rowWeightedSds, rowWeightedVars
The following object is masked from 'package:Biobase':
rowMedians
Read in hic file with KR normalization at 1e+05 BP resolution.
trying URL 'https://usgs2.osn.mghpcc.org/cooler01/examples/hg19/Rao2014-IMR90-MboI-allreps-filtered.1000kb.cool'
Content type 'binary/octet-stream' length 4103444 bytes (3.9 MB)
==================================================
downloaded 3.9 MB
trying URL 'https://zenodo.org/records/10906240/files/LEUK_HEK_PJA27_inter_30.mcool?download=1'
Content type 'application/octet-stream' length 55194561 bytes (52.6 MB)
==================================================
downloaded 52.6 MB
signal[signal1_h]
signal[signal1_h]
transcripts[transcripts1]
[ FAIL 0 | WARN 0 | SKIP 1 | PASS 133 ]
══ Skipped tests (1) ═══════════════════════════════════════════════════════════
• empty test (1): 'test-transcriptFilter.R:4:1'
[ FAIL 0 | WARN 0 | SKIP 1 | PASS 133 ]
>
> proc.time()
user system elapsed
60.705 4.314 121.235
plotgardener.Rcheck/plotgardener-Ex.timings
| name | user | system | elapsed | |
| annoDomains | 0.659 | 0.040 | 0.701 | |
| annoGenomeLabel | 2.356 | 0.092 | 2.447 | |
| annoHeatmapLegend | 1.279 | 0.050 | 1.328 | |
| annoHighlight | 0.672 | 0.070 | 0.743 | |
| annoPixels | 0.861 | 0.007 | 0.868 | |
| annoSegments | 1.651 | 0.021 | 1.672 | |
| annoText | 0.819 | 0.027 | 0.846 | |
| annoXaxis | 2.811 | 0.094 | 2.905 | |
| annoYaxis | 0.554 | 0.029 | 0.584 | |
| annoZoomLines | 2.331 | 0.053 | 2.384 | |
| assembly | 0.000 | 0.001 | 0.000 | |
| c | 0.000 | 0.001 | 0.000 | |
| calcSignalRange | 0.277 | 0.005 | 0.282 | |
| colorby | 0.545 | 0.003 | 0.548 | |
| defaultPackages | 0.009 | 0.000 | 0.009 | |
| genomes | 0 | 0 | 0 | |
| mapColors | 1.099 | 0.033 | 1.132 | |
| pageCreate | 0.038 | 0.001 | 0.040 | |
| pageGuideHide | 0.031 | 0.000 | 0.032 | |
| pageGuideHorizontal | 0.027 | 0.001 | 0.029 | |
| pageGuideShow | 0.728 | 0.016 | 0.744 | |
| pageGuideVertical | 0.088 | 0.001 | 0.089 | |
| pageLayoutCol | 0.001 | 0.000 | 0.000 | |
| pageLayoutRow | 0.000 | 0.001 | 0.000 | |
| pagePlotPlace | 0.523 | 0.004 | 0.526 | |
| pagePlotRemove | 0.442 | 0.008 | 0.450 | |
| pgParams | 1.913 | 0.031 | 1.944 | |
| plotCircle | 0.026 | 0.001 | 0.027 | |
| plotGG | 0.271 | 0.002 | 0.273 | |
| plotGenes | 25.920 | 2.517 | 28.440 | |
| plotGenomeLabel | 1.870 | 0.061 | 1.932 | |
| plotHicRectangle | 0.493 | 0.015 | 0.508 | |
| plotHicSquare | 0.641 | 0.031 | 0.671 | |
| plotHicTriangle | 1.192 | 0.066 | 1.259 | |
| plotIdeogram | 3.906 | 0.311 | 4.532 | |
| plotLegend | 0.287 | 0.021 | 0.308 | |
| plotManhattan | 1.752 | 0.027 | 1.779 | |
| plotMultiSignal | 1.618 | 0.068 | 1.686 | |
| plotPairs | 0.129 | 0.002 | 0.131 | |
| plotPairsArches | 0.132 | 0.007 | 0.138 | |
| plotPolygon | 0.045 | 0.004 | 0.049 | |
| plotRanges | 0.155 | 0.013 | 0.167 | |
| plotRaster | 17.814 | 1.282 | 19.098 | |
| plotRect | 0.494 | 0.007 | 0.501 | |
| plotSegments | 0.058 | 0.000 | 0.057 | |
| plotSignal | 0.680 | 0.037 | 0.716 | |
| plotText | 0.047 | 0.003 | 0.051 | |
| plotTranscripts | 1.096 | 0.069 | 1.165 | |
| readBigwig | 0.262 | 0.012 | 0.274 | |
| readCool | 0.946 | 0.338 | 44.349 | |
| readHic | 0.008 | 0.000 | 0.009 | |