| Back to Multiple platform build/check report for BioC 3.22: simplified long |
|
This page was generated on 2025-10-21 12:07 -0400 (Tue, 21 Oct 2025).
| Hostname | OS | Arch (*) | R version | Installed pkgs |
|---|---|---|---|---|
| nebbiolo2 | Linux (Ubuntu 24.04.3 LTS) | x86_64 | 4.5.1 Patched (2025-08-23 r88802) -- "Great Square Root" | 4887 |
| lconway | macOS 12.7.6 Monterey | x86_64 | 4.5.1 Patched (2025-09-10 r88807) -- "Great Square Root" | 4677 |
| kjohnson3 | macOS 13.7.7 Ventura | arm64 | 4.5.1 Patched (2025-09-10 r88807) -- "Great Square Root" | 4622 |
| taishan | Linux (openEuler 24.03 LTS) | aarch64 | 4.5.0 (2025-04-11) -- "How About a Twenty-Six" | 4642 |
| Click on any hostname to see more info about the system (e.g. compilers) (*) as reported by 'uname -p', except on Windows and Mac OS X | ||||
| Package 1921/2353 | Hostname | OS / Arch | INSTALL | BUILD | CHECK | BUILD BIN | ||||||||
| scHOT 1.21.0 (landing page) Shila Ghazanfar
| nebbiolo2 | Linux (Ubuntu 24.04.3 LTS) / x86_64 | OK | OK | OK | |||||||||
| lconway | macOS 12.7.6 Monterey / x86_64 | OK | OK | OK | OK | |||||||||
| kjohnson3 | macOS 13.7.7 Ventura / arm64 | OK | OK | OK | OK | |||||||||
| taishan | Linux (openEuler 24.03 LTS) / aarch64 | OK | OK | OK | ||||||||||
|
To the developers/maintainers of the scHOT package: - Allow up to 24 hours (and sometimes 48 hours) for your latest push to git@git.bioconductor.org:packages/scHOT.git to reflect on this report. See Troubleshooting Build Report for more information. - Use the following Renviron settings to reproduce errors and warnings. - If 'R CMD check' started to fail recently on the Linux builder(s) over a missing dependency, add the missing dependency to 'Suggests:' in your DESCRIPTION file. See Renviron.bioc for more information. - See Martin Grigorov's blog post for how to debug Linux ARM64 related issues on a x86_64 host. |
| Package: scHOT |
| Version: 1.21.0 |
| Command: /home/biocbuild/R/R/bin/R CMD check --install=check:scHOT.install-out.txt --library=/home/biocbuild/R/R/site-library --no-vignettes --timings scHOT_1.21.0.tar.gz |
| StartedAt: 2025-10-17 13:20:23 -0000 (Fri, 17 Oct 2025) |
| EndedAt: 2025-10-17 13:26:23 -0000 (Fri, 17 Oct 2025) |
| EllapsedTime: 359.5 seconds |
| RetCode: 0 |
| Status: OK |
| CheckDir: scHOT.Rcheck |
| Warnings: 0 |
##############################################################################
##############################################################################
###
### Running command:
###
### /home/biocbuild/R/R/bin/R CMD check --install=check:scHOT.install-out.txt --library=/home/biocbuild/R/R/site-library --no-vignettes --timings scHOT_1.21.0.tar.gz
###
##############################################################################
##############################################################################
* using log directory ‘/home/biocbuild/bbs-3.22-bioc/meat/scHOT.Rcheck’
* using R version 4.5.0 (2025-04-11)
* using platform: aarch64-unknown-linux-gnu
* R was compiled by
aarch64-unknown-linux-gnu-gcc (GCC) 14.2.0
GNU Fortran (GCC) 14.2.0
* running under: openEuler 24.03 (LTS)
* using session charset: UTF-8
* using option ‘--no-vignettes’
* checking for file ‘scHOT/DESCRIPTION’ ... OK
* checking extension type ... Package
* this is package ‘scHOT’ version ‘1.21.0’
* package encoding: UTF-8
* checking package namespace information ... OK
* checking package dependencies ... OK
* checking if this is a source package ... OK
* checking if there is a namespace ... OK
* checking for hidden files and directories ... OK
* checking for portable file names ... OK
* checking for sufficient/correct file permissions ... OK
* checking whether package ‘scHOT’ can be installed ... OK
* checking installed package size ... OK
* checking package directory ... OK
* checking ‘build’ directory ... OK
* checking DESCRIPTION meta-information ... OK
* checking top-level files ... OK
* checking for left-over files ... OK
* checking index information ... OK
* checking package subdirectories ... OK
* checking code files for non-ASCII characters ... OK
* checking R files for syntax errors ... OK
* checking whether the package can be loaded ... OK
* checking whether the package can be loaded with stated dependencies ... OK
* checking whether the package can be unloaded cleanly ... OK
* checking whether the namespace can be loaded with stated dependencies ... OK
* checking whether the namespace can be unloaded cleanly ... OK
* checking loading without being on the library search path ... OK
* checking dependencies in R code ... OK
* checking S3 generic/method consistency ... OK
* checking replacement functions ... OK
* checking foreign function calls ... OK
* checking R code for possible problems ... OK
* checking Rd files ... OK
* checking Rd metadata ... OK
* checking Rd cross-references ... OK
* checking for missing documentation entries ... OK
* checking for code/documentation mismatches ... OK
* checking Rd \usage sections ... OK
* checking Rd contents ... OK
* checking for unstated dependencies in examples ... OK
* checking contents of ‘data’ directory ... OK
* checking data for non-ASCII characters ... OK
* checking LazyData ... OK
* checking data for ASCII and uncompressed saves ... OK
* checking files in ‘vignettes’ ... OK
* checking examples ... OK
Examples with CPU (user + system) or elapsed time > 5s
user system elapsed
scHOT 34.777 0.328 35.294
scHOT_performPermutationTest 34.047 0.139 35.248
scHOT_estimatePvalues 33.854 0.259 34.908
* checking for unstated dependencies in vignettes ... OK
* checking package vignettes ... OK
* checking running R code from vignettes ... SKIPPED
* checking re-building of vignette outputs ... SKIPPED
* checking PDF version of manual ... OK
* DONE
Status: OK
scHOT.Rcheck/00install.out
############################################################################## ############################################################################## ### ### Running command: ### ### /home/biocbuild/R/R/bin/R CMD INSTALL scHOT ### ############################################################################## ############################################################################## * installing to library ‘/home/biocbuild/R/R-4.5.0/site-library’ * installing *source* package ‘scHOT’ ... ** this is package ‘scHOT’ version ‘1.21.0’ ** using staged installation ** R ** data *** moving datasets to lazyload DB ** byte-compile and prepare package for lazy loading ** help *** installing help indices ** building package indices ** installing vignettes ** testing if installed package can be loaded from temporary location ** testing if installed package can be loaded from final location ** testing if installed package keeps a record of temporary installation path * DONE (scHOT)
scHOT.Rcheck/scHOT-Ex.timings
| name | user | system | elapsed | |
| params-set | 0.298 | 0.028 | 0.325 | |
| plotColouredExpression | 2.245 | 0.091 | 2.342 | |
| plotHigherOrderSequence | 2.423 | 0.139 | 2.570 | |
| positionColData-set | 0.132 | 0.000 | 0.133 | |
| positionType-set | 0.125 | 0.004 | 0.130 | |
| scHOT | 34.777 | 0.328 | 35.294 | |
| scHOT_addTestingScaffold | 0.149 | 0.000 | 0.149 | |
| scHOT_buildFromMatrix | 0.106 | 0.004 | 0.109 | |
| scHOT_buildFromSCE | 0.406 | 0.004 | 0.410 | |
| scHOT_calculateGlobalHigherOrderFunction | 0.200 | 0.008 | 0.208 | |
| scHOT_calculateHigherOrderTestStatistics | 0.602 | 0.028 | 0.639 | |
| scHOT_estimatePvalues | 33.854 | 0.259 | 34.908 | |
| scHOT_output-set | 0.120 | 0.000 | 0.121 | |
| scHOT_performPermutationTest | 34.047 | 0.139 | 35.248 | |
| scHOT_setPermutationScaffold | 0.220 | 0.012 | 0.233 | |
| scHOT_setWeightMatrix | 0.211 | 0.008 | 0.220 | |
| scHOT_stripOutput | 0.137 | 0.000 | 0.137 | |
| spatialWeightMatrix | 0.005 | 0.000 | 0.004 | |
| testingScaffold-set | 0.138 | 0.004 | 0.143 | |
| thin | 0.009 | 0.004 | 0.012 | |
| trajectoryWeightMatrix | 0.004 | 0.000 | 0.004 | |
| weightMatrix-set | 0.346 | 0.012 | 0.359 | |
| weightedPearson | 0 | 0 | 0 | |
| weightedSpearman | 0 | 0 | 0 | |
| weightedVariance | 0 | 0 | 0 | |
| weightedZIKendall | 0.001 | 0.000 | 0.001 | |
| weightedZISpearman | 0 | 0 | 0 | |