Back to Multiple platform build/check report for BioC 3.23:   simplified   long
ABCDEFGHIJKLMNOPQR[S]TUVWXYZ

This page was generated on 2025-11-25 11:39 -0500 (Tue, 25 Nov 2025).

HostnameOSArch (*)R versionInstalled pkgs
nebbiolo1Linux (Ubuntu 24.04.3 LTS)x86_64R Under development (unstable) (2025-10-20 r88955) -- "Unsuffered Consequences" 4830
lconwaymacOS 12.7.6 Montereyx86_64R Under development (unstable) (2025-10-21 r88958) -- "Unsuffered Consequences" 4606
kjohnson3macOS 13.7.7 Venturaarm64R Under development (unstable) (2025-11-04 r88984) -- "Unsuffered Consequences" 4569
Click on any hostname to see more info about the system (e.g. compilers)      (*) as reported by 'uname -p', except on Windows and Mac OS X

Package 1963/2328HostnameOS / ArchINSTALLBUILDCHECKBUILD BIN
sesame 1.29.0  (landing page)
Wanding Zhou
Snapshot Date: 2025-11-24 13:40 -0500 (Mon, 24 Nov 2025)
git_url: https://git.bioconductor.org/packages/sesame
git_branch: devel
git_last_commit: 92283cb
git_last_commit_date: 2025-10-29 10:46:05 -0500 (Wed, 29 Oct 2025)
nebbiolo1Linux (Ubuntu 24.04.3 LTS) / x86_64  OK    OK    OK  UNNEEDED, same version is already published
lconwaymacOS 12.7.6 Monterey / x86_64  OK    OK    OK    OK  NO, package depends on 'GenomicRanges' which is only available as a source package that needs compilation
kjohnson3macOS 13.7.7 Ventura / arm64  OK    OK    OK    OK  NO, package depends on 'GenomicRanges' which is only available as a source package that needs compilation


CHECK results for sesame on lconway

To the developers/maintainers of the sesame package:
- Allow up to 24 hours (and sometimes 48 hours) for your latest push to git@git.bioconductor.org:packages/sesame.git to reflect on this report. See Troubleshooting Build Report for more information.
- Use the following Renviron settings to reproduce errors and warnings.
- If 'R CMD check' started to fail recently on the Linux builder(s) over a missing dependency, add the missing dependency to 'Suggests:' in your DESCRIPTION file. See Renviron.bioc for more information.

raw results


Summary

Package: sesame
Version: 1.29.0
Command: /Library/Frameworks/R.framework/Resources/bin/R CMD check --install=check:sesame.install-out.txt --library=/Library/Frameworks/R.framework/Resources/library --no-vignettes --timings sesame_1.29.0.tar.gz
StartedAt: 2025-11-25 00:06:17 -0500 (Tue, 25 Nov 2025)
EndedAt: 2025-11-25 00:19:27 -0500 (Tue, 25 Nov 2025)
EllapsedTime: 790.2 seconds
RetCode: 0
Status:   OK  
CheckDir: sesame.Rcheck
Warnings: 0

Command output

##############################################################################
##############################################################################
###
### Running command:
###
###   /Library/Frameworks/R.framework/Resources/bin/R CMD check --install=check:sesame.install-out.txt --library=/Library/Frameworks/R.framework/Resources/library --no-vignettes --timings sesame_1.29.0.tar.gz
###
##############################################################################
##############################################################################


* using log directory ‘/Users/biocbuild/bbs-3.23-bioc/meat/sesame.Rcheck’
* using R Under development (unstable) (2025-10-21 r88958)
* using platform: x86_64-apple-darwin20
* R was compiled by
    Apple clang version 14.0.0 (clang-1400.0.29.202)
    GNU Fortran (GCC) 14.2.0
* running under: macOS Ventura 13.7.8
* using session charset: UTF-8
* using option ‘--no-vignettes’
* checking for file ‘sesame/DESCRIPTION’ ... OK
* checking extension type ... Package
* this is package ‘sesame’ version ‘1.29.0’
* package encoding: UTF-8
* checking package namespace information ... OK
* checking package dependencies ... OK
* checking if this is a source package ... OK
* checking if there is a namespace ... OK
* checking for hidden files and directories ... OK
* checking for portable file names ... OK
* checking for sufficient/correct file permissions ... OK
* checking whether package ‘sesame’ can be installed ... OK
* checking installed package size ... OK
* checking package directory ... OK
* checking ‘build’ directory ... OK
* checking DESCRIPTION meta-information ... OK
* checking top-level files ... OK
* checking for left-over files ... OK
* checking index information ... OK
* checking package subdirectories ... OK
* checking code files for non-ASCII characters ... OK
* checking R files for syntax errors ... OK
* checking whether the package can be loaded ... OK
* checking whether the package can be loaded with stated dependencies ... OK
* checking whether the package can be unloaded cleanly ... OK
* checking whether the namespace can be loaded with stated dependencies ... OK
* checking whether the namespace can be unloaded cleanly ... OK
* checking whether startup messages can be suppressed ... OK
* checking dependencies in R code ... OK
* checking S3 generic/method consistency ... OK
* checking replacement functions ... OK
* checking foreign function calls ... OK
* checking R code for possible problems ... OK
* checking Rd files ... OK
* checking Rd metadata ... OK
* checking Rd cross-references ... OK
* checking for missing documentation entries ... OK
* checking for code/documentation mismatches ... OK
* checking Rd \usage sections ... OK
* checking Rd contents ... OK
* checking for unstated dependencies in examples ... OK
* checking files in ‘vignettes’ ... OK
* checking examples ... OK
Examples with CPU (user + system) or elapsed time > 5s
                                user system elapsed
imputeBetasByGenomicNeighbors 36.441  1.580  38.649
inferSex                      24.600  1.324  26.369
sesameQC_calcStats            20.904  2.051  23.170
imputeBetas                   18.954  1.536  20.959
sesameQC_plotHeatSNPs         18.729  1.024  19.923
ELBAR                         15.338  2.910  18.679
inferSpecies                  15.869  0.770  17.027
diffRefSet                    14.707  0.669  15.846
getRefSet                     14.120  0.555  14.809
sesameQC_plotBar              13.210  0.403  13.889
compareMouseStrainReference   12.991  0.495  13.852
compareReference              11.592  0.539  12.516
matchDesign                   11.171  0.672  12.028
visualizeGene                  9.639  0.748  10.623
inferStrain                    9.692  0.610  10.385
sesameQC_plotBetaByDesign      9.100  1.145  10.312
sdf_read_table                 8.435  1.174  10.055
DMR                            9.039  0.329   9.564
inferTissue                    7.247  1.697   9.041
estimateLeukocyte              7.137  0.572   8.012
getMask                        6.887  0.626  16.189
DML                            6.987  0.343   7.952
dyeBiasCorrMostBalanced        6.738  0.332   7.280
openSesame                     5.667  1.243   7.378
deIdentify                     6.269  0.410   7.052
dyeBiasNL                      6.138  0.515   6.724
createUCSCtrack                5.897  0.427   6.619
probeSuccessRate               5.309  0.556   5.928
bisConversionControl           4.605  0.307   5.049
* checking for unstated dependencies in ‘tests’ ... OK
* checking tests ...
  Running ‘testthat.R’
 OK
* checking for unstated dependencies in vignettes ... OK
* checking package vignettes ... OK
* checking running R code from vignettes ... SKIPPED
* checking re-building of vignette outputs ... SKIPPED
* checking PDF version of manual ... OK
* DONE

Status: OK


Installation output

sesame.Rcheck/00install.out

##############################################################################
##############################################################################
###
### Running command:
###
###   /Library/Frameworks/R.framework/Resources/bin/R CMD INSTALL sesame
###
##############################################################################
##############################################################################


* installing to library ‘/Library/Frameworks/R.framework/Versions/4.6-x86_64/Resources/library’
* installing *source* package ‘sesame’ ...
** this is package ‘sesame’ version ‘1.29.0’
** using staged installation
** R
** inst
** byte-compile and prepare package for lazy loading
** help
*** installing help indices
** building package indices
** installing vignettes
** testing if installed package can be loaded from temporary location
** testing if installed package can be loaded from final location
** testing if installed package keeps a record of temporary installation path
* DONE (sesame)

Tests output

sesame.Rcheck/tests/testthat.Rout


R Under development (unstable) (2025-10-21 r88958) -- "Unsuffered Consequences"
Copyright (C) 2025 The R Foundation for Statistical Computing
Platform: x86_64-apple-darwin20

R is free software and comes with ABSOLUTELY NO WARRANTY.
You are welcome to redistribute it under certain conditions.
Type 'license()' or 'licence()' for distribution details.

R is a collaborative project with many contributors.
Type 'contributors()' for more information and
'citation()' on how to cite R or R packages in publications.

Type 'demo()' for some demos, 'help()' for on-line help, or
'help.start()' for an HTML browser interface to help.
Type 'q()' to quit R.

> library(testthat)
> library(sesame)
Loading required package: sesameData
Loading required package: ExperimentHub
Loading required package: BiocGenerics
Loading required package: generics

Attaching package: 'generics'

The following objects are masked from 'package:base':

    as.difftime, as.factor, as.ordered, intersect, is.element, setdiff,
    setequal, union


Attaching package: 'BiocGenerics'

The following objects are masked from 'package:stats':

    IQR, mad, sd, var, xtabs

The following objects are masked from 'package:base':

    Filter, Find, Map, Position, Reduce, anyDuplicated, aperm, append,
    as.data.frame, basename, cbind, colnames, dirname, do.call,
    duplicated, eval, evalq, get, grep, grepl, is.unsorted, lapply,
    mapply, match, mget, order, paste, pmax, pmax.int, pmin, pmin.int,
    rank, rbind, rownames, sapply, saveRDS, table, tapply, unique,
    unsplit, which.max, which.min

Loading required package: AnnotationHub
Loading required package: BiocFileCache
Loading required package: dbplyr
Loading sesameData.

----------------------------------------------------------
| SEnsible Step-wise Analysis of DNA MEthylation (SeSAMe)
| --------------------------------------------------------
| Please cache auxiliary data by "sesameDataCache()".
| This needs to be done only once per SeSAMe installation.
----------------------------------------------------------

> 
> test_check("sesame")
[ FAIL 0 | WARN 0 | SKIP 0 | PASS 5 ]
> 
> proc.time()
   user  system elapsed 
 20.663   1.147  22.230 

Example timings

sesame.Rcheck/sesame-Ex.timings

nameusersystemelapsed
BetaValueToMValue0.0000.0000.001
DML6.9870.3437.952
DMLpredict1.2020.1231.336
DMR9.0390.3299.564
ELBAR15.338 2.91018.679
MValueToBetaValue0.0010.0000.001
SigDF0.2990.0740.378
addMask0.0760.0000.077
betasCollapseToPfx0.0090.0000.010
bisConversionControl4.6050.3075.049
calcEffectSize1.1900.1641.389
checkLevels3.6370.2524.107
cnSegmentation0.2730.0640.344
compareMouseStrainReference12.991 0.49513.852
compareMouseTissueReference000
compareReference11.592 0.53912.516
controls2.1190.2652.432
createUCSCtrack5.8970.4276.619
deIdentify6.2690.4107.052
detectionPnegEcdf1.0930.0181.126
diffRefSet14.707 0.66915.846
dmContrasts1.8410.2182.103
dyeBiasCorr2.8180.2583.115
dyeBiasCorrMostBalanced6.7380.3327.280
dyeBiasL2.5180.1742.713
dyeBiasNL6.1380.5156.724
estimateLeukocyte7.1370.5728.012
formatVCF2.3660.3092.800
getAFTypeIbySumAlleles1.9360.2422.361
getAFs1.0910.1221.221
getBetas1.0560.1241.191
getMask 6.887 0.62616.189
getRefSet14.120 0.55514.809
imputeBetas18.954 1.53620.959
imputeBetasByGenomicNeighbors36.441 1.58038.649
imputeBetasMatrixByMean0.0010.0010.001
inferEthnicity0.0010.0010.001
inferInfiniumIChannel0.4050.4780.897
inferSex24.600 1.32426.369
inferSpecies15.869 0.77017.027
inferStrain 9.692 0.61010.385
inferTissue7.2471.6979.041
initFileSet1.1970.2641.479
listAvailableMasks1.2840.1891.499
mLiftOver0.0000.0010.002
mapFileSet0.0320.0020.052
mapToMammal403.1250.4803.904
matchDesign11.171 0.67212.028
meanIntensity2.7800.5703.406
medianTotalIntensity0.8990.0640.973
noMasked3.7680.2404.051
noob2.0250.0592.101
openSesame5.6671.2437.378
openSesameToFile1.3770.0221.412
pOOBAH1.3390.0121.363
palgen0.0440.0070.103
parseGEOsignalMU3.0040.4663.660
predictAge2.2120.1582.391
predictAgeHorvath3530.0010.0000.000
predictAgeSkinBlood0.0010.0000.000
predictMouseAgeInMonth0.0010.0000.000
prefixMask0.7140.0050.724
prefixMaskButC0.2140.0020.216
prefixMaskButCG0.0740.0010.076
prepSesame3.6660.1533.852
prepSesameList0.0020.0010.003
print.DMLSummary3.2530.9694.268
print.fileSet1.1500.2381.409
probeID_designType0.0000.0000.001
probeSuccessRate5.3090.5565.928
qualityMask2.0490.4622.549
reIdentify4.4440.2164.797
readFileSet0.0560.0030.088
readIDATpair0.1350.0020.139
recommendedMaskNames0.0000.0000.001
resetMask0.3970.0500.456
scrub2.1890.0292.235
scrubSoft3.2090.6653.912
sdfPlatform0.2880.0500.343
sdf_read_table 8.435 1.17410.055
sdf_write_table2.2980.1622.604
searchIDATprefixes0.0040.0030.049
sesame-package1.8120.1992.029
sesameAnno_attachManifest000
sesameAnno_buildAddressFile0.0010.0000.000
sesameAnno_buildManifestGRanges0.0000.0000.001
sesameAnno_download0.0000.0010.001
sesameAnno_readManifestTSV0.0000.0010.001
sesameQC_calcStats20.904 2.05123.170
sesameQC_getStats2.1600.4102.592
sesameQC_plotBar13.210 0.40313.889
sesameQC_plotBetaByDesign 9.100 1.14510.312
sesameQC_plotHeatSNPs18.729 1.02419.923
sesameQC_plotIntensVsBetas2.7520.7033.519
sesameQC_plotRedGrnQQ1.1800.1551.446
sesameQC_rankStats3.5580.5704.290
sesameQCtoDF2.1120.0162.140
sesame_checkVersion0.0050.0010.006
sesamize000
setMask0.1340.0020.137
signalMU0.8470.0720.929
sliceFileSet0.0310.0020.064
summaryExtractTest3.0040.9333.999
totalIntensities2.4890.4502.993
updateSigDF3.2080.4723.868
visualizeGene 9.639 0.74810.623
visualizeProbes1.3260.0261.364
visualizeRegion0.3690.0080.380
visualizeSegments1.6540.4782.174