Back to Multiple platform build/check report for BioC 3.22: simplified long |
|
This page was generated on 2025-10-08 12:51 -0400 (Wed, 08 Oct 2025).
Hostname | OS | Arch (*) | R version | Installed pkgs |
---|---|---|---|---|
nebbiolo2 | Linux (Ubuntu 24.04.3 LTS) | x86_64 | 4.5.1 Patched (2025-08-23 r88802) -- "Great Square Root" | 4854 |
lconway | macOS 12.7.1 Monterey | x86_64 | 4.5.1 Patched (2025-09-10 r88807) -- "Great Square Root" | 4641 |
kjohnson3 | macOS 13.7.7 Ventura | arm64 | 4.5.1 Patched (2025-09-10 r88807) -- "Great Square Root" | 4586 |
taishan | Linux (openEuler 24.03 LTS) | aarch64 | 4.5.0 (2025-04-11) -- "How About a Twenty-Six" | 4584 |
Click on any hostname to see more info about the system (e.g. compilers) (*) as reported by 'uname -p', except on Windows and Mac OS X |
Package 2059/2341 | Hostname | OS / Arch | INSTALL | BUILD | CHECK | BUILD BIN | ||||||||
spatialDE 1.15.1 (landing page) Gabriele Sales
| nebbiolo2 | Linux (Ubuntu 24.04.3 LTS) / x86_64 | OK | OK | OK | ![]() | ||||||||
lconway | macOS 12.7.1 Monterey / x86_64 | OK | OK | OK | OK | ![]() | ||||||||
kjohnson3 | macOS 13.7.7 Ventura / arm64 | OK | OK | OK | OK | ![]() | ||||||||
taishan | Linux (openEuler 24.03 LTS) / aarch64 | OK | OK | OK | ||||||||||
To the developers/maintainers of the spatialDE package: - Allow up to 24 hours (and sometimes 48 hours) for your latest push to git@git.bioconductor.org:packages/spatialDE.git to reflect on this report. See Troubleshooting Build Report for more information. - Use the following Renviron settings to reproduce errors and warnings. - If 'R CMD check' started to fail recently on the Linux builder(s) over a missing dependency, add the missing dependency to 'Suggests:' in your DESCRIPTION file. See Renviron.bioc for more information. |
Package: spatialDE |
Version: 1.15.1 |
Command: /home/biocbuild/bbs-3.22-bioc/R/bin/R CMD check --install=check:spatialDE.install-out.txt --library=/home/biocbuild/bbs-3.22-bioc/R/site-library --timings spatialDE_1.15.1.tar.gz |
StartedAt: 2025-10-08 04:43:01 -0400 (Wed, 08 Oct 2025) |
EndedAt: 2025-10-08 04:48:38 -0400 (Wed, 08 Oct 2025) |
EllapsedTime: 336.3 seconds |
RetCode: 0 |
Status: OK |
CheckDir: spatialDE.Rcheck |
Warnings: 0 |
############################################################################## ############################################################################## ### ### Running command: ### ### /home/biocbuild/bbs-3.22-bioc/R/bin/R CMD check --install=check:spatialDE.install-out.txt --library=/home/biocbuild/bbs-3.22-bioc/R/site-library --timings spatialDE_1.15.1.tar.gz ### ############################################################################## ############################################################################## * using log directory ‘/home/biocbuild/bbs-3.22-bioc/meat/spatialDE.Rcheck’ * using R version 4.5.1 Patched (2025-08-23 r88802) * using platform: x86_64-pc-linux-gnu * R was compiled by gcc (Ubuntu 13.3.0-6ubuntu2~24.04) 13.3.0 GNU Fortran (Ubuntu 13.3.0-6ubuntu2~24.04) 13.3.0 * running under: Ubuntu 24.04.3 LTS * using session charset: UTF-8 * checking for file ‘spatialDE/DESCRIPTION’ ... OK * this is package ‘spatialDE’ version ‘1.15.1’ * package encoding: UTF-8 * checking package namespace information ... OK * checking package dependencies ... OK * checking if this is a source package ... OK * checking if there is a namespace ... OK * checking for hidden files and directories ... OK * checking for portable file names ... OK * checking for sufficient/correct file permissions ... OK * checking whether package ‘spatialDE’ can be installed ... NOTE Found the following notes/warnings: Non-staged installation was used See ‘/home/biocbuild/bbs-3.22-bioc/meat/spatialDE.Rcheck/00install.out’ for details. * checking installed package size ... OK * checking package directory ... OK * checking ‘build’ directory ... OK * checking DESCRIPTION meta-information ... OK * checking top-level files ... OK * checking for left-over files ... OK * checking index information ... OK * checking package subdirectories ... OK * checking code files for non-ASCII characters ... OK * checking R files for syntax errors ... OK * checking whether the package can be loaded ... OK * checking whether the package can be loaded with stated dependencies ... OK * checking whether the package can be unloaded cleanly ... OK * checking whether the namespace can be loaded with stated dependencies ... OK * checking whether the namespace can be unloaded cleanly ... OK * checking loading without being on the library search path ... OK * checking dependencies in R code ... OK * checking S3 generic/method consistency ... OK * checking replacement functions ... OK * checking foreign function calls ... OK * checking R code for possible problems ... OK * checking Rd files ... OK * checking Rd metadata ... OK * checking Rd cross-references ... NOTE Found the following Rd file(s) with Rd \link{} targets missing package anchors: mockSVG.Rd: SpatialExperiment-class modelSearch.Rd: SpatialExperiment-class multiGenePlots.Rd: SpatialExperiment-class spatialDE.Rd: SpatialExperiment-class spatialPatterns.Rd: SpatialExperiment-class Please provide package anchors for all Rd \link{} targets not in the package itself and the base packages. * checking for missing documentation entries ... OK * checking for code/documentation mismatches ... OK * checking Rd \usage sections ... OK * checking Rd contents ... OK * checking for unstated dependencies in examples ... OK * checking contents of ‘data’ directory ... OK * checking data for non-ASCII characters ... OK * checking data for ASCII and uncompressed saves ... OK * checking line endings in shell scripts ... OK * checking files in ‘vignettes’ ... OK * checking examples ... OK Examples with CPU (user + system) or elapsed time > 5s user system elapsed spatial_patterns 19.17 15.107 8.573 FSV_sig 3.63 3.920 3.414 * checking for unstated dependencies in ‘tests’ ... OK * checking tests ... Running ‘testthat.R’ OK * checking for unstated dependencies in vignettes ... OK * checking package vignettes ... OK * checking re-building of vignette outputs ... OK * checking PDF version of manual ... OK * DONE Status: 2 NOTEs See ‘/home/biocbuild/bbs-3.22-bioc/meat/spatialDE.Rcheck/00check.log’ for details.
spatialDE.Rcheck/00install.out
############################################################################## ############################################################################## ### ### Running command: ### ### /home/biocbuild/bbs-3.22-bioc/R/bin/R CMD INSTALL spatialDE ### ############################################################################## ############################################################################## * installing to library ‘/home/biocbuild/bbs-3.22-bioc/R/site-library’ * installing *source* package ‘spatialDE’ ... ** this is package ‘spatialDE’ version ‘1.15.1’ ** using non-staged installation via StagedInstall field ** R ** data ** inst ** byte-compile and prepare package for lazy loading ** help *** installing help indices ** building package indices ** installing vignettes ** testing if installed package can be loaded * DONE (spatialDE)
spatialDE.Rcheck/tests/testthat.Rout
R version 4.5.1 Patched (2025-08-23 r88802) -- "Great Square Root" Copyright (C) 2025 The R Foundation for Statistical Computing Platform: x86_64-pc-linux-gnu R is free software and comes with ABSOLUTELY NO WARRANTY. You are welcome to redistribute it under certain conditions. Type 'license()' or 'licence()' for distribution details. R is a collaborative project with many contributors. Type 'contributors()' for more information and 'citation()' on how to cite R or R packages in publications. Type 'demo()' for some demos, 'help()' for on-line help, or 'help.start()' for an HTML browser interface to help. Type 'q()' to quit R. > library(testthat) > library(spatialDE) > > test_check("spatialDE") Loading required package: SingleCellExperiment Loading required package: SummarizedExperiment Loading required package: MatrixGenerics Loading required package: matrixStats Attaching package: 'MatrixGenerics' The following objects are masked from 'package:matrixStats': colAlls, colAnyNAs, colAnys, colAvgsPerRowSet, colCollapse, colCounts, colCummaxs, colCummins, colCumprods, colCumsums, colDiffs, colIQRDiffs, colIQRs, colLogSumExps, colMadDiffs, colMads, colMaxs, colMeans2, colMedians, colMins, colOrderStats, colProds, colQuantiles, colRanges, colRanks, colSdDiffs, colSds, colSums2, colTabulates, colVarDiffs, colVars, colWeightedMads, colWeightedMeans, colWeightedMedians, colWeightedSds, colWeightedVars, rowAlls, rowAnyNAs, rowAnys, rowAvgsPerColSet, rowCollapse, rowCounts, rowCummaxs, rowCummins, rowCumprods, rowCumsums, rowDiffs, rowIQRDiffs, rowIQRs, rowLogSumExps, rowMadDiffs, rowMads, rowMaxs, rowMeans2, rowMedians, rowMins, rowOrderStats, rowProds, rowQuantiles, rowRanges, rowRanks, rowSdDiffs, rowSds, rowSums2, rowTabulates, rowVarDiffs, rowVars, rowWeightedMads, rowWeightedMeans, rowWeightedMedians, rowWeightedSds, rowWeightedVars Loading required package: GenomicRanges Loading required package: stats4 Loading required package: BiocGenerics Loading required package: generics Attaching package: 'generics' The following objects are masked from 'package:base': as.difftime, as.factor, as.ordered, intersect, is.element, setdiff, setequal, union Attaching package: 'BiocGenerics' The following objects are masked from 'package:stats': IQR, mad, sd, var, xtabs The following objects are masked from 'package:base': Filter, Find, Map, Position, Reduce, anyDuplicated, aperm, append, as.data.frame, basename, cbind, colnames, dirname, do.call, duplicated, eval, evalq, get, grep, grepl, is.unsorted, lapply, mapply, match, mget, order, paste, pmax, pmax.int, pmin, pmin.int, rank, rbind, rownames, sapply, saveRDS, table, tapply, unique, unsplit, which.max, which.min Loading required package: S4Vectors Attaching package: 'S4Vectors' The following object is masked from 'package:utils': findMatches The following objects are masked from 'package:base': I, expand.grid, unname Loading required package: IRanges Loading required package: Seqinfo Loading required package: Biobase Welcome to Bioconductor Vignettes contain introductory material; view with 'browseVignettes()'. To cite Bioconductor, see 'citation("Biobase")', and for packages 'citation("pkgname")'. Attaching package: 'Biobase' The following object is masked from 'package:MatrixGenerics': rowMedians The following objects are masked from 'package:matrixStats': anyMissing, rowMedians Models: 0%| | 0/10 [00:00<?, ?it/s] 0%| | 0/100 [00:00<?, ?it/s][A 52%|█████▏ | 52/100 [00:00<00:00, 512.24it/s][A [A Models: 10%|█ | 1/10 [00:00<00:01, 5.06it/s] 0%| | 0/100 [00:00<?, ?it/s][A 36%|███▌ | 36/100 [00:00<00:00, 348.46it/s][A 73%|███████▎ | 73/100 [00:00<00:00, 355.95it/s][A [A Models: 20%|██ | 2/10 [00:00<00:01, 4.03it/s] 0%| | 0/100 [00:00<?, ?it/s][A 35%|███▌ | 35/100 [00:00<00:00, 344.54it/s][A 70%|███████ | 70/100 [00:00<00:00, 342.44it/s][A [A Models: 30%|███ | 3/10 [00:00<00:01, 3.67it/s] 0%| | 0/100 [00:00<?, ?it/s][A 29%|██▉ | 29/100 [00:00<00:00, 289.14it/s][A 61%|██████ | 61/100 [00:00<00:00, 304.55it/s][A 93%|█████████▎| 93/100 [00:00<00:00, 310.99it/s][A [A Models: 40%|████ | 4/10 [00:01<00:01, 3.40it/s] 0%| | 0/100 [00:00<?, ?it/s][A 32%|███▏ | 32/100 [00:00<00:00, 312.96it/s][A 65%|██████▌ | 65/100 [00:00<00:00, 320.35it/s][A 98%|█████████▊| 98/100 [00:00<00:00, 316.39it/s][A [A Models: 50%|█████ | 5/10 [00:01<00:01, 3.30it/s] 0%| | 0/100 [00:00<?, ?it/s][A 33%|███▎ | 33/100 [00:00<00:00, 329.93it/s][A 66%|██████▌ | 66/100 [00:00<00:00, 320.70it/s][A 99%|█████████▉| 99/100 [00:00<00:00, 322.15it/s][A [A Models: 60%|██████ | 6/10 [00:01<00:01, 3.27it/s] 0%| | 0/100 [00:00<?, ?it/s][A 34%|███▍ | 34/100 [00:00<00:00, 335.60it/s][A 68%|██████▊ | 68/100 [00:00<00:00, 329.35it/s][A [A Models: 70%|███████ | 7/10 [00:02<00:00, 3.27it/s] 0%| | 0/100 [00:00<?, ?it/s][A 34%|███▍ | 34/100 [00:00<00:00, 330.51it/s][A 68%|██████▊ | 68/100 [00:00<00:00, 329.11it/s][A [A Models: 80%|████████ | 8/10 [00:02<00:00, 3.26it/s] 0%| | 0/100 [00:00<?, ?it/s][A 33%|███▎ | 33/100 [00:00<00:00, 327.91it/s][A 66%|██████▌ | 66/100 [00:00<00:00, 265.57it/s][A 100%|██████████| 100/100 [00:00<00:00, 294.92it/s][A [A Models: 90%|█████████ | 9/10 [00:02<00:00, 3.14it/s] 0%| | 0/100 [00:00<?, ?it/s][A 36%|███▌ | 36/100 [00:00<00:00, 351.54it/s][A 74%|███████▍ | 74/100 [00:00<00:00, 362.39it/s][A [A Models: 100%|██████████| 10/10 [00:02<00:00, 3.27it/s] Models: 100%|██████████| 10/10 [00:02<00:00, 3.36it/s] Models: 0%| | 0/10 [00:00<?, ?it/s] 0%| | 0/100 [00:00<?, ?it/s][A 50%|█████ | 50/100 [00:00<00:00, 497.39it/s][A 100%|██████████| 100/100 [00:00<00:00, 493.20it/s][A [A Models: 10%|█ | 1/10 [00:00<00:01, 4.88it/s] 0%| | 0/100 [00:00<?, ?it/s][A 35%|███▌ | 35/100 [00:00<00:00, 348.72it/s][A 70%|███████ | 70/100 [00:00<00:00, 309.65it/s][A [A Models: 20%|██ | 2/10 [00:00<00:02, 3.75it/s] 0%| | 0/100 [00:00<?, ?it/s][A 37%|███▋ | 37/100 [00:00<00:00, 366.33it/s][A 74%|███████▍ | 74/100 [00:00<00:00, 342.32it/s][A [A Models: 30%|███ | 3/10 [00:00<00:01, 3.57it/s] 0%| | 0/100 [00:00<?, ?it/s][A 35%|███▌ | 35/100 [00:00<00:00, 349.63it/s][A 70%|███████ | 70/100 [00:00<00:00, 326.66it/s][A [A Models: 40%|████ | 4/10 [00:01<00:01, 3.43it/s] 0%| | 0/100 [00:00<?, ?it/s][A 35%|███▌ | 35/100 [00:00<00:00, 343.84it/s][A 70%|███████ | 70/100 [00:00<00:00, 322.97it/s][A [A Models: 50%|█████ | 5/10 [00:01<00:01, 3.35it/s] 0%| | 0/100 [00:00<?, ?it/s][A 36%|███▌ | 36/100 [00:00<00:00, 356.90it/s][A 72%|███████▏ | 72/100 [00:00<00:00, 332.15it/s][A [A Models: 60%|██████ | 6/10 [00:01<00:01, 3.32it/s] 0%| | 0/100 [00:00<?, ?it/s][A 35%|███▌ | 35/100 [00:00<00:00, 344.93it/s][A 70%|███████ | 70/100 [00:00<00:00, 325.54it/s][A [A Models: 70%|███████ | 7/10 [00:02<00:00, 3.29it/s] 0%| | 0/100 [00:00<?, ?it/s][A 35%|███▌ | 35/100 [00:00<00:00, 343.46it/s][A 70%|███████ | 70/100 [00:00<00:00, 326.66it/s][A [A Models: 80%|████████ | 8/10 [00:02<00:00, 3.27it/s] 0%| | 0/100 [00:00<?, ?it/s][A 33%|███▎ | 33/100 [00:00<00:00, 328.10it/s][A 66%|██████▌ | 66/100 [00:00<00:00, 323.48it/s][A 100%|██████████| 100/100 [00:00<00:00, 328.59it/s][A [A Models: 90%|█████████ | 9/10 [00:02<00:00, 3.26it/s] 0%| | 0/100 [00:00<?, ?it/s][A 37%|███▋ | 37/100 [00:00<00:00, 368.20it/s][A 74%|███████▍ | 74/100 [00:00<00:00, 356.38it/s][A [A Models: 100%|██████████| 10/10 [00:02<00:00, 3.35it/s] Models: 100%|██████████| 10/10 [00:02<00:00, 3.40it/s] /var/cache/basilisk/1.21.5/spatialDE/1.15.1/env/lib/python3.11/site-packages/pandas/core/internals/blocks.py:351: RuntimeWarning: invalid value encountered in log result = func(self.values, **kwargs) Models: 0%| | 0/10 [00:00<?, ?it/s] 0%| | 0/100 [00:00<?, ?it/s][A 47%|████▋ | 47/100 [00:00<00:00, 467.45it/s][A 100%|██████████| 100/100 [00:00<00:00, 502.87it/s][A [A Models: 10%|█ | 1/10 [00:00<00:01, 4.92it/s] 0%| | 0/100 [00:00<?, ?it/s][A 40%|████ | 40/100 [00:00<00:00, 396.74it/s][A 80%|████████ | 80/100 [00:00<00:00, 359.84it/s][A [A Models: 20%|██ | 2/10 [00:00<00:01, 4.07it/s] 0%| | 0/100 [00:00<?, ?it/s][A 37%|███▋ | 37/100 [00:00<00:00, 365.39it/s][A 74%|███████▍ | 74/100 [00:00<00:00, 348.20it/s][A [A Models: 30%|███ | 3/10 [00:00<00:01, 3.76it/s] 0%| | 0/100 [00:00<?, ?it/s][A 35%|███▌ | 35/100 [00:00<00:00, 349.09it/s][A 70%|███████ | 70/100 [00:00<00:00, 333.13it/s][A [A Models: 40%|████ | 4/10 [00:01<00:01, 3.56it/s] 0%| | 0/100 [00:00<?, ?it/s][A 35%|███▌ | 35/100 [00:00<00:00, 339.14it/s][A 69%|██████▉ | 69/100 [00:00<00:00, 326.35it/s][A [A Models: 50%|█████ | 5/10 [00:01<00:01, 3.45it/s] 0%| | 0/100 [00:00<?, ?it/s][A 35%|███▌ | 35/100 [00:00<00:00, 340.97it/s][A 70%|███████ | 70/100 [00:00<00:00, 328.09it/s][A [A Models: 60%|██████ | 6/10 [00:01<00:01, 3.39it/s] 0%| | 0/100 [00:00<?, ?it/s][A 37%|███▋ | 37/100 [00:00<00:00, 358.51it/s][A 73%|███████▎ | 73/100 [00:00<00:00, 348.67it/s][A [A Models: 70%|███████ | 7/10 [00:01<00:00, 3.42it/s] 0%| | 0/100 [00:00<?, ?it/s][A 37%|███▋ | 37/100 [00:00<00:00, 361.85it/s][A 74%|███████▍ | 74/100 [00:00<00:00, 351.68it/s][A [A Models: 80%|████████ | 8/10 [00:02<00:00, 3.44it/s] 0%| | 0/100 [00:00<?, ?it/s][A 38%|███▊ | 38/100 [00:00<00:00, 375.87it/s][A 76%|███████▌ | 76/100 [00:00<00:00, 358.09it/s][A [A Models: 90%|█████████ | 9/10 [00:02<00:00, 3.47it/s] 0%| | 0/100 [00:00<?, ?it/s][A 38%|███▊ | 38/100 [00:00<00:00, 378.62it/s][A 76%|███████▌ | 76/100 [00:00<00:00, 366.41it/s][A [A Models: 100%|██████████| 10/10 [00:02<00:00, 3.53it/s] Models: 100%|██████████| 10/10 [00:02<00:00, 3.55it/s] Models: 0%| | 0/10 [00:00<?, ?it/s] 0%| | 0/100 [00:00<?, ?it/s][A 49%|████▉ | 49/100 [00:00<00:00, 478.31it/s][A [A Models: 10%|█ | 1/10 [00:00<00:01, 4.96it/s] 0%| | 0/100 [00:00<?, ?it/s][A 41%|████ | 41/100 [00:00<00:00, 407.25it/s][A 82%|████████▏ | 82/100 [00:00<00:00, 384.13it/s][A [A Models: 20%|██ | 2/10 [00:00<00:01, 4.21it/s] 0%| | 0/100 [00:00<?, ?it/s][A 35%|███▌ | 35/100 [00:00<00:00, 345.17it/s][A 70%|███████ | 70/100 [00:00<00:00, 342.49it/s][A [A Models: 30%|███ | 3/10 [00:00<00:01, 3.80it/s] 0%| | 0/100 [00:00<?, ?it/s][A 35%|███▌ | 35/100 [00:00<00:00, 348.23it/s][A 70%|███████ | 70/100 [00:00<00:00, 335.27it/s][A [A Models: 40%|████ | 4/10 [00:01<00:01, 3.59it/s] 0%| | 0/100 [00:00<?, ?it/s][A 34%|███▍ | 34/100 [00:00<00:00, 339.29it/s][A 68%|██████▊ | 68/100 [00:00<00:00, 325.61it/s][A [A Models: 50%|█████ | 5/10 [00:01<00:01, 3.47it/s] 0%| | 0/100 [00:00<?, ?it/s][A 35%|███▌ | 35/100 [00:00<00:00, 337.86it/s][A 69%|██████▉ | 69/100 [00:00<00:00, 327.98it/s][A [A Models: 60%|██████ | 6/10 [00:01<00:01, 3.40it/s] 0%| | 0/100 [00:00<?, ?it/s][A 35%|███▌ | 35/100 [00:00<00:00, 349.67it/s][A 70%|███████ | 70/100 [00:00<00:00, 339.96it/s][A [A Models: 70%|███████ | 7/10 [00:01<00:00, 3.39it/s] 0%| | 0/100 [00:00<?, ?it/s][A 37%|███▋ | 37/100 [00:00<00:00, 363.11it/s][A 74%|███████▍ | 74/100 [00:00<00:00, 343.01it/s][A [A Models: 80%|████████ | 8/10 [00:02<00:00, 3.39it/s] 0%| | 0/100 [00:00<?, ?it/s][A 38%|███▊ | 38/100 [00:00<00:00, 373.64it/s][A 76%|███████▌ | 76/100 [00:00<00:00, 352.45it/s][A [A Models: 90%|█████████ | 9/10 [00:02<00:00, 3.42it/s] 0%| | 0/100 [00:00<?, ?it/s][A 37%|███▋ | 37/100 [00:00<00:00, 367.57it/s][A 75%|███████▌ | 75/100 [00:00<00:00, 371.55it/s][A [A Models: 100%|██████████| 10/10 [00:02<00:00, 3.49it/s] Models: 100%|██████████| 10/10 [00:02<00:00, 3.54it/s] Models: 0%| | 0/10 [00:00<?, ?it/s] 0%| | 0/100 [00:00<?, ?it/s][A 48%|████▊ | 48/100 [00:00<00:00, 477.26it/s][A 99%|█████████▉| 99/100 [00:00<00:00, 496.37it/s][A [A Models: 10%|█ | 1/10 [00:00<00:01, 4.88it/s] 0%| | 0/100 [00:00<?, ?it/s][A 38%|███▊ | 38/100 [00:00<00:00, 377.95it/s][A 76%|███████▌ | 76/100 [00:00<00:00, 365.81it/s][A [A Models: 20%|██ | 2/10 [00:00<00:01, 4.03it/s] 0%| | 0/100 [00:00<?, ?it/s][A 36%|███▌ | 36/100 [00:00<00:00, 348.92it/s][A 71%|███████ | 71/100 [00:00<00:00, 335.47it/s][A [A Models: 30%|███ | 3/10 [00:00<00:01, 3.62it/s] 0%| | 0/100 [00:00<?, ?it/s][A 35%|███▌ | 35/100 [00:00<00:00, 338.10it/s][A 69%|██████▉ | 69/100 [00:00<00:00, 323.51it/s][A [A Models: 40%|████ | 4/10 [00:01<00:01, 3.44it/s] 0%| | 0/100 [00:00<?, ?it/s][A 34%|███▍ | 34/100 [00:00<00:00, 335.81it/s][A 68%|██████▊ | 68/100 [00:00<00:00, 319.56it/s][A [A Models: 50%|█████ | 5/10 [00:01<00:01, 3.34it/s] 0%| | 0/100 [00:00<?, ?it/s][A 35%|███▌ | 35/100 [00:00<00:00, 339.91it/s][A 69%|██████▉ | 69/100 [00:00<00:00, 323.31it/s][A [A Models: 60%|██████ | 6/10 [00:01<00:01, 3.30it/s] 0%| | 0/100 [00:00<?, ?it/s][A 35%|███▌ | 35/100 [00:00<00:00, 348.84it/s][A 70%|███████ | 70/100 [00:00<00:00, 332.60it/s][A [A Models: 70%|███████ | 7/10 [00:02<00:00, 3.29it/s] 0%| | 0/100 [00:00<?, ?it/s][A 35%|███▌ | 35/100 [00:00<00:00, 342.96it/s][A 70%|███████ | 70/100 [00:00<00:00, 327.71it/s][A [A Models: 80%|████████ | 8/10 [00:02<00:00, 3.29it/s] 0%| | 0/100 [00:00<?, ?it/s][A 36%|███▌ | 36/100 [00:00<00:00, 358.32it/s][A 72%|███████▏ | 72/100 [00:00<00:00, 339.50it/s][A [A Models: 90%|█████████ | 9/10 [00:02<00:00, 3.31it/s] 0%| | 0/100 [00:00<?, ?it/s][A 38%|███▊ | 38/100 [00:00<00:00, 376.05it/s][A 76%|███████▌ | 76/100 [00:00<00:00, 371.44it/s][A [A Models: 100%|██████████| 10/10 [00:02<00:00, 3.41it/s] Models: 100%|██████████| 10/10 [00:02<00:00, 3.44it/s] [ FAIL 0 | WARN 0 | SKIP 0 | PASS 29 ] > > proc.time() user system elapsed 46.415 20.612 43.624
spatialDE.Rcheck/spatialDE-Ex.timings
name | user | system | elapsed | |
FSV_sig | 3.630 | 3.920 | 3.414 | |
mockSVG | 0.141 | 0.009 | 0.151 | |
modelSearch | 1.767 | 1.944 | 1.102 | |
model_search | 2.439 | 2.150 | 1.790 | |
multiGenePlots | 1.939 | 1.446 | 1.689 | |
regress_out | 0.088 | 0.000 | 0.089 | |
run | 0.827 | 0.791 | 0.534 | |
spatialDE | 0.916 | 1.013 | 0.552 | |
spatialPatterns | 1.759 | 1.956 | 0.974 | |
spatial_patterns | 19.170 | 15.107 | 8.573 | |
stabilize | 0.060 | 0.133 | 0.048 | |