Back to Build/check report for BioC 3.23:   simplified   long
ABCDEFGHIJKLMNOPQR[S]TUVWXYZ

This page was generated on 2025-11-05 11:32 -0500 (Wed, 05 Nov 2025).

HostnameOSArch (*)R versionInstalled pkgs
nebbiolo1Linux (Ubuntu 24.04.3 LTS)x86_64R Under development (unstable) (2025-10-20 r88955) -- "Unsuffered Consequences" 4818
Click on any hostname to see more info about the system (e.g. compilers)      (*) as reported by 'uname -p', except on Windows and Mac OS X

Package 2112/2323HostnameOS / ArchINSTALLBUILDCHECKBUILD BIN
structToolbox 1.23.0  (landing page)
Gavin Rhys Lloyd
Snapshot Date: 2025-11-04 13:40 -0500 (Tue, 04 Nov 2025)
git_url: https://git.bioconductor.org/packages/structToolbox
git_branch: devel
git_last_commit: e5436a2
git_last_commit_date: 2025-10-29 10:56:35 -0500 (Wed, 29 Oct 2025)
nebbiolo1Linux (Ubuntu 24.04.3 LTS) / x86_64  OK    OK    OK  NO, package depends on 'struct' which is not available


CHECK results for structToolbox on nebbiolo1

To the developers/maintainers of the structToolbox package:
- Allow up to 24 hours (and sometimes 48 hours) for your latest push to git@git.bioconductor.org:packages/structToolbox.git to reflect on this report. See Troubleshooting Build Report for more information.
- Use the following Renviron settings to reproduce errors and warnings.
- If 'R CMD check' started to fail recently on the Linux builder(s) over a missing dependency, add the missing dependency to 'Suggests:' in your DESCRIPTION file. See Renviron.bioc for more information.

raw results


Summary

Package: structToolbox
Version: 1.23.0
Command: /home/biocbuild/bbs-3.23-bioc/R/bin/R CMD check --install=check:structToolbox.install-out.txt --library=/home/biocbuild/bbs-3.23-bioc/R/site-library --timings structToolbox_1.23.0.tar.gz
StartedAt: 2025-11-05 04:21:16 -0500 (Wed, 05 Nov 2025)
EndedAt: 2025-11-05 04:40:03 -0500 (Wed, 05 Nov 2025)
EllapsedTime: 1126.5 seconds
RetCode: 0
Status:   OK  
CheckDir: structToolbox.Rcheck
Warnings: 0

Command output

##############################################################################
##############################################################################
###
### Running command:
###
###   /home/biocbuild/bbs-3.23-bioc/R/bin/R CMD check --install=check:structToolbox.install-out.txt --library=/home/biocbuild/bbs-3.23-bioc/R/site-library --timings structToolbox_1.23.0.tar.gz
###
##############################################################################
##############################################################################


* using log directory ‘/home/biocbuild/bbs-3.23-bioc/meat/structToolbox.Rcheck’
* using R Under development (unstable) (2025-10-20 r88955)
* using platform: x86_64-pc-linux-gnu
* R was compiled by
    gcc (Ubuntu 13.3.0-6ubuntu2~24.04) 13.3.0
    GNU Fortran (Ubuntu 13.3.0-6ubuntu2~24.04) 13.3.0
* running under: Ubuntu 24.04.3 LTS
* using session charset: UTF-8
* checking for file ‘structToolbox/DESCRIPTION’ ... OK
* checking extension type ... Package
* this is package ‘structToolbox’ version ‘1.23.0’
* package encoding: UTF-8
* checking package namespace information ... OK
* checking package dependencies ... OK
* checking if this is a source package ... OK
* checking if there is a namespace ... OK
* checking for hidden files and directories ... OK
* checking for portable file names ... OK
* checking for sufficient/correct file permissions ... OK
* checking whether package ‘structToolbox’ can be installed ... OK
* checking installed package size ... OK
* checking package directory ... OK
* checking ‘build’ directory ... OK
* checking DESCRIPTION meta-information ... OK
* checking top-level files ... OK
* checking for left-over files ... OK
* checking index information ... OK
* checking package subdirectories ... OK
* checking code files for non-ASCII characters ... OK
* checking R files for syntax errors ... OK
* checking whether the package can be loaded ... OK
* checking whether the package can be loaded with stated dependencies ... OK
* checking whether the package can be unloaded cleanly ... OK
* checking whether the namespace can be loaded with stated dependencies ... OK
* checking whether the namespace can be unloaded cleanly ... OK
* checking loading without being on the library search path ... OK
* checking dependencies in R code ... OK
* checking S3 generic/method consistency ... OK
* checking replacement functions ... OK
* checking foreign function calls ... OK
* checking R code for possible problems ... OK
* checking Rd files ... OK
* checking Rd metadata ... OK
* checking Rd cross-references ... OK
* checking for missing documentation entries ... OK
* checking for code/documentation mismatches ... OK
* checking Rd \usage sections ... OK
* checking Rd contents ... OK
* checking for unstated dependencies in examples ... OK
* checking R/sysdata.rda ... OK
* checking files in ‘vignettes’ ... OK
* checking examples ... OK
Examples with CPU (user + system) or elapsed time > 5s
                            user system elapsed
fold_change_int           16.724  0.023  16.748
fold_change               11.217  0.079  11.297
fisher_exact               9.766  0.046   9.812
fs_line                    7.021  0.195   7.216
forward_selection_by_rank  5.991  0.094   6.084
compare_dist               5.493  0.062   5.554
* checking for unstated dependencies in ‘tests’ ... OK
* checking tests ...
  Running ‘testthat.R’
 OK
* checking for unstated dependencies in vignettes ... OK
* checking package vignettes ... OK
* checking re-building of vignette outputs ... OK
* checking PDF version of manual ... OK
* DONE

Status: OK


Installation output

structToolbox.Rcheck/00install.out

##############################################################################
##############################################################################
###
### Running command:
###
###   /home/biocbuild/bbs-3.23-bioc/R/bin/R CMD INSTALL structToolbox
###
##############################################################################
##############################################################################


* installing to library ‘/home/biocbuild/bbs-3.23-bioc/R/site-library’
* installing *source* package ‘structToolbox’ ...
** this is package ‘structToolbox’ version ‘1.23.0’
** using staged installation
** R
** inst
** byte-compile and prepare package for lazy loading
** help
*** installing help indices
** building package indices
** installing vignettes
** testing if installed package can be loaded from temporary location
** testing if installed package can be loaded from final location
** testing if installed package keeps a record of temporary installation path
* DONE (structToolbox)

Tests output

structToolbox.Rcheck/tests/testthat.Rout


R Under development (unstable) (2025-10-20 r88955) -- "Unsuffered Consequences"
Copyright (C) 2025 The R Foundation for Statistical Computing
Platform: x86_64-pc-linux-gnu

R is free software and comes with ABSOLUTELY NO WARRANTY.
You are welcome to redistribute it under certain conditions.
Type 'license()' or 'licence()' for distribution details.

R is a collaborative project with many contributors.
Type 'contributors()' for more information and
'citation()' on how to cite R or R packages in publications.

Type 'demo()' for some demos, 'help()' for on-line help, or
'help.start()' for an HTML browser interface to help.
Type 'q()' to quit R.

> library(testthat)
> library(ggplot2)
> library(structToolbox)
Loading required package: struct
> 
> test_check("structToolbox")
[ FAIL 0 | WARN 6 | SKIP 0 | PASS 166 ]

[ FAIL 0 | WARN 6 | SKIP 0 | PASS 166 ]
> 
> proc.time()
   user  system elapsed 
183.716   1.707 185.485 

Example timings

structToolbox.Rcheck/structToolbox-Ex.timings

nameusersystemelapsed
ANOVA0.2120.0010.211
AUC2.3420.0862.429
DFA0.1980.0000.198
DatasetExperiment_boxplot1.0520.0371.089
DatasetExperiment_dist1.6790.0561.735
DatasetExperiment_factor_boxplot0.3620.0060.369
DatasetExperiment_heatmap1.4720.0581.530
HCA0.0670.0000.068
HSD0.3110.0040.315
HSDEM0.2760.0030.279
MTBLS79_DatasetExperiment0.0010.0000.001
OPLSDA0.0090.0010.011
OPLSR0.0070.0000.008
PCA0.0030.0000.004
PLSDA0.0100.0010.011
PLSR0.0080.0020.010
SVM0.0200.0000.021
as_data_frame0.130.000.13
autoscale0.0820.0000.082
balanced_accuracy1.8070.0551.862
blank_filter0.3940.0070.403
blank_filter_hist0.0010.0000.000
bootstrap0.0080.0030.010
calculate0.0060.0000.005
chart_plot0.0300.0020.031
classical_lsq0.2930.0000.293
compare_dist5.4930.0625.554
confounders_clsq2.9190.0232.948
confounders_lsq_barchart3.1690.0323.201
confounders_lsq_boxplot3.0370.0653.102
constant_sum_norm0.0070.0000.007
corr_coef0.2350.0030.237
dfa_scores_plot0.9600.0040.964
dratio_filter0.2630.0000.264
equal_split0.1280.0030.131
feature_boxplot0.0280.0000.027
feature_profile0.5430.0100.552
feature_profile_array0.6530.0020.656
filter_by_name0.0310.0000.031
filter_na_count0.9500.0100.959
filter_smeta0.0570.0000.057
fisher_exact9.7660.0469.812
fold_change11.217 0.07911.297
fold_change_int16.724 0.02316.748
fold_change_plot0.0060.0010.007
forward_selection_by_rank5.9910.0946.084
fs_line7.0210.1957.216
glog_opt_plot0.5920.0110.604
glog_transform0.3070.0040.310
grid_search_1d3.4770.0553.534
gs_line0.0010.0000.001
hca_dendrogram0.0000.0000.001
kfold_xval3.3470.0173.364
kfoldxcv_grid3.8310.0083.840
kfoldxcv_metric0.0010.0000.001
knn_impute0.0120.0000.012
kw_p_hist0.0010.0000.001
kw_rank_sum0.0730.0010.075
linear_model0.0290.0020.031
log_transform0.0080.0000.008
mean_centre0.0030.0000.004
mean_of_medians0.1180.0010.119
mixed_effect0.2100.0010.212
model_apply0.0260.0010.026
model_predict0.060.000.06
model_reverse0.0280.0000.028
model_train0.0510.0000.051
mv_boxplot0.4150.0000.415
mv_feature_filter0.1230.0020.124
mv_feature_filter_hist0.0000.0010.001
mv_histogram0.3410.0000.341
mv_sample_filter0.0090.0000.009
mv_sample_filter_hist0.0010.0000.000
nroot_transform0.0070.0000.007
ontology_cache0.0000.0000.001
pairs_filter0.0090.0000.009
pareto_scale0.0550.0000.055
pca_biplot0.0150.0000.014
pca_correlation_plot0.0050.0010.006
pca_dstat_plot0.0080.0000.008
pca_loadings_plot0.0090.0000.009
pca_scores_plot0.7160.0000.716
pca_scree_plot0.0070.0000.007
permutation_test0.0080.0010.009
permutation_test_plot0.0030.0000.002
permute_sample_order0.0060.0010.007
pls_regcoeff_plot0.4610.0000.462
pls_scores_plot0.8400.0010.841
pls_vip_plot0.5170.0020.520
plsda_feature_importance_plot0.8970.0030.900
plsda_predicted_plot0.5810.0000.581
plsda_roc_plot1.1740.0031.177
plsr_cook_dist0.0050.0010.006
plsr_prediction_plot0.0060.0000.006
plsr_qq_plot0.0060.0000.006
plsr_residual_hist0.0060.0010.007
pqn_norm0.3440.0000.344
pqn_norm_hist0.0010.0000.001
prop_na0.0090.0000.009
r_squared0.0010.0000.001
resample0.0140.0000.014
resample_chart0.0030.0000.003
rsd_filter0.0130.0000.013
rsd_filter_hist0.0010.0000.001
run0.0280.0010.029
sb_corr0.0240.0010.025
scatter_chart0.5530.0000.553
split_data0.0070.0000.007
stratified_split0.1100.0010.112
svm_plot_2d0.7750.0040.779
tSNE0.0230.0010.024
tSNE_scatter0.0070.0000.007
tic_chart0.3330.0010.335
ttest0.0190.0000.020
vec_norm0.0010.0000.001
wilcox_p_hist0.0000.0010.000
wilcox_test0.0160.0000.016