Back to Multiple platform build/check report for BioC 3.22:   simplified   long
ABCDEFGHIJKLMNOPQR[S]TUVWXYZ

This page was generated on 2025-07-26 12:06 -0400 (Sat, 26 Jul 2025).

HostnameOSArch (*)R versionInstalled pkgs
nebbiolo2Linux (Ubuntu 24.04.2 LTS)x86_644.5.1 (2025-06-13) -- "Great Square Root" 4795
palomino8Windows Server 2022 Datacenterx644.5.1 (2025-06-13 ucrt) -- "Great Square Root" 4534
lconwaymacOS 12.7.1 Montereyx86_644.5.1 (2025-06-13) -- "Great Square Root" 4577
kjohnson3macOS 13.7.1 Venturaarm644.5.1 Patched (2025-06-14 r88325) -- "Great Square Root" 4518
taishanLinux (openEuler 24.03 LTS)aarch644.5.0 (2025-04-11) -- "How About a Twenty-Six" 4512
Click on any hostname to see more info about the system (e.g. compilers)      (*) as reported by 'uname -p', except on Windows and Mac OS X

Package 2127/2313HostnameOS / ArchINSTALLBUILDCHECKBUILD BIN
syntenet 1.11.2  (landing page)
Fabrício Almeida-Silva
Snapshot Date: 2025-07-25 13:25 -0400 (Fri, 25 Jul 2025)
git_url: https://git.bioconductor.org/packages/syntenet
git_branch: devel
git_last_commit: 1607c7f
git_last_commit_date: 2025-07-23 07:35:59 -0400 (Wed, 23 Jul 2025)
nebbiolo2Linux (Ubuntu 24.04.2 LTS) / x86_64  OK    OK    OK  UNNEEDED, same version is already published
palomino8Windows Server 2022 Datacenter / x64  OK    OK    OK    OK  UNNEEDED, same version is already published
lconwaymacOS 12.7.1 Monterey / x86_64  OK    OK    OK    OK  UNNEEDED, same version is already published
kjohnson3macOS 13.7.1 Ventura / arm64  OK    OK    OK    OK  UNNEEDED, same version is already published
taishanLinux (openEuler 24.03 LTS) / aarch64  OK    OK    OK  


CHECK results for syntenet on nebbiolo2

To the developers/maintainers of the syntenet package:
- Allow up to 24 hours (and sometimes 48 hours) for your latest push to git@git.bioconductor.org:packages/syntenet.git to reflect on this report. See Troubleshooting Build Report for more information.
- Use the following Renviron settings to reproduce errors and warnings.
- If 'R CMD check' started to fail recently on the Linux builder(s) over a missing dependency, add the missing dependency to 'Suggests:' in your DESCRIPTION file. See Renviron.bioc for more information.

raw results


Summary

Package: syntenet
Version: 1.11.2
Command: /home/biocbuild/bbs-3.22-bioc/R/bin/R CMD check --install=check:syntenet.install-out.txt --library=/home/biocbuild/bbs-3.22-bioc/R/site-library --timings syntenet_1.11.2.tar.gz
StartedAt: 2025-07-26 05:28:23 -0400 (Sat, 26 Jul 2025)
EndedAt: 2025-07-26 05:31:44 -0400 (Sat, 26 Jul 2025)
EllapsedTime: 200.4 seconds
RetCode: 0
Status:   OK  
CheckDir: syntenet.Rcheck
Warnings: 0

Command output

##############################################################################
##############################################################################
###
### Running command:
###
###   /home/biocbuild/bbs-3.22-bioc/R/bin/R CMD check --install=check:syntenet.install-out.txt --library=/home/biocbuild/bbs-3.22-bioc/R/site-library --timings syntenet_1.11.2.tar.gz
###
##############################################################################
##############################################################################


* using log directory ‘/home/biocbuild/bbs-3.22-bioc/meat/syntenet.Rcheck’
* using R version 4.5.1 (2025-06-13)
* using platform: x86_64-pc-linux-gnu
* R was compiled by
    gcc (Ubuntu 13.3.0-6ubuntu2~24.04) 13.3.0
    GNU Fortran (Ubuntu 13.3.0-6ubuntu2~24.04) 13.3.0
* running under: Ubuntu 24.04.2 LTS
* using session charset: UTF-8
* checking for file ‘syntenet/DESCRIPTION’ ... OK
* this is package ‘syntenet’ version ‘1.11.2’
* package encoding: UTF-8
* checking package namespace information ... OK
* checking package dependencies ... OK
* checking if this is a source package ... OK
* checking if there is a namespace ... OK
* checking for hidden files and directories ... OK
* checking for portable file names ... OK
* checking for sufficient/correct file permissions ... OK
* checking whether package ‘syntenet’ can be installed ... OK
* used C++ compiler: ‘g++ (Ubuntu 13.3.0-6ubuntu2~24.04) 13.3.0’
* checking installed package size ... INFO
  installed size is  8.9Mb
  sub-directories of 1Mb or more:
    data   1.4Mb
    libs   7.1Mb
* checking package directory ... OK
* checking ‘build’ directory ... OK
* checking DESCRIPTION meta-information ... OK
* checking top-level files ... OK
* checking for left-over files ... OK
* checking index information ... OK
* checking package subdirectories ... OK
* checking code files for non-ASCII characters ... OK
* checking R files for syntax errors ... OK
* checking whether the package can be loaded ... OK
* checking whether the package can be loaded with stated dependencies ... OK
* checking whether the package can be unloaded cleanly ... OK
* checking whether the namespace can be loaded with stated dependencies ... OK
* checking whether the namespace can be unloaded cleanly ... OK
* checking loading without being on the library search path ... OK
* checking dependencies in R code ... OK
* checking S3 generic/method consistency ... OK
* checking replacement functions ... OK
* checking foreign function calls ... OK
* checking R code for possible problems ... OK
* checking Rd files ... OK
* checking Rd metadata ... OK
* checking Rd cross-references ... OK
* checking for missing documentation entries ... OK
* checking for code/documentation mismatches ... OK
* checking Rd \usage sections ... OK
* checking Rd contents ... OK
* checking for unstated dependencies in examples ... OK
* checking contents of ‘data’ directory ... OK
* checking data for non-ASCII characters ... OK
* checking data for ASCII and uncompressed saves ... OK
* checking line endings in C/C++/Fortran sources/headers ... OK
* checking compiled code ... NOTE
Note: information on .o files is not available
* checking files in ‘vignettes’ ... OK
* checking examples ... OK
Examples with CPU (user + system) or elapsed time > 5s
                      user system elapsed
collapse_protein_ids 6.670  0.324   6.994
find_GS_clusters     5.216  0.183   5.400
* checking for unstated dependencies in ‘tests’ ... OK
* checking tests ...
  Running ‘testthat.R’
 OK
* checking for unstated dependencies in vignettes ... OK
* checking package vignettes ... OK
* checking re-building of vignette outputs ... OK
* checking PDF version of manual ... OK
* DONE

Status: 1 NOTE
See
  ‘/home/biocbuild/bbs-3.22-bioc/meat/syntenet.Rcheck/00check.log’
for details.


Installation output

syntenet.Rcheck/00install.out

##############################################################################
##############################################################################
###
### Running command:
###
###   /home/biocbuild/bbs-3.22-bioc/R/bin/R CMD INSTALL syntenet
###
##############################################################################
##############################################################################


* installing to library ‘/home/biocbuild/bbs-3.22-bioc/R/site-library’
* installing *source* package ‘syntenet’ ...
** this is package ‘syntenet’ version ‘1.11.2’
** using staged installation
** libs
using C++ compiler: ‘g++ (Ubuntu 13.3.0-6ubuntu2~24.04) 13.3.0’
g++ -std=gnu++17 -I"/home/biocbuild/bbs-3.22-bioc/R/include" -DNDEBUG  -I'/home/biocbuild/bbs-3.22-bioc/R/site-library/Rcpp/include' -I'/home/biocbuild/bbs-3.22-bioc/R/site-library/testthat/include' -I/usr/local/include    -fpic  -g -O2  -Wall -Werror=format-security  -c RcppExports.cpp -o RcppExports.o
g++ -std=gnu++17 -I"/home/biocbuild/bbs-3.22-bioc/R/include" -DNDEBUG  -I'/home/biocbuild/bbs-3.22-bioc/R/site-library/Rcpp/include' -I'/home/biocbuild/bbs-3.22-bioc/R/site-library/testthat/include' -I/usr/local/include    -fpic  -g -O2  -Wall -Werror=format-security  -c mcscanxr.cpp -o mcscanxr.o
g++ -std=gnu++17 -I"/home/biocbuild/bbs-3.22-bioc/R/include" -DNDEBUG  -I'/home/biocbuild/bbs-3.22-bioc/R/site-library/Rcpp/include' -I'/home/biocbuild/bbs-3.22-bioc/R/site-library/testthat/include' -I/usr/local/include    -fpic  -g -O2  -Wall -Werror=format-security  -c test-runner.cpp -o test-runner.o
g++ -std=gnu++17 -shared -L/home/biocbuild/bbs-3.22-bioc/R/lib -L/usr/local/lib -o syntenet.so RcppExports.o mcscanxr.o test-runner.o -L/home/biocbuild/bbs-3.22-bioc/R/lib -lR
installing to /home/biocbuild/bbs-3.22-bioc/R/site-library/00LOCK-syntenet/00new/syntenet/libs
** R
** data
** inst
** byte-compile and prepare package for lazy loading
** help
*** installing help indices
*** copying figures
** building package indices
** installing vignettes
** testing if installed package can be loaded from temporary location
** checking absolute paths in shared objects and dynamic libraries
** testing if installed package can be loaded from final location
** testing if installed package keeps a record of temporary installation path
* DONE (syntenet)

Tests output

syntenet.Rcheck/tests/testthat.Rout


R version 4.5.1 (2025-06-13) -- "Great Square Root"
Copyright (C) 2025 The R Foundation for Statistical Computing
Platform: x86_64-pc-linux-gnu

R is free software and comes with ABSOLUTELY NO WARRANTY.
You are welcome to redistribute it under certain conditions.
Type 'license()' or 'licence()' for distribution details.

R is a collaborative project with many contributors.
Type 'contributors()' for more information and
'citation()' on how to cite R or R packages in publications.

Type 'demo()' for some demos, 'help()' for on-line help, or
'help.start()' for an HTML browser interface to help.
Type 'q()' to quit R.

> library(testthat)
> library(syntenet)
> 
> test_check("syntenet")
Reading GFF file and pre-processing
Reading BLAST file and pre-processing
Generating BLAST list
match_list.size: 172
172 matches imported (171 discarded)
6 pairwise comparisons
0 alignments generated
Pairwise collinear blocks written to Olucimarinus.collinearity
Done!
Reading GFF file and pre-processing
Reading BLAST file and pre-processing
Generating BLAST list
match_list.size: 172
172 matches imported (171 discarded)
6 pairwise comparisons
0 alignments generated
Pairwise collinear blocks written to Olucimarinus.collinearity
Done!
Reading GFF file and pre-processing
Reading BLAST file and pre-processing
Generating BLAST list
match_list.size: 19
19 matches imported (17 discarded)
6 pairwise comparisons
0 alignments generated
Pairwise collinear blocks written to OspRCC809.collinearity
Done!
Reading GFF file and pre-processing
Reading BLAST file and pre-processing
Generating BLAST list
match_list.size: 1267
1267 matches imported (1257 discarded)
9 pairwise comparisons
8 alignments generated
Pairwise collinear blocks written to Olucimarinus_OspRCC809.collinearity
Done!
Reading GFF file and pre-processing
Reading BLAST file and pre-processing
Generating BLAST list
match_list.size: 172
172 matches imported (171 discarded)
6 pairwise comparisons
0 alignments generated
Pairwise collinear blocks written to Olucimarinus.collinearity
Tandem pairs written to Olucimarinus.tandem
Writing multiple syntenic blocks to HTML files
Olu_Chr_1.html
Olu_Chr_2.html
Olu_Chr_3.html
Done!
Reading GFF file and pre-processing
Reading BLAST file and pre-processing
Generating BLAST list
match_list.size: 19
19 matches imported (17 discarded)
6 pairwise comparisons
0 alignments generated
Pairwise collinear blocks written to OspRCC809.collinearity
Writing multiple syntenic blocks to HTML files
Osp_chr_1.html
Osp_chr_2.html
Osp_chr_3.html
Done!
Reading GFF file and pre-processing
Reading BLAST file and pre-processing
Generating BLAST list
match_list.size: 1267
1267 matches imported (1257 discarded)
9 pairwise comparisons
8 alignments generated
Pairwise collinear blocks written to Olucimarinus_OspRCC809.collinearity
Writing multiple syntenic blocks to HTML files
Olu_Chr_1.html
Olu_Chr_2.html
Olu_Chr_3.html
Osp_chr_1.html
Osp_chr_2.html
Osp_chr_3.html
Done!
[ FAIL 0 | WARN 0 | SKIP 0 | PASS 104 ]
> 
> proc.time()
   user  system elapsed 
 26.443   1.288  27.728 

Example timings

syntenet.Rcheck/syntenet-Ex.timings

nameusersystemelapsed
angiosperm_phylogeny0.0020.0000.003
annotation0.0080.0010.008
binarize_and_transpose0.1190.0070.126
blast_list0.0170.0010.018
check_input0.2100.0010.211
cluster_network0.2640.0080.272
clusters0.0330.0000.034
collapse_bidirectional_hits0.0190.0010.020
collapse_protein_ids6.6700.3246.994
create_species_id_table0.0850.0060.091
diamond_is_installed0.0020.0010.002
edges0.0000.0030.003
export_sequences0.2820.0070.290
fasta2AAStringSetlist0.0130.0000.014
find_GS_clusters5.2160.1835.400
gff2GRangesList0.1390.0060.146
infer_microsynteny_phylogeny0.1150.0040.118
infer_syntenet0.3990.0080.407
interspecies_synteny0.3260.0050.330
intraspecies_synteny0.1850.0050.189
iqtree_is_installed0.0010.0000.002
iqtree_version0.0030.0000.002
last_is_installed0.0010.0010.001
make_bidirectional0.0010.0000.002
network0.3090.0070.316
parse_collinearity0.0040.0000.005
phylogenomic_profile0.1080.0000.108
plot_network1.3780.0501.429
plot_profiles3.6330.1973.846
process_input0.2070.0030.210
profiles2phylip0.1720.0030.176
proteomes0.0960.0040.100
read_diamond0.0020.0000.002
run_diamond0.2120.0020.214
run_last0.2040.0090.213
scerevisiae_annot0.0130.0010.014
scerevisiae_diamond0.0460.0030.049