| Back to Multiple platform build/check report for BioC 3.22: simplified long |
|
This page was generated on 2025-10-21 12:08 -0400 (Tue, 21 Oct 2025).
| Hostname | OS | Arch (*) | R version | Installed pkgs |
|---|---|---|---|---|
| nebbiolo2 | Linux (Ubuntu 24.04.3 LTS) | x86_64 | 4.5.1 Patched (2025-08-23 r88802) -- "Great Square Root" | 4887 |
| lconway | macOS 12.7.6 Monterey | x86_64 | 4.5.1 Patched (2025-09-10 r88807) -- "Great Square Root" | 4677 |
| kjohnson3 | macOS 13.7.7 Ventura | arm64 | 4.5.1 Patched (2025-09-10 r88807) -- "Great Square Root" | 4622 |
| taishan | Linux (openEuler 24.03 LTS) | aarch64 | 4.5.0 (2025-04-11) -- "How About a Twenty-Six" | 4642 |
| Click on any hostname to see more info about the system (e.g. compilers) (*) as reported by 'uname -p', except on Windows and Mac OS X | ||||
| Package 2168/2353 | Hostname | OS / Arch | INSTALL | BUILD | CHECK | BUILD BIN | ||||||||
| systemPipeR 2.15.2 (landing page) Thomas Girke
| nebbiolo2 | Linux (Ubuntu 24.04.3 LTS) / x86_64 | OK | OK | OK | |||||||||
| lconway | macOS 12.7.6 Monterey / x86_64 | OK | OK | OK | OK | |||||||||
| kjohnson3 | macOS 13.7.7 Ventura / arm64 | OK | OK | OK | OK | |||||||||
| taishan | Linux (openEuler 24.03 LTS) / aarch64 | OK | OK | OK | ||||||||||
|
To the developers/maintainers of the systemPipeR package: - Allow up to 24 hours (and sometimes 48 hours) for your latest push to git@git.bioconductor.org:packages/systemPipeR.git to reflect on this report. See Troubleshooting Build Report for more information. - Use the following Renviron settings to reproduce errors and warnings. - If 'R CMD check' started to fail recently on the Linux builder(s) over a missing dependency, add the missing dependency to 'Suggests:' in your DESCRIPTION file. See Renviron.bioc for more information. - See Martin Grigorov's blog post for how to debug Linux ARM64 related issues on a x86_64 host. |
| Package: systemPipeR |
| Version: 2.15.2 |
| Command: /home/biocbuild/R/R/bin/R CMD check --install=check:systemPipeR.install-out.txt --library=/home/biocbuild/R/R/site-library --no-vignettes --timings systemPipeR_2.15.2.tar.gz |
| StartedAt: 2025-10-17 14:20:26 -0000 (Fri, 17 Oct 2025) |
| EndedAt: 2025-10-17 14:28:26 -0000 (Fri, 17 Oct 2025) |
| EllapsedTime: 480.0 seconds |
| RetCode: 0 |
| Status: OK |
| CheckDir: systemPipeR.Rcheck |
| Warnings: 0 |
##############################################################################
##############################################################################
###
### Running command:
###
### /home/biocbuild/R/R/bin/R CMD check --install=check:systemPipeR.install-out.txt --library=/home/biocbuild/R/R/site-library --no-vignettes --timings systemPipeR_2.15.2.tar.gz
###
##############################################################################
##############################################################################
* using log directory ‘/home/biocbuild/bbs-3.22-bioc/meat/systemPipeR.Rcheck’
* using R version 4.5.0 (2025-04-11)
* using platform: aarch64-unknown-linux-gnu
* R was compiled by
aarch64-unknown-linux-gnu-gcc (GCC) 14.2.0
GNU Fortran (GCC) 14.2.0
* running under: openEuler 24.03 (LTS)
* using session charset: UTF-8
* using option ‘--no-vignettes’
* checking for file ‘systemPipeR/DESCRIPTION’ ... OK
* checking extension type ... Package
* this is package ‘systemPipeR’ version ‘2.15.2’
* checking package namespace information ... OK
* checking package dependencies ... OK
* checking if this is a source package ... OK
* checking if there is a namespace ... OK
* checking for hidden files and directories ... NOTE
Found the following hidden files and directories:
inst/extdata/.batchtools.conf.R
inst/extdata/.batchtools.conf.R.sge
inst/extdata/.batchtools.conf.R.torque
These were most likely included in error. See section ‘Package
structure’ in the ‘Writing R Extensions’ manual.
* checking for portable file names ... OK
* checking for sufficient/correct file permissions ... OK
* checking whether package ‘systemPipeR’ can be installed ... OK
* checking installed package size ... INFO
installed size is 6.9Mb
sub-directories of 1Mb or more:
R 1.6Mb
extdata 2.9Mb
htmlwidgets 2.0Mb
* checking package directory ... OK
* checking ‘build’ directory ... OK
* checking DESCRIPTION meta-information ... OK
* checking top-level files ... OK
* checking for left-over files ... OK
* checking index information ... OK
* checking package subdirectories ... NOTE
Problems with news in ‘NEWS’:
Cannot process chunk/lines:
OVERVIEW
* checking code files for non-ASCII characters ... OK
* checking R files for syntax errors ... OK
* checking whether the package can be loaded ... OK
* checking whether the package can be loaded with stated dependencies ... OK
* checking whether the package can be unloaded cleanly ... OK
* checking whether the namespace can be loaded with stated dependencies ... OK
* checking whether the namespace can be unloaded cleanly ... OK
* checking loading without being on the library search path ... OK
* checking dependencies in R code ... OK
* checking S3 generic/method consistency ... OK
* checking replacement functions ... OK
* checking foreign function calls ... OK
* checking R code for possible problems ... NOTE
.cmd2cwl2: no visible global function definition for ‘ave’
.getPreprotext: no visible binding for global variable ‘.’
Undefined global functions or variables:
. ave
Consider adding
importFrom("stats", "ave")
to your NAMESPACE file.
* checking Rd files ... OK
* checking Rd metadata ... OK
* checking Rd cross-references ... OK
* checking for missing documentation entries ... OK
* checking for code/documentation mismatches ... OK
* checking Rd \usage sections ... OK
* checking Rd contents ... OK
* checking for unstated dependencies in examples ... OK
* checking line endings in Makefiles ... OK
* checking for GNU extensions in Makefiles ... OK
* checking include directives in Makefiles ... OK
* checking files in ‘vignettes’ ... OK
* checking examples ... OK
Examples with CPU (user + system) or elapsed time > 5s
user system elapsed
genFeatures 29.368 1.168 34.311
run_DESeq2 14.098 0.861 15.830
loadWorkflow 7.285 0.445 8.426
renderLogs 4.691 0.770 8.594
* checking for unstated dependencies in ‘tests’ ... OK
* checking tests ...
Running ‘testthat.R’
OK
* checking for unstated dependencies in vignettes ... OK
* checking package vignettes ... OK
* checking running R code from vignettes ... SKIPPED
* checking re-building of vignette outputs ... SKIPPED
* checking PDF version of manual ... OK
* DONE
Status: 3 NOTEs
See
‘/home/biocbuild/bbs-3.22-bioc/meat/systemPipeR.Rcheck/00check.log’
for details.
systemPipeR.Rcheck/00install.out
############################################################################## ############################################################################## ### ### Running command: ### ### /home/biocbuild/R/R/bin/R CMD INSTALL systemPipeR ### ############################################################################## ############################################################################## * installing to library ‘/home/biocbuild/R/R-4.5.0/site-library’ * installing *source* package ‘systemPipeR’ ... ** this is package ‘systemPipeR’ version ‘2.15.2’ ** using staged installation ** R ** inst ** byte-compile and prepare package for lazy loading ** help *** installing help indices ** building package indices ** installing vignettes ** testing if installed package can be loaded from temporary location ** testing if installed package can be loaded from final location ** testing if installed package keeps a record of temporary installation path * DONE (systemPipeR)
systemPipeR.Rcheck/tests/testthat.Rout
R version 4.5.0 (2025-04-11) -- "How About a Twenty-Six"
Copyright (C) 2025 The R Foundation for Statistical Computing
Platform: aarch64-unknown-linux-gnu
R is free software and comes with ABSOLUTELY NO WARRANTY.
You are welcome to redistribute it under certain conditions.
Type 'license()' or 'licence()' for distribution details.
R is a collaborative project with many contributors.
Type 'contributors()' for more information and
'citation()' on how to cite R or R packages in publications.
Type 'demo()' for some demos, 'help()' for on-line help, or
'help.start()' for an HTML browser interface to help.
Type 'q()' to quit R.
> library(testthat)
> library(systemPipeR)
Loading required package: Rsamtools
Loading required package: Seqinfo
Loading required package: BiocGenerics
Loading required package: generics
Attaching package: 'generics'
The following objects are masked from 'package:base':
as.difftime, as.factor, as.ordered, intersect, is.element, setdiff,
setequal, union
Attaching package: 'BiocGenerics'
The following objects are masked from 'package:stats':
IQR, mad, sd, var, xtabs
The following objects are masked from 'package:base':
Filter, Find, Map, Position, Reduce, anyDuplicated, aperm, append,
as.data.frame, basename, cbind, colnames, dirname, do.call,
duplicated, eval, evalq, get, grep, grepl, is.unsorted, lapply,
mapply, match, mget, order, paste, pmax, pmax.int, pmin, pmin.int,
rank, rbind, rownames, sapply, saveRDS, table, tapply, unique,
unsplit, which.max, which.min
Loading required package: GenomicRanges
Loading required package: stats4
Loading required package: S4Vectors
Attaching package: 'S4Vectors'
The following object is masked from 'package:utils':
findMatches
The following objects are masked from 'package:base':
I, expand.grid, unname
Loading required package: IRanges
Loading required package: Biostrings
Loading required package: XVector
Attaching package: 'Biostrings'
The following object is masked from 'package:base':
strsplit
Loading required package: ShortRead
Loading required package: BiocParallel
Loading required package: GenomicAlignments
Loading required package: SummarizedExperiment
Loading required package: MatrixGenerics
Loading required package: matrixStats
Attaching package: 'MatrixGenerics'
The following objects are masked from 'package:matrixStats':
colAlls, colAnyNAs, colAnys, colAvgsPerRowSet, colCollapse,
colCounts, colCummaxs, colCummins, colCumprods, colCumsums,
colDiffs, colIQRDiffs, colIQRs, colLogSumExps, colMadDiffs,
colMads, colMaxs, colMeans2, colMedians, colMins, colOrderStats,
colProds, colQuantiles, colRanges, colRanks, colSdDiffs, colSds,
colSums2, colTabulates, colVarDiffs, colVars, colWeightedMads,
colWeightedMeans, colWeightedMedians, colWeightedSds,
colWeightedVars, rowAlls, rowAnyNAs, rowAnys, rowAvgsPerColSet,
rowCollapse, rowCounts, rowCummaxs, rowCummins, rowCumprods,
rowCumsums, rowDiffs, rowIQRDiffs, rowIQRs, rowLogSumExps,
rowMadDiffs, rowMads, rowMaxs, rowMeans2, rowMedians, rowMins,
rowOrderStats, rowProds, rowQuantiles, rowRanges, rowRanks,
rowSdDiffs, rowSds, rowSums2, rowTabulates, rowVarDiffs, rowVars,
rowWeightedMads, rowWeightedMeans, rowWeightedMedians,
rowWeightedSds, rowWeightedVars
Loading required package: Biobase
Welcome to Bioconductor
Vignettes contain introductory material; view with
'browseVignettes()'. To cite Bioconductor, see
'citation("Biobase")', and for packages 'citation("pkgname")'.
Attaching package: 'Biobase'
The following object is masked from 'package:MatrixGenerics':
rowMedians
The following objects are masked from 'package:matrixStats':
anyMissing, rowMedians
>
> test_check("systemPipeR")
[1] "Generated /home/biocbuild/tmp/RtmpeM7yqh/rnaseq directory. Next run in rnaseq directory, the R code from *.Rmd template interactively. Alternatively, workflows can be exectued with a single command as instructed in the vignette."
[1] "Generated /home/biocbuild/tmp/RtmpeM7yqh/rnaseq2 directory. Next run in rnaseq directory, the R code from *.Rmd template interactively. Alternatively, workflows can be exectued with a single command as instructed in the vignette."
Creating directory '/home/biocbuild/tmp/RtmpeM7yqh/rnaseq2/.SPRproject'
Creating file '/home/biocbuild/tmp/RtmpeM7yqh/rnaseq2/.SPRproject/SYSargsList.yml'
Running Step: example
Running Session: Management
|
| | 0%
|
|======================= | 33%
|
|=============================================== | 67%
|
|======================================================================| 100%
---- Summary ----
Targets Total_Files Existing_Files Missing_Files example
M1 M1 1 1 0 Success
M2 M2 1 1 0 Success
M3 M3 1 1 0 Success
Step Status: Success
Done with workflow running, now consider rendering logs & reports
To render logs, run: sal <- renderLogs(sal)
From command-line: Rscript -e "sal = systemPipeR::SPRproject(resume = TRUE); sal = systemPipeR::renderLogs(sal)"
To render reports, run: sal <- renderReport(sal)
From command-line: Rscript -e "sal= s ystemPipeR::SPRproject(resume = TRUE); sal = systemPipeR::renderReport(sal)"
This message is displayed once per R session
Running Step: newStep
Running Session: Management
|
| | 0%
|
|======================= | 33%
|
|=============================================== | 67%
|
|======================================================================| 100%
---- Summary ----
Targets Total_Files Existing_Files Missing_Files example
M1 M1 1 1 0 Success
M2 M2 1 1 0 Success
M3 M3 1 1 0 Success
Step Status: Success
Running Step: R_code
Running Session: Management
|
| | 0%
|
|======================================================================| 100%
Step Status: Warning
[1] "Generated /home/biocbuild/tmp/RtmpeM7yqh/newtest directory. Next run in new directory, the R code from *.Rmd template interactively. Alternatively, workflows can be exectued with a single command as instructed in the vignette."
Creating directory '/home/biocbuild/tmp/RtmpeM7yqh/newtest/.SPRproject'
Creating file '/home/biocbuild/tmp/RtmpeM7yqh/newtest/.SPRproject/SYSargsList.yml'
Reading Rmd file
Now importing step 'load_library'
Now importing step 'export_iris'
Now importing step 'gzip'
Now importing step 'gunzip'
Now importing step 'stats'
Now back up current Rmd file as template for `renderReport`
Template for renderReport is stored at
/home/biocbuild/tmp/RtmpeM7yqh/newtest/.SPRproject/workflow_template.Rmd
Edit this file manually is not recommended
Now check if required tools are installed
Check if they are in path:
Checking path for gzip
PASS
Checking path for gunzip
PASS
step_name tool in_path
1 gzip gzip TRUE
2 gunzip gunzip TRUE
All required tools in PATH, skip module check. If you want to check modules use `listCmdModules`Import done
Instance of 'LineWise'
Code Chunk length: 1
mapply(function(x, y) write.csv(x, y), split(iris, factor(iris$Species)), file.path("results", paste0(names(split(iris, factor(iris$Species))), ".csv")))
load_library
5 + 5
load_library
5 + 5
66 + 55
Running Step: load_library
Running Session: Management
|
| | 0%
|
|======================================================================| 100%
Step Status: Success
Running Step: export_iris
Running Session: Management
|
| | 0%
|
|======================================================================| 100%
Step Status: Success
Skipping Step: gzip
Skipping Step: gunzip
Skipping Step: stats
[ FAIL 0 | WARN 0 | SKIP 10 | PASS 47 ]
══ Skipped tests (10) ══════════════════════════════════════════════════════════
• On Bioconductor (10): 'test-01-SYSargs.R:2:1', 'test-02-SYSargs2.R:9:5',
'test-02-SYSargs2.R:55:5', 'test-03-SYSargsList.R:63:5',
'test-05-catDB.R:3:1', 'test-06-VENNset.R:3:1', 'test-07-features.R:3:1',
'test-08-cmd2cwl.R:2:1', 'test-10-chipSeq.R:4:1', 'test-utilities.R:2:1'
[ FAIL 0 | WARN 0 | SKIP 10 | PASS 47 ]
>
> proc.time()
user system elapsed
16.775 1.420 23.377
systemPipeR.Rcheck/systemPipeR-Ex.timings
| name | user | system | elapsed | |
| EnvModules-class | 0.001 | 0.000 | 0.001 | |
| GOHyperGAll | 0 | 0 | 0 | |
| INTERSECTset-class | 0.007 | 0.002 | 0.008 | |
| LineWise-class | 0.168 | 0.011 | 0.183 | |
| ParamFiles | 0.111 | 0.000 | 0.111 | |
| ParamFiles2 | 0.172 | 0.000 | 0.172 | |
| SPRproject | 0.001 | 0.004 | 0.005 | |
| SYSargs-class | 0.016 | 0.004 | 0.022 | |
| SYSargs2-class | 0.070 | 0.000 | 0.075 | |
| SYSargsList-class | 0.556 | 0.043 | 0.610 | |
| SYSargsList | 0.112 | 0.000 | 0.113 | |
| VENNset-class | 0.005 | 0.001 | 0.006 | |
| alignStats | 1.611 | 0.063 | 1.843 | |
| catDB-class | 0 | 0 | 0 | |
| catmap | 0 | 0 | 0 | |
| check.output | 1.676 | 0.039 | 1.767 | |
| clusterRun | 1.583 | 0.008 | 1.596 | |
| config.param | 0 | 0 | 0 | |
| configWF | 0.000 | 0.000 | 0.001 | |
| countRangeset | 0.057 | 0.000 | 0.118 | |
| createParamFiles | 0.197 | 0.005 | 0.346 | |
| cwlFilesUpdate | 0 | 0 | 0 | |
| evalCode | 0.045 | 0.004 | 0.107 | |
| featureCoverage | 1.596 | 0.024 | 1.683 | |
| featuretypeCounts | 1.587 | 0.056 | 1.647 | |
| filterDEGs | 2.842 | 0.179 | 3.094 | |
| filterVars | 0.010 | 0.000 | 0.021 | |
| genFeatures | 29.368 | 1.168 | 34.311 | |
| importWF | 0.058 | 0.000 | 0.118 | |
| listCmdTools | 0.000 | 0.000 | 0.001 | |
| loadWorkflow | 7.285 | 0.445 | 8.426 | |
| mergeBamByFactor | 0.011 | 0.000 | 0.015 | |
| moduleload | 0 | 0 | 0 | |
| olBarplot | 0.701 | 0.015 | 0.735 | |
| olRanges | 0.138 | 0.000 | 0.138 | |
| output_update | 1.849 | 0.032 | 1.887 | |
| overLapper | 0.564 | 0.080 | 0.646 | |
| plotfeatureCoverage | 1.560 | 0.028 | 1.594 | |
| plotfeaturetypeCounts | 1.917 | 0.027 | 2.256 | |
| predORF | 0.255 | 0.000 | 0.279 | |
| preprocessReads | 0.556 | 0.001 | 0.721 | |
| readComp | 1.879 | 0.011 | 1.924 | |
| renderLogs | 4.691 | 0.770 | 8.594 | |
| renderReport | 1.786 | 0.459 | 2.588 | |
| returnRPKM | 0 | 0 | 0 | |
| runCommandline | 2.040 | 0.377 | 2.425 | |
| runDiff | 0.054 | 0.004 | 0.058 | |
| runWF | 0.138 | 0.012 | 0.158 | |
| run_DESeq2 | 14.098 | 0.861 | 15.830 | |
| run_edgeR | 1.704 | 0.064 | 1.779 | |
| sal2bash | 0.639 | 0.295 | 0.947 | |
| sal2rmd | 0.662 | 0.426 | 1.115 | |
| scaleRanges | 0.259 | 0.044 | 0.339 | |
| seeFastq | 0 | 0 | 0 | |
| showDF | 0.075 | 0.011 | 0.087 | |
| subsetWF | 1.989 | 0.300 | 2.295 | |
| symLink2bam | 1.891 | 0.255 | 2.175 | |
| sysargs | 0.011 | 0.000 | 0.011 | |
| systemArgs | 0.010 | 0.000 | 0.011 | |
| targets.as.df | 0.005 | 0.000 | 0.005 | |
| trimbatch | 0.337 | 0.004 | 0.343 | |
| tryCMD | 0.000 | 0.000 | 0.001 | |
| tryPath | 0.002 | 0.000 | 0.001 | |
| variantReport | 0.01 | 0.00 | 0.01 | |
| vennPlot | 0.582 | 0.028 | 0.611 | |
| writeTargets | 0.123 | 0.004 | 0.129 | |
| writeTargetsRef | 0.000 | 0.001 | 0.001 | |
| writeTargetsout | 1.571 | 0.027 | 1.602 | |
| write_SYSargsList | 0.135 | 0.007 | 0.145 | |