Back to Multiple platform build/check report for BioC 3.23:   simplified   long
ABCDEFGHIJKLMNOPQRS[T]UVWXYZ

This page was generated on 2025-11-22 11:38 -0500 (Sat, 22 Nov 2025).

HostnameOSArch (*)R versionInstalled pkgs
nebbiolo1Linux (Ubuntu 24.04.3 LTS)x86_64R Under development (unstable) (2025-10-20 r88955) -- "Unsuffered Consequences" 4829
lconwaymacOS 12.7.6 Montereyx86_64R Under development (unstable) (2025-10-21 r88958) -- "Unsuffered Consequences" 4603
kjohnson3macOS 13.7.7 Venturaarm64R Under development (unstable) (2025-11-04 r88984) -- "Unsuffered Consequences" 4567
Click on any hostname to see more info about the system (e.g. compilers)      (*) as reported by 'uname -p', except on Windows and Mac OS X

Package 2180/2327HostnameOS / ArchINSTALLBUILDCHECKBUILD BIN
tidyFlowCore 1.5.0  (landing page)
Timothy Keyes
Snapshot Date: 2025-11-21 13:40 -0500 (Fri, 21 Nov 2025)
git_url: https://git.bioconductor.org/packages/tidyFlowCore
git_branch: devel
git_last_commit: 1848897
git_last_commit_date: 2025-10-29 11:30:26 -0500 (Wed, 29 Oct 2025)
nebbiolo1Linux (Ubuntu 24.04.3 LTS) / x86_64  OK    OK    OK  UNNEEDED, same version is already published
lconwaymacOS 12.7.6 Monterey / x86_64  OK    OK    OK    OK  UNNEEDED, same version is already published
kjohnson3macOS 13.7.7 Ventura / arm64  OK    OK    OK    OK  UNNEEDED, same version is already published


CHECK results for tidyFlowCore on lconway

To the developers/maintainers of the tidyFlowCore package:
- Allow up to 24 hours (and sometimes 48 hours) for your latest push to git@git.bioconductor.org:packages/tidyFlowCore.git to reflect on this report. See Troubleshooting Build Report for more information.
- Use the following Renviron settings to reproduce errors and warnings.
- If 'R CMD check' started to fail recently on the Linux builder(s) over a missing dependency, add the missing dependency to 'Suggests:' in your DESCRIPTION file. See Renviron.bioc for more information.

raw results


Summary

Package: tidyFlowCore
Version: 1.5.0
Command: /Library/Frameworks/R.framework/Resources/bin/R CMD check --install=check:tidyFlowCore.install-out.txt --library=/Library/Frameworks/R.framework/Resources/library --no-vignettes --timings tidyFlowCore_1.5.0.tar.gz
StartedAt: 2025-11-22 00:43:18 -0500 (Sat, 22 Nov 2025)
EndedAt: 2025-11-22 00:45:15 -0500 (Sat, 22 Nov 2025)
EllapsedTime: 116.9 seconds
RetCode: 0
Status:   OK  
CheckDir: tidyFlowCore.Rcheck
Warnings: 0

Command output

##############################################################################
##############################################################################
###
### Running command:
###
###   /Library/Frameworks/R.framework/Resources/bin/R CMD check --install=check:tidyFlowCore.install-out.txt --library=/Library/Frameworks/R.framework/Resources/library --no-vignettes --timings tidyFlowCore_1.5.0.tar.gz
###
##############################################################################
##############################################################################


* using log directory ‘/Users/biocbuild/bbs-3.23-bioc/meat/tidyFlowCore.Rcheck’
* using R Under development (unstable) (2025-10-21 r88958)
* using platform: x86_64-apple-darwin20
* R was compiled by
    Apple clang version 14.0.0 (clang-1400.0.29.202)
    GNU Fortran (GCC) 14.2.0
* running under: macOS Ventura 13.7.8
* using session charset: UTF-8
* using option ‘--no-vignettes’
* checking for file ‘tidyFlowCore/DESCRIPTION’ ... OK
* checking extension type ... Package
* this is package ‘tidyFlowCore’ version ‘1.5.0’
* package encoding: UTF-8
* checking package namespace information ... OK
* checking package dependencies ... OK
* checking if this is a source package ... OK
* checking if there is a namespace ... OK
* checking for hidden files and directories ... OK
* checking for portable file names ... OK
* checking for sufficient/correct file permissions ... OK
* checking whether package ‘tidyFlowCore’ can be installed ... OK
* checking installed package size ... OK
* checking package directory ... OK
* checking ‘build’ directory ... OK
* checking DESCRIPTION meta-information ... OK
* checking top-level files ... OK
* checking for left-over files ... OK
* checking index information ... OK
* checking package subdirectories ... OK
* checking code files for non-ASCII characters ... OK
* checking R files for syntax errors ... OK
* checking whether the package can be loaded ... OK
* checking whether the package can be loaded with stated dependencies ... OK
* checking whether the package can be unloaded cleanly ... OK
* checking whether the namespace can be loaded with stated dependencies ... OK
* checking whether the namespace can be unloaded cleanly ... OK
* checking dependencies in R code ... OK
* checking S3 generic/method consistency ... OK
* checking replacement functions ... OK
* checking foreign function calls ... OK
* checking R code for possible problems ... OK
* checking Rd files ... OK
* checking Rd metadata ... OK
* checking Rd cross-references ... OK
* checking for missing documentation entries ... OK
* checking for code/documentation mismatches ... OK
* checking Rd \usage sections ... OK
* checking Rd contents ... OK
* checking for unstated dependencies in examples ... OK
* checking contents of ‘data’ directory ... OK
* checking data for non-ASCII characters ... OK
* checking data for ASCII and uncompressed saves ... OK
* checking files in ‘vignettes’ ... OK
* checking examples ... OK
* checking for unstated dependencies in ‘tests’ ... OK
* checking tests ...
  Running ‘testthat.R’
 OK
* checking for unstated dependencies in vignettes ... OK
* checking package vignettes ... OK
* checking running R code from vignettes ... SKIPPED
* checking re-building of vignette outputs ... SKIPPED
* checking PDF version of manual ... OK
* DONE

Status: OK


Installation output

tidyFlowCore.Rcheck/00install.out

##############################################################################
##############################################################################
###
### Running command:
###
###   /Library/Frameworks/R.framework/Resources/bin/R CMD INSTALL tidyFlowCore
###
##############################################################################
##############################################################################


* installing to library ‘/Library/Frameworks/R.framework/Versions/4.6-x86_64/Resources/library’
* installing *source* package ‘tidyFlowCore’ ...
** this is package ‘tidyFlowCore’ version ‘1.5.0’
** using staged installation
** R
** data
** inst
** byte-compile and prepare package for lazy loading
** help
*** installing help indices
*** copying figures
** building package indices
** installing vignettes
** testing if installed package can be loaded from temporary location
** testing if installed package can be loaded from final location
** testing if installed package keeps a record of temporary installation path
* DONE (tidyFlowCore)

Tests output

tidyFlowCore.Rcheck/tests/testthat.Rout


R Under development (unstable) (2025-10-21 r88958) -- "Unsuffered Consequences"
Copyright (C) 2025 The R Foundation for Statistical Computing
Platform: x86_64-apple-darwin20

R is free software and comes with ABSOLUTELY NO WARRANTY.
You are welcome to redistribute it under certain conditions.
Type 'license()' or 'licence()' for distribution details.

R is a collaborative project with many contributors.
Type 'contributors()' for more information and
'citation()' on how to cite R or R packages in publications.

Type 'demo()' for some demos, 'help()' for on-line help, or
'help.start()' for an HTML browser interface to help.
Type 'q()' to quit R.

> # This file is part of the standard setup for testthat.
> # It is recommended that you do not modify it.
> #
> # Where should you do additional test configuration?
> # Learn more about the roles of various files in:
> # * https://r-pkgs.org/testing-design.html#sec-tests-files-overview
> # * https://testthat.r-lib.org/articles/special-files.html
> 
> library(testthat)
> library(tidyFlowCore)
> 
> test_check("tidyFlowCore")

Attaching package: 'dplyr'

The following objects are masked from 'package:stats':

    filter, lag

The following objects are masked from 'package:base':

    intersect, setdiff, setequal, union

[ FAIL 0 | WARN 0 | SKIP 0 | PASS 104 ]
> 
> proc.time()
   user  system elapsed 
 14.583   0.772  15.579 

Example timings

tidyFlowCore.Rcheck/tidyFlowCore-Ex.timings

nameusersystemelapsed
arrange.flowFrame0.2790.0140.296
arrange.flowSet0.6830.0270.718
as_flowFrame0.0000.0000.001
as_flowSet0.0000.0000.001
as_tof_tbl0.0310.0050.037
count.flowFrame0.3370.0360.378
count.flowSet0.1940.0090.206
filter.flowFrame0.1780.0080.189
filter.flowSet0.4440.0130.463
ggplot.flowFrame0.1680.0090.179
ggplot.flowSet0.1600.0070.170
group_by.flowFrame0.3980.0170.451
make_flowcore_annotated_data_frame000
mutate.flowFrame0.3390.0150.358
mutate.flowSet0.4260.0120.443
nest.flowFrame0.3870.0160.409
pull.flowFrame0.1160.0070.126
pull.flowSet0.1180.0090.129
reexports000
rename.flowFrame0.1730.0070.183
rename.flowSet0.4200.0130.438
rename_with.flowFrame0.1640.0070.173
rename_with.flowSet0.4250.0140.443
select.flowFrame0.1790.0080.189
select.flowSet0.4140.0130.432
simulate_cytometry_data0.1140.0070.122
slice.flowFrame0.1720.0080.182
slice.flowSet0.4340.0130.452
slice_head.flowFrame0.1810.0070.191
slice_head.flowSet0.4520.0140.483
slice_max.flowFrame0.1600.0070.171
slice_max.flowSet0.4380.0130.457
slice_min.flowFrame0.1730.0070.183
slice_min.flowSet0.4320.0130.449
slice_sample.flowFrame0.1810.0080.193
slice_sample.flowSet0.4290.0120.446
slice_tail.flowFrame0.1700.0070.180
slice_tail.flowSet0.4250.0110.441
summarise.flowFrame0.1230.0060.131
summarise.flowSet0.1910.0060.200
summarize.flowFrame0.1800.0060.189
summarize.flowSet0.2030.0060.213
tof_get_panel000
tof_set_panel0.0000.0010.000
transmute.flowFrame0.1760.0150.193
transmute.flowSet0.4440.0150.466
ungroup.flowSet0.2150.0080.225
unnest.flowSet0.3910.0130.409