--- experimental! ---
GPU-enabled build/check report for BioC 3.23
Report updated every 6 hours

This page was generated on 2025-11-20 13:45 -0500 (Thu, 20 Nov 2025).

Approx. Package Snapshot Date/Time (git pull): 2025-11-20 10:00 -0500 (Thu, 20 Nov 2025)
See this page for all the Bioconductor builds and their schedule.

HostnameOSArch (*)R versionInstalled pkgs
biocgpuLinux (Ubuntu 24.04.2 LTS)x86_64R Under development (unstable) (2025-11-17 r89032) -- "Unsuffered Consequences" 276
kakapo1Linux (Ubuntu 24.04.3 LTS)x86_64R Under development (unstable) (2025-10-31 r88977) -- "Unsuffered Consequences" 263
Click on any hostname to see more info about the system (e.g. compilers)      (*) as reported by 'uname -p', except on Windows and Mac OS X

Package status is indicated by one of the following glyphs
  TIMEOUT  
INSTALL, BUILD or CHECK of package took more than 40 minutes
  ERROR  
Bad DESCRIPTION file, or INSTALL or BUILD of package failed, or CHECK produced errors
  WARNINGS  
CHECK of package produced warnings
  OK  
INSTALL, BUILD or CHECK of package went OK
  NA  
INSTALL, BUILD or CHECK result is not available because of an anomaly in the Build System
skipped
CHECK of package was skipped because the BUILD step failed
Click on any glyph in the report below to access the detailed report.
Package propagation status is indicated by one of the following LEDs
YES YES: Package was propagated because it didn't previously exist or version was bumped
NO NO: Package was not propagated because of a problem (impossible dependencies, or version lower than what is already propagated)
UNNEEDED UNNEEDED: Package was not propagated because it is already in the repository with this version. A version bump is required in order to propagate it

A crossed-out package name indicates that the package is deprecated


QUICK STATSOS / ArchINSTALLBUILDCHECK
biocgpuLinux (Ubuntu 24.04.2 LTS) / x86_64
003
003
0003
kakapo1Linux (Ubuntu 24.04.3 LTS) / x86_64
003
012
0002
Package 1/3HostnameOS / ArchINSTALLBUILDCHECK
orthos 1.9.0  (landing page)
Panagiotis Papasaikas
git_last_commit: dc6b128
git_last_commit_date: 2025-10-29 11:24:17 -0500
biocgpuLinux (Ubuntu 24.04.2 LTS) / x86_64  OK    OK    OK  UNNEEDED, same version is already published
kakapo1Linux (Ubuntu 24.04.3 LTS) / x86_64  OK    ERROR  skipped
Package 2/3HostnameOS / ArchINSTALLBUILDCHECK
RbowtieCuda 1.3.0  (landing page)
Franck RICHARD
git_last_commit: fb8220d
git_last_commit_date: 2025-10-29 11:35:43 -0500
biocgpuLinux (Ubuntu 24.04.2 LTS) / x86_64  OK    OK    OK  YES
kakapo1Linux (Ubuntu 24.04.3 LTS) / x86_64  OK    OK    OK  
Package 3/3HostnameOS / ArchINSTALLBUILDCHECK
scviR 1.11.0  (landing page)
Vincent Carey
git_last_commit: 4329942
git_last_commit_date: 2025-10-29 11:21:42 -0500
biocgpuLinux (Ubuntu 24.04.2 LTS) / x86_64  OK    OK    OK  UNNEEDED, same version is already published
kakapo1Linux (Ubuntu 24.04.3 LTS) / x86_64  OK    OK    OK