| Back to --- experimental! --- GPU-enabled build/check report for BioC 3.22 Report updated every 6 hours | 
This page was generated on 2025-10-30 14:30 -0400 (Thu, 30 Oct 2025).
| Hostname | OS | Arch (*) | R version | Installed pkgs | 
|---|---|---|---|---|
| biocgpu | Linux (Ubuntu 24.04.2 LTS) | x86_64 | 4.5.1 Patched (2025-08-23 r88803) -- "Great Square Root" | 283 | 
| amarone | Linux (Ubuntu 24.04.3 LTS) | x86_64 | 4.5.1 Patched (2025-09-10 r88813) -- "Great Square Root" | 284 | 
| Click on any hostname to see more info about the system (e.g. compilers) (*) as reported by 'uname -p', except on Windows and Mac OS X | ||||
| Package 1/3 | Hostname | OS / Arch | INSTALL | BUILD | CHECK | ||||||||
| orthos 1.8.0  (landing page) Panagiotis Papasaikas 
 | biocgpu | Linux (Ubuntu 24.04.2 LTS) / x86_64 | OK | OK | NA | ||||||||
| amarone | Linux (Ubuntu 24.04.3 LTS) / x86_64 | OK | OK | OK | |||||||||
| To the developers/maintainers of the orthos package: - Use the following Renviron settings to reproduce errors and warnings. - If 'R CMD check' started to fail recently on the Linux builder(s) over a missing dependency, add the missing dependency to 'Suggests:' in your DESCRIPTION file. See Renviron.bioc for more information. | 
| Package: orthos | 
| Version: 1.8.0 | 
| Command: /home/biocbuild/bbs-3.22-bioc-gpu/R/bin/R CMD build --keep-empty-dirs --no-resave-data orthos | 
| StartedAt: 2025-10-30 14:07:21 -0400 (Thu, 30 Oct 2025) | 
| EndedAt: 2025-10-30 14:09:57 -0400 (Thu, 30 Oct 2025) | 
| EllapsedTime: 155.0 seconds | 
| RetCode: 0 | 
| Status: OK | 
| PackageFile: orthos_1.8.0.tar.gz | 
| PackageFileSize: 2.872 MiB | 
############################################################################## ############################################################################## ### ### Running command: ### ### /home/biocbuild/bbs-3.22-bioc-gpu/R/bin/R CMD build --keep-empty-dirs --no-resave-data orthos ### ############################################################################## ############################################################################## * checking for file ‘orthos/DESCRIPTION’ ... OK * preparing ‘orthos’: * checking DESCRIPTION meta-information ... OK * installing the package to build vignettes * creating vignettes ... OK * checking for LF line-endings in source and make files and shell scripts * checking for empty or unneeded directories Omitted ‘LazyData’ from DESCRIPTION * building ‘orthos_1.8.0.tar.gz’