| Back to Rapid builds (Linux only) of a subset of BioC 3.23 Report updated every 6 hours |
This page was generated on 2025-11-02 09:42 -0500 (Sun, 02 Nov 2025).
| Hostname | OS | Arch (*) | R version | Installed pkgs |
|---|---|---|---|---|
| teran2 | Linux (Ubuntu 24.04.3 LTS) | x86_64 | R Under development (unstable) (2025-10-28 r88973) -- "Unsuffered Consequences" | 917 |
| Click on any hostname to see more info about the system (e.g. compilers) (*) as reported by 'uname -p', except on Windows and Mac OS X | ||||
| Package 93/230 | Hostname | OS / Arch | INSTALL | BUILD | CHECK | |||||||
| flowWorkspace 4.23.0 (landing page) Greg Finak
| teran2 | Linux (Ubuntu 24.04.3 LTS) / x86_64 | OK | OK | WARNINGS | |||||||
|
To the developers/maintainers of the flowWorkspace package: - Use the following Renviron settings to reproduce errors and warnings. - If 'R CMD check' started to fail recently on the Linux builder(s) over a missing dependency, add the missing dependency to 'Suggests:' in your DESCRIPTION file. See Renviron.bioc for more information. |
| Package: flowWorkspace |
| Version: 4.23.0 |
| Command: /home/rapidbuild/bbs-3.23-bioc-rapid/R/bin/R CMD build --keep-empty-dirs --no-resave-data flowWorkspace |
| StartedAt: 2025-11-02 06:46:53 -0500 (Sun, 02 Nov 2025) |
| EndedAt: 2025-11-02 06:49:00 -0500 (Sun, 02 Nov 2025) |
| EllapsedTime: 127.2 seconds |
| RetCode: 0 |
| Status: OK |
| PackageFile: flowWorkspace_4.23.0.tar.gz |
| PackageFileSize: 5.081 MiB |
##############################################################################
##############################################################################
###
### Running command:
###
### /home/rapidbuild/bbs-3.23-bioc-rapid/R/bin/R CMD build --keep-empty-dirs --no-resave-data flowWorkspace
###
##############################################################################
##############################################################################
* checking for file ‘flowWorkspace/DESCRIPTION’ ... OK
* preparing ‘flowWorkspace’:
* checking DESCRIPTION meta-information ... OK
* cleaning src
* installing the package (it is needed to build vignettes)
* creating vignettes ... OK
* cleaning src
* checking for LF line-endings in source and make files and shell scripts
* checking for empty or unneeded directories
WARNING: Removing directory ‘flowWorkspace/Meta’ which should only
occur in an installed package
NB: this package now depends on R (>= 3.5.0)
WARNING: Added dependency on R >= 3.5.0 because serialized objects in
serialize/load version 3 cannot be read in older versions of R.
File(s) containing such objects:
‘flowWorkspace/tests/testthat/expect_result/empty_pop.rds’
* building ‘flowWorkspace_4.23.0.tar.gz’