| Back to Build/check report for BioC 3.22 annotations | 
 | 
This page was generated on 2025-10-29 06:45 -0400 (Wed, 29 Oct 2025).
| Hostname | OS | Arch (*) | R version | Installed pkgs | 
|---|---|---|---|---|
| nebbiolo2 | Linux (Ubuntu 24.04.3 LTS) | x86_64 | 4.5.1 Patched (2025-08-23 r88802) -- "Great Square Root" | 4901 | 
| Click on any hostname to see more info about the system (e.g. compilers) (*) as reported by 'uname -p', except on Windows and Mac OS X | ||||
| Package 20/49 | Hostname | OS / Arch | INSTALL | BUILD | CHECK | ||||||||
| EpiTxDb.Hs.hg38 0.99.7  (landing page) Felix G.M. Ernst 
 | nebbiolo2 | Linux (Ubuntu 24.04.3 LTS) / x86_64 | OK | OK | OK |  | |||||||
| To the developers/maintainers of the EpiTxDb.Hs.hg38 package: - Use the following Renviron settings to reproduce errors and warnings. - If 'R CMD check' started to fail recently on the Linux builder(s) over a missing dependency, add the missing dependency to 'Suggests:' in your DESCRIPTION file. See Renviron.bioc for more information. | 
| Package: EpiTxDb.Hs.hg38 | 
| Version: 0.99.7 | 
| Command: /home/biocbuild/bbs-3.22-bioc/R/bin/R CMD build --keep-empty-dirs --no-resave-data EpiTxDb.Hs.hg38 | 
| StartedAt: 2025-10-29 05:56:20 -0400 (Wed, 29 Oct 2025) | 
| EndedAt: 2025-10-29 05:57:27 -0400 (Wed, 29 Oct 2025) | 
| EllapsedTime: 67.2 seconds | 
| RetCode: 0 | 
| Status: OK | 
| PackageFile: EpiTxDb.Hs.hg38_0.99.7.tar.gz | 
| PackageFileSize: 316.6 KiB | 
############################################################################## ############################################################################## ### ### Running command: ### ### /home/biocbuild/bbs-3.22-bioc/R/bin/R CMD build --keep-empty-dirs --no-resave-data EpiTxDb.Hs.hg38 ### ############################################################################## ############################################################################## * checking for file ‘EpiTxDb.Hs.hg38/DESCRIPTION’ ... OK * preparing ‘EpiTxDb.Hs.hg38’: * checking DESCRIPTION meta-information ... OK * installing the package to build vignettes * creating vignettes ... OK * checking for LF line-endings in source and make files and shell scripts * checking for empty or unneeded directories Omitted ‘LazyData’ from DESCRIPTION * building ‘EpiTxDb.Hs.hg38_0.99.7.tar.gz’