Back to Build/check report for BioC 3.22 experimental data
ABCDEF[G]HIJKLMNOPQRSTUVWXYZ

This page was generated on 2025-10-23 15:41 -0400 (Thu, 23 Oct 2025).

HostnameOSArch (*)R versionInstalled pkgs
nebbiolo2Linux (Ubuntu 24.04.3 LTS)x86_644.5.1 Patched (2025-08-23 r88802) -- "Great Square Root" 4894
Click on any hostname to see more info about the system (e.g. compilers)      (*) as reported by 'uname -p', except on Windows and Mac OS X

Package 150/435HostnameOS / ArchINSTALLBUILDCHECK
geneLenDataBase 1.45.0  (landing page)
Federico Marini
Snapshot Date: 2025-10-23 07:30 -0400 (Thu, 23 Oct 2025)
git_url: https://git.bioconductor.org/packages/geneLenDataBase
git_branch: devel
git_last_commit: 109b234
git_last_commit_date: 2025-04-15 09:16:59 -0400 (Tue, 15 Apr 2025)
nebbiolo2Linux (Ubuntu 24.04.3 LTS) / x86_64  OK    OK    OK  UNNEEDED, same version is already published


CHECK results for geneLenDataBase on nebbiolo2

To the developers/maintainers of the geneLenDataBase package:
- Use the following Renviron settings to reproduce errors and warnings.
- If 'R CMD check' started to fail recently on the Linux builder(s) over a missing dependency, add the missing dependency to 'Suggests:' in your DESCRIPTION file. See Renviron.bioc for more information.

raw results


Summary

Package: geneLenDataBase
Version: 1.45.0
Command: /home/biocbuild/bbs-3.22-bioc/R/bin/R CMD check --install=check:geneLenDataBase.install-out.txt --library=/home/biocbuild/bbs-3.22-bioc/R/site-library --timings geneLenDataBase_1.45.0.tar.gz
StartedAt: 2025-10-23 12:25:12 -0400 (Thu, 23 Oct 2025)
EndedAt: 2025-10-23 12:34:52 -0400 (Thu, 23 Oct 2025)
EllapsedTime: 580.0 seconds
RetCode: 0
Status:   OK  
CheckDir: geneLenDataBase.Rcheck
Warnings: 0

Command output

##############################################################################
##############################################################################
###
### Running command:
###
###   /home/biocbuild/bbs-3.22-bioc/R/bin/R CMD check --install=check:geneLenDataBase.install-out.txt --library=/home/biocbuild/bbs-3.22-bioc/R/site-library --timings geneLenDataBase_1.45.0.tar.gz
###
##############################################################################
##############################################################################


* using log directory ‘/home/biocbuild/bbs-3.22-data-experiment/meat/geneLenDataBase.Rcheck’
* using R version 4.5.1 Patched (2025-08-23 r88802)
* using platform: x86_64-pc-linux-gnu
* R was compiled by
    gcc (Ubuntu 13.3.0-6ubuntu2~24.04) 13.3.0
    GNU Fortran (Ubuntu 13.3.0-6ubuntu2~24.04) 13.3.0
* running under: Ubuntu 24.04.3 LTS
* using session charset: UTF-8
* checking for file ‘geneLenDataBase/DESCRIPTION’ ... OK
* this is package ‘geneLenDataBase’ version ‘1.45.0’
* package encoding: UTF-8
* checking package namespace information ... OK
* checking package dependencies ... OK
* checking if this is a source package ... OK
* checking if there is a namespace ... OK
* checking for hidden files and directories ... OK
* checking for portable file names ... OK
* checking for sufficient/correct file permissions ... OK
* checking whether package ‘geneLenDataBase’ can be installed ... OK
* checking installed package size ... INFO
  installed size is 100.3Mb
  sub-directories of 1Mb or more:
    data  99.7Mb
* checking package directory ... OK
* checking DESCRIPTION meta-information ... OK
* checking top-level files ... OK
* checking for left-over files ... OK
* checking index information ... OK
* checking package subdirectories ... OK
* checking code files for non-ASCII characters ... OK
* checking R files for syntax errors ... OK
* checking whether the package can be loaded ... OK
* checking whether the package can be loaded with stated dependencies ... OK
* checking whether the package can be unloaded cleanly ... OK
* checking whether the namespace can be loaded with stated dependencies ... OK
* checking whether the namespace can be unloaded cleanly ... OK
* checking loading without being on the library search path ... OK
* checking dependencies in R code ... NOTE
Unexported object imported by a ':::' call: ‘txdbmaker:::.UCSC_TXNAME2GENEID_MAPDEFS’
  See the note in ?`:::` about the use of this operator.
* checking S3 generic/method consistency ... OK
* checking replacement functions ... OK
* checking foreign function calls ... OK
* checking R code for possible problems ... OK
* checking Rd files ... OK
* checking Rd metadata ... OK
* checking Rd cross-references ... OK
* checking for missing documentation entries ... OK
* checking for code/documentation mismatches ... OK
* checking Rd \usage sections ... OK
* checking Rd contents ... OK
* checking for unstated dependencies in examples ... OK
* checking contents of ‘data’ directory ... OK
* checking data for non-ASCII characters ... OK
* checking data for ASCII and uncompressed saves ... OK
* checking examples ... OK
Examples with CPU (user + system) or elapsed time > 5s
                  user system elapsed
supportedGeneIDs 3.328   0.53   6.113
* checking PDF version of manual ... OK
* DONE

Status: 1 NOTE
See
  ‘/home/biocbuild/bbs-3.22-data-experiment/meat/geneLenDataBase.Rcheck/00check.log’
for details.


Installation output

geneLenDataBase.Rcheck/00install.out

##############################################################################
##############################################################################
###
### Running command:
###
###   /home/biocbuild/bbs-3.22-bioc/R/bin/R CMD INSTALL geneLenDataBase
###
##############################################################################
##############################################################################


* installing to library ‘/home/biocbuild/bbs-3.22-bioc/R/site-library’
* installing *source* package ‘geneLenDataBase’ ...
** this is package ‘geneLenDataBase’ version ‘1.45.0’
** using staged installation
** R
** data
** byte-compile and prepare package for lazy loading
** help
*** installing help indices
** building package indices
** testing if installed package can be loaded from temporary location
** testing if installed package can be loaded from final location
** testing if installed package keeps a record of temporary installation path
* DONE (geneLenDataBase)

Tests output


Example timings

geneLenDataBase.Rcheck/geneLenDataBase-Ex.timings

nameusersystemelapsed
anoCar1.ensGene.LENGTH0.0810.0080.089
anoCar1.genscan.LENGTH0.0510.0000.051
anoCar1.xenoRefGene.LENGTH1.0130.0041.017
anoGam1.ensGene.LENGTH0.0730.0000.074
anoGam1.geneid.LENGTH0.0490.0000.049
anoGam1.genscan.LENGTH0.0430.0020.045
apiMel1.genscan.LENGTH0.0410.0000.041
apiMel2.ensGene.LENGTH0.1050.0010.106
apiMel2.geneid.LENGTH0.1480.0020.150
apiMel2.genscan.LENGTH0.0330.0010.033
aplCal1.xenoRefGene.LENGTH0.5530.0020.555
bosTau2.geneSymbol.LENGTH0.0440.0010.044
bosTau2.geneid.LENGTH0.2640.0130.277
bosTau2.genscan.LENGTH0.0930.0040.097
bosTau2.refGene.LENGTH0.0440.0030.047
bosTau2.sgpGene.LENGTH0.1180.0010.119
bosTau3.ensGene.LENGTH0.1510.0030.154
bosTau3.geneSymbol.LENGTH0.0410.0010.042
bosTau3.geneid.LENGTH0.1700.0230.193
bosTau3.genscan.LENGTH0.070.000.07
bosTau3.refGene.LENGTH0.0370.0000.037
bosTau3.sgpGene.LENGTH0.0940.0000.093
bosTau4.ensGene.LENGTH0.1140.0000.114
bosTau4.geneSymbol.LENGTH0.0330.0000.033
bosTau4.genscan.LENGTH0.0670.0010.068
bosTau4.nscanGene.LENGTH0.0290.0000.030
bosTau4.refGene.LENGTH0.0310.0000.031
braFlo1.xenoRefGene.LENGTH0.4850.0020.487
caeJap1.xenoRefGene.LENGTH0.4650.0010.466
caePb1.xenoRefGene.LENGTH0.570.000.57
caePb2.xenoRefGene.LENGTH0.5040.0010.505
caeRem2.xenoRefGene.LENGTH0.4610.0120.472
caeRem3.xenoRefGene.LENGTH0.4320.0000.432
calJac1.genscan.LENGTH0.0920.0000.092
calJac1.nscanGene.LENGTH0.1170.0010.119
calJac1.xenoRefGene.LENGTH1.0650.0041.069
canFam1.ensGene.LENGTH0.1240.0000.124
canFam1.geneSymbol.LENGTH0.0040.0010.005
canFam1.genscan.LENGTH0.0670.0000.068
canFam1.nscanGene.LENGTH0.0670.0000.067
canFam1.refGene.LENGTH0.0050.0000.006
canFam1.xenoRefGene.LENGTH0.7020.0020.705
canFam2.ensGene.LENGTH0.1140.0000.114
canFam2.geneSymbol.LENGTH0.0060.0000.006
canFam2.genscan.LENGTH0.060.000.06
canFam2.nscanGene.LENGTH0.0640.0010.065
canFam2.refGene.LENGTH0.0040.0010.005
canFam2.xenoRefGene.LENGTH0.7730.0020.775
cavPor3.ensGene.LENGTH0.3320.0040.336
cavPor3.genscan.LENGTH0.0950.0000.095
cavPor3.nscanGene.LENGTH0.0640.0000.065
cavPor3.xenoRefGene.LENGTH0.6260.0010.628
cb1.xenoRefGene.LENGTH0.4910.0040.495
cb3.xenoRefGene.LENGTH0.4440.0010.447
ce2.geneSymbol.LENGTH0.0730.0010.074
ce2.geneid.LENGTH0.0630.0010.065
ce2.refGene.LENGTH0.0750.0000.076
ce4.geneSymbol.LENGTH0.0750.0000.075
ce4.refGene.LENGTH0.0670.0000.068
ce4.xenoRefGene.LENGTH0.0900.0000.089
ce6.ensGene.LENGTH0.1030.0020.105
ce6.geneSymbol.LENGTH0.0720.0000.071
ce6.refGene.LENGTH0.0690.0000.068
ce6.xenoRefGene.LENGTH0.0880.0000.088
ci1.geneSymbol.LENGTH0.0050.0010.005
ci1.refGene.LENGTH0.0050.0000.004
ci1.xenoRefGene.LENGTH0.2200.0020.223
ci2.ensGene.LENGTH0.0900.0010.090
ci2.geneSymbol.LENGTH0.0060.0000.005
ci2.refGene.LENGTH0.0030.0010.005
ci2.xenoRefGene.LENGTH1.1910.1151.307
danRer3.ensGene.LENGTH0.1070.0000.108
danRer3.geneSymbol.LENGTH0.0560.0010.056
danRer3.refGene.LENGTH0.0510.0010.051
danRer4.ensGene.LENGTH0.1590.0000.159
danRer4.geneSymbol.LENGTH0.0550.0100.064
danRer4.genscan.LENGTH0.0570.0020.058
danRer4.nscanGene.LENGTH0.0920.0010.093
danRer4.refGene.LENGTH0.0510.0010.052
danRer5.ensGene.LENGTH0.1400.0010.141
danRer5.geneSymbol.LENGTH0.0480.0020.050
danRer5.refGene.LENGTH0.0460.0000.046
danRer5.vegaGene.LENGTH0.0480.0000.049
danRer5.vegaPseudoGene.LENGTH0.0030.0000.003
danRer6.ensGene.LENGTH0.1290.0000.128
danRer6.geneSymbol.LENGTH0.050.000.05
danRer6.refGene.LENGTH0.0470.0010.049
danRer6.xenoRefGene.LENGTH0.6000.0000.601
dm1.geneSymbol.LENGTH0.0620.0000.063
dm1.genscan.LENGTH0.0220.0010.023
dm1.refGene.LENGTH0.0560.0000.057
dm2.geneSymbol.LENGTH0.0620.0000.061
dm2.geneid.LENGTH0.0330.0020.034
dm2.genscan.LENGTH0.0220.0010.022
dm2.nscanGene.LENGTH0.0500.0000.049
dm2.refGene.LENGTH0.0560.0010.056
dm3.geneSymbol.LENGTH0.0730.0010.073
dm3.nscanPasaGene.LENGTH0.0540.0000.054
dm3.refGene.LENGTH0.0650.0000.065
downloadLengthFromUCSC000
dp2.genscan.LENGTH0.0310.0010.032
dp2.xenoRefGene.LENGTH0.2160.0000.217
dp3.geneid.LENGTH0.0380.0000.038
dp3.genscan.LENGTH0.0240.0010.025
dp3.xenoRefGene.LENGTH0.1140.0010.115
droAna1.geneid.LENGTH0.0670.0020.069
droAna1.genscan.LENGTH0.0210.0000.022
droAna1.xenoRefGene.LENGTH0.1960.0000.197
droAna2.genscan.LENGTH0.0510.0000.050
droAna2.xenoRefGene.LENGTH0.2860.0010.287
droEre1.genscan.LENGTH0.0270.0010.028
droEre1.xenoRefGene.LENGTH0.2690.0000.269
droGri1.genscan.LENGTH0.0380.0000.037
droGri1.xenoRefGene.LENGTH0.3110.0010.312
droMoj1.geneid.LENGTH0.1420.0110.153
droMoj1.genscan.LENGTH0.0560.0030.059
droMoj1.xenoRefGene.LENGTH0.2220.0010.224
droMoj2.genscan.LENGTH0.0350.0010.036
droMoj2.xenoRefGene.LENGTH0.3160.0000.316
droPer1.genscan.LENGTH0.0390.0010.040
droPer1.xenoRefGene.LENGTH0.3180.0010.320
droSec1.genscan.LENGTH0.0280.0000.029
droSec1.xenoRefGene.LENGTH0.2710.0020.273
droSim1.geneid.LENGTH0.0350.0010.036
droSim1.genscan.LENGTH0.0250.0010.025
droSim1.xenoRefGene.LENGTH0.3890.0020.391
droVir1.geneid.LENGTH0.1050.0010.107
droVir1.genscan.LENGTH0.0420.0000.042
droVir1.xenoRefGene.LENGTH0.2320.0010.233
droVir2.genscan.LENGTH0.0340.0000.034
droVir2.xenoRefGene.LENGTH0.2680.0010.269
droYak1.geneid.LENGTH0.0480.0000.047
droYak1.genscan.LENGTH0.0290.0000.029
droYak1.xenoRefGene.LENGTH0.2490.0000.250
droYak2.genscan.LENGTH0.0270.0000.027
droYak2.xenoRefGene.LENGTH0.2720.0000.271
equCab1.geneSymbol.LENGTH0.0040.0010.005
equCab1.geneid.LENGTH0.0880.0000.087
equCab1.nscanGene.LENGTH0.0400.0010.041
equCab1.refGene.LENGTH0.0040.0000.004
equCab1.sgpGene.LENGTH0.0650.0010.066
equCab2.ensGene.LENGTH0.1020.0000.102
equCab2.geneSymbol.LENGTH0.0050.0010.006
equCab2.nscanGene.LENGTH0.0510.0000.051
equCab2.refGene.LENGTH0.0070.0000.006
equCab2.xenoRefGene.LENGTH0.6390.0220.661
felCat3.ensGene.LENGTH0.1130.0020.114
felCat3.geneSymbol.LENGTH0.0040.0000.004
felCat3.geneid.LENGTH0.5280.0060.534
felCat3.genscan.LENGTH0.1210.0010.122
felCat3.nscanGene.LENGTH0.3680.0070.376
felCat3.refGene.LENGTH0.0030.0020.005
felCat3.sgpGene.LENGTH0.1780.0020.180
felCat3.xenoRefGene.LENGTH1.6240.0051.631
fr1.ensGene.LENGTH0.0940.0030.097
fr1.genscan.LENGTH0.0710.0010.073
fr2.ensGene.LENGTH0.9080.0150.923
galGal2.ensGene.LENGTH0.0550.0020.056
galGal2.geneSymbol.LENGTH0.0170.0000.016
galGal2.geneid.LENGTH0.0380.0000.038
galGal2.genscan.LENGTH0.0500.0010.050
galGal2.refGene.LENGTH0.0160.0000.016
galGal2.sgpGene.LENGTH0.0460.0010.047
galGal3.ensGene.LENGTH0.0740.0000.074
galGal3.geneSymbol.LENGTH0.0160.0000.016
galGal3.genscan.LENGTH0.0490.0010.050
galGal3.nscanGene.LENGTH0.0710.0020.073
galGal3.refGene.LENGTH0.0130.0020.015
galGal3.xenoRefGene.LENGTH0.4770.0020.479
gasAcu1.ensGene.LENGTH0.0880.0010.090
gasAcu1.nscanGene.LENGTH0.0890.0000.090
hg16.acembly.LENGTH0.3520.0030.355
hg16.ensGene.LENGTH0.0690.0000.069
hg16.exoniphy.LENGTH0.2330.0010.235
hg16.geneSymbol.LENGTH0.1060.0010.106
hg16.geneid.LENGTH0.0520.0000.052
hg16.genscan.LENGTH0.0620.0000.062
hg16.knownGene.LENGTH0.1190.0020.121
hg16.refGene.LENGTH0.10.00.1
hg16.sgpGene.LENGTH0.0580.0020.060
hg17.acembly.LENGTH0.4100.0170.427
hg17.acescan.LENGTH0.0120.0000.011
hg17.ccdsGene.LENGTH0.0230.0010.024
hg17.ensGene.LENGTH0.1070.0000.108
hg17.exoniphy.LENGTH0.3910.0020.393
hg17.geneSymbol.LENGTH0.1010.0030.103
hg17.geneid.LENGTH0.0790.0020.081
hg17.genscan.LENGTH0.0590.0000.058
hg17.knownGene.LENGTH0.1070.0020.109
hg17.refGene.LENGTH0.1020.0040.107
hg17.sgpGene.LENGTH0.0760.0060.082
hg17.vegaGene.LENGTH0.0400.0050.045
hg17.vegaPseudoGene.LENGTH0.0190.0010.020
hg17.xenoRefGene.LENGTH0.5430.1260.669
hg18.acembly.LENGTH0.4290.0130.443
hg18.acescan.LENGTH0.0080.0030.011
hg18.ccdsGene.LENGTH0.0330.0010.034
hg18.ensGene.LENGTH0.1840.0030.187
hg18.exoniphy.LENGTH0.4790.0120.491
hg18.geneSymbol.LENGTH0.1270.0010.128
hg18.geneid.LENGTH0.0840.0040.087
hg18.genscan.LENGTH0.0640.0020.066
hg18.knownGene.LENGTH0.1810.0050.187
hg18.knownGeneOld3.LENGTH0.0790.0010.080
hg18.refGene.LENGTH0.1030.0000.103
hg18.sgpGene.LENGTH0.0810.0010.081
hg18.sibGene.LENGTH0.8730.0440.917
hg18.xenoRefGene.LENGTH0.3620.0770.439
hg19.ccdsGene.LENGTH0.0380.0110.048
hg19.ensGene.LENGTH0.2830.0240.307
hg19.exoniphy.LENGTH0.4180.0140.433
hg19.geneSymbol.LENGTH0.0990.0020.102
hg19.knownGene.LENGTH0.1620.0090.169
hg19.nscanGene.LENGTH0.1460.0050.152
hg19.refGene.LENGTH0.0950.0020.097
hg19.xenoRefGene.LENGTH0.3520.0040.356
loxAfr3.xenoRefGene.LENGTH0.7560.0300.787
mm7.ensGene.LENGTH0.1180.0130.131
mm7.geneSymbol.LENGTH0.0870.0020.089
mm7.geneid.LENGTH0.0800.0030.083
mm7.genscan.LENGTH0.0660.0000.067
mm7.knownGene.LENGTH0.0920.0030.095
mm7.refGene.LENGTH0.0840.0000.084
mm7.sgpGene.LENGTH0.0750.0010.077
mm7.xenoRefGene.LENGTH0.3040.0040.308
mm8.ccdsGene.LENGTH0.0220.0010.023
mm8.ensGene.LENGTH0.0740.0030.077
mm8.geneSymbol.LENGTH0.0850.0030.088
mm8.geneid.LENGTH0.0760.0020.077
mm8.genscan.LENGTH0.0620.0020.063
mm8.knownGene.LENGTH0.0910.0020.093
mm8.nscanGene.LENGTH0.0650.0010.066
mm8.refGene.LENGTH0.3340.0180.352
mm8.sgpGene.LENGTH0.0730.0010.075
mm8.sibGene.LENGTH0.2530.0020.257
mm8.xenoRefGene.LENGTH0.3420.0000.341
mm9.acembly.LENGTH0.3130.0110.324
mm9.ccdsGene.LENGTH0.0310.0020.034
mm9.ensGene.LENGTH0.1560.0060.162
mm9.exoniphy.LENGTH0.4340.0060.440
mm9.geneSymbol.LENGTH0.0880.0020.091
mm9.geneid.LENGTH0.0850.0020.087
mm9.genscan.LENGTH0.0660.0030.068
mm9.knownGene.LENGTH0.1130.0500.163
mm9.nscanGene.LENGTH0.0660.0090.075
mm9.refGene.LENGTH0.0880.0010.089
mm9.sgpGene.LENGTH0.0850.0020.086
mm9.xenoRefGene.LENGTH0.7250.0070.732
monDom1.genscan.LENGTH0.0620.0010.063
monDom4.ensGene.LENGTH0.0690.0000.069
monDom4.geneSymbol.LENGTH0.0040.0000.003
monDom4.genscan.LENGTH0.0540.0000.054
monDom4.nscanGene.LENGTH0.0530.0010.054
monDom4.refGene.LENGTH0.0030.0010.003
monDom4.xenoRefGene.LENGTH0.3220.0020.323
monDom5.ensGene.LENGTH0.1040.0000.105
monDom5.geneSymbol.LENGTH0.0040.0000.004
monDom5.genscan.LENGTH0.0540.0000.055
monDom5.nscanGene.LENGTH0.1050.0030.108
monDom5.refGene.LENGTH0.0030.0010.003
monDom5.xenoRefGene.LENGTH0.5790.0050.585
ornAna1.ensGene.LENGTH0.0940.0040.098
ornAna1.geneSymbol.LENGTH0.0020.0010.002
ornAna1.refGene.LENGTH0.0020.0010.002
ornAna1.xenoRefGene.LENGTH0.5390.0030.542
oryLat2.ensGene.LENGTH1.4020.2821.685
oryLat2.geneSymbol.LENGTH0.0040.0000.004
oryLat2.refGene.LENGTH0.0030.0000.004
oryLat2.xenoRefGene.LENGTH0.4400.0030.443
panTro1.ensGene.LENGTH0.0900.0010.090
panTro1.geneid.LENGTH0.0440.0010.044
panTro1.genscan.LENGTH0.0540.0010.054
panTro1.xenoRefGene.LENGTH0.1040.0010.105
panTro2.ensGene.LENGTH0.1050.0000.105
panTro2.geneSymbol.LENGTH0.0950.0000.094
panTro2.genscan.LENGTH0.0560.0000.057
panTro2.nscanGene.LENGTH0.0570.0000.058
panTro2.refGene.LENGTH0.0970.0000.097
panTro2.xenoRefGene.LENGTH0.4820.0100.493
petMar1.xenoRefGene.LENGTH0.2430.0000.244
ponAbe2.ensGene.LENGTH0.0760.0000.076
ponAbe2.geneSymbol.LENGTH0.0100.0010.012
ponAbe2.genscan.LENGTH0.0570.0010.058
ponAbe2.nscanGene.LENGTH0.0560.0000.056
ponAbe2.refGene.LENGTH0.0110.0000.011
ponAbe2.xenoRefGene.LENGTH0.5750.0020.578
priPac1.xenoRefGene.LENGTH0.3380.0020.340
rheMac2.ensGene.LENGTH0.1160.0020.117
rheMac2.geneSymbol.LENGTH0.0040.0010.005
rheMac2.geneid.LENGTH0.0650.0000.066
rheMac2.nscanGene.LENGTH0.0570.0000.057
rheMac2.refGene.LENGTH0.0040.0010.004
rheMac2.sgpGene.LENGTH0.0620.0020.063
rheMac2.xenoRefGene.LENGTH0.4190.0030.421
rn3.ensGene.LENGTH0.0900.0010.090
rn3.geneSymbol.LENGTH0.0490.0000.049
rn3.geneid.LENGTH0.0470.0110.057
rn3.genscan.LENGTH0.0590.0010.059
rn3.knownGene.LENGTH0.0230.0000.023
rn3.nscanGene.LENGTH0.0530.0020.055
rn3.refGene.LENGTH0.0440.0030.046
rn3.sgpGene.LENGTH0.0470.0040.052
rn3.xenoRefGene.LENGTH0.4710.0030.475
rn4.ensGene.LENGTH0.1180.0010.119
rn4.geneSymbol.LENGTH0.050.000.05
rn4.geneid.LENGTH0.0770.0020.079
rn4.genscan.LENGTH0.0580.0000.057
rn4.knownGene.LENGTH0.0220.0010.023
rn4.nscanGene.LENGTH0.0470.0010.047
rn4.refGene.LENGTH0.0440.0010.045
rn4.sgpGene.LENGTH0.0700.0010.071
rn4.xenoRefGene.LENGTH0.2860.0020.288
sacCer1.ensGene.LENGTH0.0160.0000.017
sacCer2.ensGene.LENGTH0.0150.0000.016
strPur1.geneSymbol.LENGTH0.0040.0000.004
strPur1.genscan.LENGTH0.0600.0010.061
strPur1.refGene.LENGTH0.0030.0000.005
strPur1.xenoRefGene.LENGTH0.4010.0050.406
strPur2.geneSymbol.LENGTH0.0030.0000.004
strPur2.genscan.LENGTH0.0970.0000.098
strPur2.refGene.LENGTH0.0030.0000.004
strPur2.xenoRefGene.LENGTH0.5660.0300.596
supportedGeneIDs3.3280.5306.113
supportedGenomes0.2680.0031.106
taeGut1.ensGene.LENGTH0.0570.0010.058
taeGut1.geneSymbol.LENGTH0.0020.0000.003
taeGut1.genscan.LENGTH0.0290.0000.029
taeGut1.nscanGene.LENGTH0.0210.0010.023
taeGut1.refGene.LENGTH0.0020.0000.003
taeGut1.xenoRefGene.LENGTH0.3880.0010.390
tetNig1.ensGene.LENGTH0.0800.0000.081
tetNig1.geneid.LENGTH0.0580.0000.059
tetNig1.genscan.LENGTH0.0450.0000.046
tetNig1.nscanGene.LENGTH0.0620.0000.063
tetNig2.ensGene.LENGTH0.0650.0000.066
unfactor0.0030.0000.004
xenTro1.genscan.LENGTH0.0760.0000.077
xenTro2.ensGene.LENGTH0.080.000.08
xenTro2.geneSymbol.LENGTH0.0290.0010.029
xenTro2.genscan.LENGTH0.0650.0020.066
xenTro2.refGene.LENGTH0.0280.0000.028