| Back to Workflows build report for BioC 3.23 |
This page was generated on 2025-10-31 10:55 -0400 (Fri, 31 Oct 2025).
| Hostname | OS | Arch (*) | R version | Installed pkgs |
|---|---|---|---|---|
| nebbiolo1 | Linux (Ubuntu 24.04.3 LTS) | x86_64 | R Under development (unstable) (2025-10-20 r88955) -- "Unsuffered Consequences" | 4474 |
| Click on any hostname to see more info about the system (e.g. compilers) (*) as reported by 'uname -p', except on Windows and Mac OS X | ||||
| Package 1/28 | Hostname | OS / Arch | INSTALL | BUILD | ||||||||
| annotation 1.35.0 (landing page) Bioconductor Package Maintainer
| nebbiolo1 | Linux (Ubuntu 24.04.3 LTS) / x86_64 | ERROR | ERROR | ||||||||
|
To the developers/maintainers of the annotation package: - Use the following Renviron settings to reproduce errors and warnings. - If 'R CMD check' started to fail recently on the Linux builder(s) over a missing dependency, add the missing dependency to 'Suggests:' in your DESCRIPTION file. See Renviron.bioc for more information. |
| Package: annotation |
| Version: 1.35.0 |
| Command: /home/biocbuild/bbs-3.23-bioc/R/bin/R CMD build --keep-empty-dirs --no-resave-data annotation |
| StartedAt: 2025-10-31 10:08:46 -0400 (Fri, 31 Oct 2025) |
| EndedAt: 2025-10-31 10:09:01 -0400 (Fri, 31 Oct 2025) |
| EllapsedTime: 15.0 seconds |
| RetCode: 1 |
| Status: ERROR |
| PackageFile: None |
| PackageFileSize: NA |
##############################################################################
##############################################################################
###
### Running command:
###
### /home/biocbuild/bbs-3.23-bioc/R/bin/R CMD build --keep-empty-dirs --no-resave-data annotation
###
##############################################################################
##############################################################################
* checking for file ‘annotation/DESCRIPTION’ ... OK
* preparing ‘annotation’:
* checking DESCRIPTION meta-information ... OK
* installing the package (it is needed to build vignettes)
-----------------------------------
* installing *source* package ‘annotation’ ...
** this is package ‘annotation’ version ‘1.35.0’
** using staged installation
** help
No man pages found in package ‘annotation’
*** installing help indices
** building package indices
** installing vignettes
** testing if installed package can be loaded from temporary location
Error: package or namespace load failed for ‘OrganismDbi’:
object ‘microRNAs’ is not exported by 'namespace:GenomicFeatures'
Error : package ‘OrganismDbi’ could not be loaded
Error: loading failed
Execution halted
ERROR: loading failed
* removing ‘/tmp/RtmpvYonaz/Rinst39ec662263db98/annotation’
-----------------------------------
ERROR: package installation failed