Back to Workflows build report for BioC 3.23

This page was generated on 2025-10-31 10:55 -0400 (Fri, 31 Oct 2025).

HostnameOSArch (*)R versionInstalled pkgs
nebbiolo1Linux (Ubuntu 24.04.3 LTS)x86_64R Under development (unstable) (2025-10-20 r88955) -- "Unsuffered Consequences" 4474
Click on any hostname to see more info about the system (e.g. compilers)      (*) as reported by 'uname -p', except on Windows and Mac OS X

Package 7/28HostnameOS / ArchINSTALLBUILD
cytofWorkflow 1.35.0  (landing page)
Mark D. Robinson
Snapshot Date: 2025-10-31 10:02 -0400 (Fri, 31 Oct 2025)
git_url: https://git.bioconductor.org/packages/cytofWorkflow
git_branch: devel
git_last_commit: 020485a
git_last_commit_date: 2025-10-29 09:46:33 -0400 (Wed, 29 Oct 2025)
nebbiolo1Linux (Ubuntu 24.04.3 LTS) / x86_64  OK    OK  NO, package depends on 'CATALYST' which is not available


BUILD results for cytofWorkflow on nebbiolo1

To the developers/maintainers of the cytofWorkflow package:
- Use the following Renviron settings to reproduce errors and warnings.
- If 'R CMD check' started to fail recently on the Linux builder(s) over a missing dependency, add the missing dependency to 'Suggests:' in your DESCRIPTION file. See Renviron.bioc for more information.

raw results


Summary

Package: cytofWorkflow
Version: 1.35.0
Command: /home/biocbuild/bbs-3.23-bioc/R/bin/R CMD build --keep-empty-dirs --no-resave-data cytofWorkflow
StartedAt: 2025-10-31 10:08:46 -0400 (Fri, 31 Oct 2025)
EndedAt: 2025-10-31 10:12:44 -0400 (Fri, 31 Oct 2025)
EllapsedTime: 238.2 seconds
RetCode: 0
Status:   OK  
PackageFile: cytofWorkflow_1.35.0.tar.gz
PackageFileSize: 6.575 MiB

Command output

##############################################################################
##############################################################################
###
### Running command:
###
###   /home/biocbuild/bbs-3.23-bioc/R/bin/R CMD build --keep-empty-dirs --no-resave-data cytofWorkflow
###
##############################################################################
##############################################################################


* checking for file ‘cytofWorkflow/DESCRIPTION’ ... OK
* preparing ‘cytofWorkflow’:
* checking DESCRIPTION meta-information ... OK
* installing the package (it is needed to build vignettes)
* creating vignettes ... OK
* checking for LF line-endings in source and make files and shell scripts
* checking for empty or unneeded directories
Omitted ‘LazyData’ from DESCRIPTION
* building ‘cytofWorkflow_1.35.0.tar.gz’