| Back to Workflows build report for BioC 3.22 |
This page was generated on 2025-10-21 16:30 -0400 (Tue, 21 Oct 2025).
| Hostname | OS | Arch (*) | R version | Installed pkgs |
|---|---|---|---|---|
| nebbiolo2 | Linux (Ubuntu 24.04.3 LTS) | x86_64 | 4.5.1 Patched (2025-08-23 r88802) -- "Great Square Root" | 4888 |
| lconway | macOS 12.7.6 Monterey | x86_64 | 4.5.1 Patched (2025-09-10 r88807) -- "Great Square Root" | 4677 |
| Click on any hostname to see more info about the system (e.g. compilers) (*) as reported by 'uname -p', except on Windows and Mac OS X | ||||
| Package 12/29 | Hostname | OS / Arch | INSTALL | BUILD | ||||||||
| generegulation 1.33.0 (landing page) Bioconductor Package Maintainer
| nebbiolo2 | Linux (Ubuntu 24.04.3 LTS) / x86_64 | OK | OK | ||||||||
| lconway | macOS 12.7.6 Monterey / x86_64 | OK | OK | |||||||||
|
To the developers/maintainers of the generegulation package: - Use the following Renviron settings to reproduce errors and warnings. - If 'R CMD check' started to fail recently on the Linux builder(s) over a missing dependency, add the missing dependency to 'Suggests:' in your DESCRIPTION file. See Renviron.bioc for more information. |
| Package: generegulation |
| Version: 1.33.0 |
| Command: /Library/Frameworks/R.framework/Resources/bin/R CMD INSTALL generegulation |
| StartedAt: 2025-10-21 13:00:25 -0400 (Tue, 21 Oct 2025) |
| EndedAt: 2025-10-21 13:00:56 -0400 (Tue, 21 Oct 2025) |
| EllapsedTime: 31.0 seconds |
| RetCode: 0 |
| Status: OK |
##############################################################################
##############################################################################
###
### Running command:
###
### /Library/Frameworks/R.framework/Resources/bin/R CMD INSTALL generegulation
###
##############################################################################
##############################################################################
* installing to library ‘/Library/Frameworks/R.framework/Versions/4.5-x86_64/Resources/library’
* installing *source* package ‘generegulation’ ...
** this is package ‘generegulation’ version ‘1.33.0’
** using staged installation
** help
No man pages found in package ‘generegulation’
*** installing help indices
** building package indices
** installing vignettes
** testing if installed package can be loaded from temporary location
See system.file("LICENSE", package="MotifDb") for use restrictions.
** testing if installed package can be loaded from final location
See system.file("LICENSE", package="MotifDb") for use restrictions.
** testing if installed package keeps a record of temporary installation path
* DONE (generegulation)