Back to Workflows build report for BioC 3.23

This page was generated on 2025-10-31 10:55 -0400 (Fri, 31 Oct 2025).

HostnameOSArch (*)R versionInstalled pkgs
nebbiolo1Linux (Ubuntu 24.04.3 LTS)x86_64R Under development (unstable) (2025-10-20 r88955) -- "Unsuffered Consequences" 4474
Click on any hostname to see more info about the system (e.g. compilers)      (*) as reported by 'uname -p', except on Windows and Mac OS X

Package 16/28HostnameOS / ArchINSTALLBUILD
maEndToEnd 2.31.0  (landing page)
Stefanie Reisenauer
Snapshot Date: 2025-10-31 10:02 -0400 (Fri, 31 Oct 2025)
git_url: https://git.bioconductor.org/packages/maEndToEnd
git_branch: devel
git_last_commit: c3f03c4
git_last_commit_date: 2025-10-29 09:47:14 -0400 (Wed, 29 Oct 2025)
nebbiolo1Linux (Ubuntu 24.04.3 LTS) / x86_64  ERROR    ERROR  


BUILD results for maEndToEnd on nebbiolo1

To the developers/maintainers of the maEndToEnd package:
- Use the following Renviron settings to reproduce errors and warnings.
- If 'R CMD check' started to fail recently on the Linux builder(s) over a missing dependency, add the missing dependency to 'Suggests:' in your DESCRIPTION file. See Renviron.bioc for more information.

raw results


Summary

Package: maEndToEnd
Version: 2.31.0
Command: /home/biocbuild/bbs-3.23-bioc/R/bin/R CMD build --keep-empty-dirs --no-resave-data maEndToEnd
StartedAt: 2025-10-31 10:09:01 -0400 (Fri, 31 Oct 2025)
EndedAt: 2025-10-31 10:09:02 -0400 (Fri, 31 Oct 2025)
EllapsedTime: 1.0 seconds
RetCode: 1
Status:   ERROR  
PackageFile: None
PackageFileSize: NA

Command output

##############################################################################
##############################################################################
###
### Running command:
###
###   /home/biocbuild/bbs-3.23-bioc/R/bin/R CMD build --keep-empty-dirs --no-resave-data maEndToEnd
###
##############################################################################
##############################################################################


* checking for file ‘maEndToEnd/DESCRIPTION’ ... OK
* preparing ‘maEndToEnd’:
* checking DESCRIPTION meta-information ... OK
* installing the package (it is needed to build vignettes)
      -----------------------------------
ERROR: dependency ‘ReactomePA’ is not available for package ‘maEndToEnd’
Perhaps try a variation of:
install.packages('ReactomePA')
* removing ‘/tmp/RtmptE9MUY/Rinst39f13f79be6b7c/maEndToEnd’
      -----------------------------------
ERROR: package installation failed