Back to Workflows build report for BioC 3.23

This page was generated on 2025-10-31 10:55 -0400 (Fri, 31 Oct 2025).

HostnameOSArch (*)R versionInstalled pkgs
nebbiolo1Linux (Ubuntu 24.04.3 LTS)x86_64R Under development (unstable) (2025-10-20 r88955) -- "Unsuffered Consequences" 4474
Click on any hostname to see more info about the system (e.g. compilers)      (*) as reported by 'uname -p', except on Windows and Mac OS X

Package 18/28HostnameOS / ArchINSTALLBUILD
recountWorkflow 1.35.0  (landing page)
Leonardo Collado-Torres
Snapshot Date: 2025-10-31 10:02 -0400 (Fri, 31 Oct 2025)
git_url: https://git.bioconductor.org/packages/recountWorkflow
git_branch: devel
git_last_commit: 5dea0c6
git_last_commit_date: 2025-10-29 09:46:52 -0400 (Wed, 29 Oct 2025)
nebbiolo1Linux (Ubuntu 24.04.3 LTS) / x86_64  ERROR    ERROR  


INSTALL results for recountWorkflow on nebbiolo1

To the developers/maintainers of the recountWorkflow package:
- Use the following Renviron settings to reproduce errors and warnings.
- If 'R CMD check' started to fail recently on the Linux builder(s) over a missing dependency, add the missing dependency to 'Suggests:' in your DESCRIPTION file. See Renviron.bioc for more information.

raw results


Summary

Package: recountWorkflow
Version: 1.35.0
Command: /home/biocbuild/bbs-3.23-bioc/R/bin/R CMD INSTALL recountWorkflow
StartedAt: 2025-10-31 10:07:04 -0400 (Fri, 31 Oct 2025)
EndedAt: 2025-10-31 10:07:22 -0400 (Fri, 31 Oct 2025)
EllapsedTime: 17.6 seconds
RetCode: 1
Status:   ERROR  

Command output

##############################################################################
##############################################################################
###
### Running command:
###
###   /home/biocbuild/bbs-3.23-bioc/R/bin/R CMD INSTALL recountWorkflow
###
##############################################################################
##############################################################################


* installing to library ‘/home/biocbuild/bbs-3.23-bioc/R/site-library’
* installing *source* package ‘recountWorkflow’ ...
** this is package ‘recountWorkflow’ version ‘1.35.0’
** using staged installation
** R
** inst
** byte-compile and prepare package for lazy loading
Error: object 'microRNAs' is not exported by 'namespace:GenomicFeatures'
Execution halted
ERROR: lazy loading failed for package ‘recountWorkflow’
* removing ‘/home/biocbuild/bbs-3.23-bioc/R/site-library/recountWorkflow’