| Back to Workflows build report for BioC 3.23 |
This page was generated on 2025-10-31 10:55 -0400 (Fri, 31 Oct 2025).
| Hostname | OS | Arch (*) | R version | Installed pkgs |
|---|---|---|---|---|
| nebbiolo1 | Linux (Ubuntu 24.04.3 LTS) | x86_64 | R Under development (unstable) (2025-10-20 r88955) -- "Unsuffered Consequences" | 4474 |
| Click on any hostname to see more info about the system (e.g. compilers) (*) as reported by 'uname -p', except on Windows and Mac OS X | ||||
| Package 24/28 | Hostname | OS / Arch | INSTALL | BUILD | ||||||||
| sequencing 1.35.0 (landing page) Bioconductor Package Maintainer
| nebbiolo1 | Linux (Ubuntu 24.04.3 LTS) / x86_64 | OK | OK | ||||||||
|
To the developers/maintainers of the sequencing package: - Use the following Renviron settings to reproduce errors and warnings. - If 'R CMD check' started to fail recently on the Linux builder(s) over a missing dependency, add the missing dependency to 'Suggests:' in your DESCRIPTION file. See Renviron.bioc for more information. |
| Package: sequencing |
| Version: 1.35.0 |
| Command: /home/biocbuild/bbs-3.23-bioc/R/bin/R CMD build --keep-empty-dirs --no-resave-data sequencing |
| StartedAt: 2025-10-31 10:09:49 -0400 (Fri, 31 Oct 2025) |
| EndedAt: 2025-10-31 10:10:59 -0400 (Fri, 31 Oct 2025) |
| EllapsedTime: 70.0 seconds |
| RetCode: 0 |
| Status: OK |
| PackageFile: sequencing_1.35.0.tar.gz |
| PackageFileSize: 403.5 KiB |
############################################################################## ############################################################################## ### ### Running command: ### ### /home/biocbuild/bbs-3.23-bioc/R/bin/R CMD build --keep-empty-dirs --no-resave-data sequencing ### ############################################################################## ############################################################################## * checking for file ‘sequencing/DESCRIPTION’ ... OK * preparing ‘sequencing’: * checking DESCRIPTION meta-information ... OK * installing the package (it is needed to build vignettes) * creating vignettes ... OK * checking for LF line-endings in source and make files and shell scripts * checking for empty or unneeded directories Omitted ‘LazyData’ from DESCRIPTION * creating default NAMESPACE file * building ‘sequencing_1.35.0.tar.gz’