Back to the "Multiple platform build/check report"
| Package 13/48 | Hostname | OS | Arch | BUILD | CHECK | BUILD BIN |
faahKO1.2.0Colin A. SmithLast Changed Date: 2007-01-10 09:38:56 -0800 Last Changed Rev: 227 | lamb1 | Linux (SUSE 10.1) | x86_64 | OK | OK | |
| lemming | Windows Server 2003 (32-bit) | x64 | OK | OK | [ OK ] |
| Package: faahKO |
| Version: 1.2.0 |
| Command: D:\biocbld\bbs-2.0-bioc\R\bin\R.exe CMD INSTALL --build --library=faahKO.buildbin-libdir faahKO_1.2.0.tar.gz |
| RetCode: 0 |
| Time: 84.5 seconds |
| Status: OK |
| PackageFile: faahKO_1.2.0.zip |
installing R.css in D:/biocbld/bbs-2.0-data-experiment/meat/faahKO.buildbin-libdir
Using auto-selected zip options ''
---------- Making package faahKO ------------
adding build stamp to DESCRIPTION
installing R files
installing inst files
installing data files
installing man source files
installing indices
not zipping data
installing help
>>> Building/Updating help pages for package 'faahKO'
Formats: text html latex example chm
faahko text html latex example chm
Microsoft HTML Help Compiler 4.74.8702
Compiling d:\biocbld\bbs-2.0-data-experiment\meat\R.INSTALL.5160\faahKO\chm\faahKO.chm
Compile time: 0 minutes, 0 seconds
2 Topics
3 Local links
1 Internet link
1 Graphic
Created d:\biocbld\bbs-2.0-data-experiment\meat\R.INSTALL.5160\faahKO\chm\faahKO.chm, 17,521 bytes
Compression increased file by 9,135 bytes.
adding MD5 sums
packaged installation of package 'faahKO' as faahKO_1.2.0.zip
* DONE (faahKO)