Back to the "Multiple platform build/check report"
| Package 13/48 | Hostname | OS | Arch | BUILD | CHECK | BUILD BIN |
faahKO1.2.0Colin A. SmithLast Changed Date: 2007-01-10 09:38:56 -0800 Last Changed Rev: 227 | lamb1 | Linux (SUSE 10.1) | x86_64 | OK | OK | |
| lemming | Windows Server 2003 (32-bit) | x64 | OK | [ OK ] | OK |
| Package: faahKO |
| Version: 1.2.0 |
| Command: D:\biocbld\bbs-2.0-bioc\R\bin\R.exe CMD check faahKO_1.2.0.tar.gz |
| RetCode: 0 |
| Time: 53.8 seconds |
| Status: OK |
| CheckDir: faahKO.Rcheck |
| Warnings: 0 |
* checking for working latex ... OK * using log directory 'D:/biocbld/bbs-2.0-data-experiment/meat/faahKO.Rcheck' * using R version 2.5.1 (2007-06-27) * checking for file 'faahKO/DESCRIPTION' ... OK * this is package 'faahKO' version '1.2.0' * checking package dependencies ... OK * checking if this is a source package ... OK * checking whether package 'faahKO' can be installed ... OK * checking package directory ... OK * checking for portable file names ... OK * checking DESCRIPTION meta-information ... OK * checking top-level files ... OK * checking index information ... OK * checking package subdirectories ... OK * checking R files for non-ASCII characters ... OK * checking R files for syntax errors ... OK * checking whether the package can be loaded ... OK * checking whether the package can be loaded with stated dependencies ... OK * checking for unstated dependencies in R code ... OK * checking S3 generic/method consistency ... OK * checking replacement functions ... OK * checking foreign function calls ... OK * checking R code for possible problems ... OK * checking Rd files ... OK * checking Rd cross-references ... OK * checking for missing documentation entries ... OK * checking for code/documentation mismatches ... OK * checking Rd \usage sections ... OK * checking data for non-ASCII characters ... OK * creating faahKO-Ex.R ... OK * checking examples ... OK * creating faahKO-manual.tex ... OK * checking faahKO-manual.tex ... OK
faahKO.Rcheck/00install.out:
installing R.css in D:/biocbld/bbs-2.0-data-experiment/meat/faahKO.Rcheck
---------- Making package faahKO ------------
adding build stamp to DESCRIPTION
installing R files
installing inst files
installing data files
installing man source files
installing indices
not zipping data
installing help
>>> Building/Updating help pages for package 'faahKO'
Formats: text html latex example chm
faahko text html latex example chm
Microsoft HTML Help Compiler 4.74.8702
Compiling d:\biocbld\bbs-2.0-data-experiment\meat\faahKO.Rcheck\00_pkg_src\faahKO\chm\faahKO.chm
Compile time: 0 minutes, 0 seconds
2 Topics
3 Local links
1 Internet link
1 Graphic
Created d:\biocbld\bbs-2.0-data-experiment\meat\faahKO.Rcheck\00_pkg_src\faahKO\chm\faahKO.chm, 17,521 bytes
Compression increased file by 9,135 bytes.
adding MD5 sums
* DONE (faahKO)