Back to the "Multiple platform build/check report"
| Package 23/48 | Hostname | OS | Arch | BUILD | CHECK | BUILD BIN |
harbChIP0.0.1VJ CareyLast Changed Date: 2007-01-10 09:58:17 -0800 Last Changed Rev: 228 | lamb1 | Linux (SUSE 10.1) | x86_64 | OK | OK | |
| lemming | Windows Server 2003 (32-bit) | x64 | OK | OK | [ OK ] |
| Package: harbChIP |
| Version: 0.0.1 |
| Command: D:\biocbld\bbs-2.0-bioc\R\bin\R.exe CMD INSTALL --build --library=harbChIP.buildbin-libdir harbChIP_0.0.1.tar.gz |
| RetCode: 0 |
| Time: 30.6 seconds |
| Status: OK |
| PackageFile: harbChIP_0.0.1.zip |
installing R.css in D:/biocbld/bbs-2.0-data-experiment/meat/harbChIP.buildbin-libdir
Using auto-selected zip options 'harbChIP-ZIPDATA=zip'
---------- Making package harbChIP ------------
adding build stamp to DESCRIPTION
no R files in this package
installing data files
installing man source files
installing indices
Loading required package: methods
zipping data
installing help
>>> Building/Updating help pages for package 'harbChIP'
Formats: text html latex example chm
harbChIP text html latex example chm
Microsoft HTML Help Compiler 4.74.8702
Compiling d:\biocbld\bbs-2.0-data-experiment\meat\R.INSTALL.3928\harbChIP\chm\harbChIP.chm
Compile time: 0 minutes, 0 seconds
2 Topics
3 Local links
0 Internet links
1 Graphic
Created d:\biocbld\bbs-2.0-data-experiment\meat\R.INSTALL.3928\harbChIP\chm\harbChIP.chm, 15,633 bytes
Compression increased file by 9,108 bytes.
adding MD5 sums
packaged installation of package 'harbChIP' as harbChIP_0.0.1.zip
* DONE (harbChIP)