Back to the "Multiple platform build/check report"
| Package 23/48 | Hostname | OS | Arch | BUILD | CHECK | BUILD BIN |
harbChIP0.0.1VJ CareyLast Changed Date: 2007-01-10 09:58:17 -0800 Last Changed Rev: 228 | lamb1 | Linux (SUSE 10.1) | x86_64 | OK | OK | |
| lemming | Windows Server 2003 (32-bit) | x64 | [ OK ] | OK | OK |
| Package: harbChIP |
| Version: 0.0.1 |
| Command: D:\biocbld\bbs-2.0-bioc\R\bin\R.exe CMD build harbChIP |
| RetCode: 0 |
| Time: 21.5 seconds |
| Status: OK |
| PackageFile: harbChIP_0.0.1.tar.gz |
* checking for file 'harbChIP/DESCRIPTION' ... OK * preparing 'harbChIP': * checking DESCRIPTION meta-information ... OK * removing junk files * checking for LF line-endings in source files * checking for empty or unneeded directories * building 'harbChIP_0.0.1.tar.gz'