| Package STATUS - Package status is indicated by one of the following glyphs: |
| - TIMEOUT |
BUILD, CHECK or BUILD BIN of package took more than 40 minutes |
| - ERROR |
BUILD, CHECK or BUILD BIN of package returned an error |
| - WARNINGS |
CHECK of package produced warnings |
| - OK |
BUILD, CHECK or BUILD BIN of package was OK |
| - skipped |
CHECK or BUILD BIN of package was skipped because the BUILD step failed (or because something bad happened with the Build System itself) |
| Click on any glyph in the report below to see the status details (command output). |
| lamb1 |
Linux (openSUSE 12.1) / x86_64 | | | |
| [moscato1] |
Windows Server 2008 R2 Enterprise SP1 (64-bit) / x64 | | | |
| perceval |
Mac OS X Leopard (10.5.8) / i386 | | | |
|
| affycompData 1.1.4 | Harris Jaffee | OK | OK | OK |
| affydata 1.11.17 | Harris Jaffee | OK | WARNINGS | OK |
| AffymetrixDataTestFiles 0.1.5 | Henrik Bengtsson | OK | OK | OK |
| ALL 1.4.13 | Robert Gentleman | OK | OK | OK |
| ALLMLL 1.2.13 | B. M. Bolstad | OK | OK | OK |
| AmpAffyExample 1.2.11 | Rafael A. Irizarry | OK | WARNINGS | OK |
| beadarrayExampleData 1.0.5 | Mark Dunning | OK | OK | OK |
| BeadArrayUseCases 1.0.9 | Mike Smith | OK | OK | OK |
| beta7 1.0.4 | Jean Yang | OK | WARNINGS | OK |
| bladderbatch 1.0.4 | Jeffrey T. Leek | OK | WARNINGS | OK |
| breastCancerMAINZ 1.0.4 | Markus Schroeder , Benjamin Haibe-Kains | OK | WARNINGS | OK |
| breastCancerNKI 1.0.4 | Markus Schroeder , Benjamin Haibe-Kains | OK | WARNINGS | OK |
| breastCancerTRANSBIG 1.0.4 | Markus Schroeder , Benjamin Haibe-Kains | OK | WARNINGS | OK |
| breastCancerUNT 1.0.4 | Markus Schroeder , Benjamin Haibe-Kains | OK | WARNINGS | OK |
| breastCancerUPP 1.0.4 | Markus Schroeder , Benjamin Haibe-Kains | OK | WARNINGS | OK |
| breastCancerVDX 1.0.4 | Markus Schroeder , Benjamin Haibe-Kains | OK | WARNINGS | OK |
| bronchialIL13 1.0.10 | Vince Carey | OK | OK | OK |
| bsseqData 0.1.2 | Kasper Daniel Hansen | OK | OK | OK |
| cancerdata 1.1.1 | Daniel Kosztyla | OK | OK | OK |
| CCl4 1.0.13 | Audrey Kauffmann | OK | WARNINGS | OK |
| ccTutorial 1.0.22 | Joern Toedling | OK | OK | OK |
| ceu1kg 0.0.31 | VJ Carey | OK | OK | OK |
| ceuhm3 0.0.14 | VJ Carey | OK | OK | OK |
| cgdv17 0.0.19 | VJ Carey | ERROR | skipped | skipped |
| charmData 0.99.7 | Martin Aryee | OK | WARNINGS | OK |
| cheung2010 0.0.26 | Vince Carey | OK | OK | OK |
| ChIPXpressData 0.99.1 | George Wu | N O T S U P P O R T E D |
| CLL 1.2.13 | Robert Gentleman | OK | OK | OK |
| cnvGSAdata 0.99.3 | Robert Ziman | OK | OK | OK |
| colonCA 1.4.10 | W Sylvia Merk | OK | WARNINGS | OK |
| davidTiling 1.2.16 | Wolfgang Huber | OK | OK | OK |
| DLBCL 1.3.5 | Marcus Dittrich | OK | WARNINGS | OK |
| dressCheck 0.1.6 | Vincent Carey | OK | OK | OK |
| dsQTL 0.0.22 | VJ Carey | OK | OK | OK |
| dyebiasexamples 1.0.9 | Philip Lijnzaad | OK | WARNINGS | OK |
| EatonEtAlChIPseq 0.0.8 | Patrick Aboyoun | OK | OK | OK |
| ecoliLeucine 1.2.9 | Laurent Gautier | OK | WARNINGS | OK |
| encoDnaseI 0.1.15 | VJ Carey | OK | OK | OK |
| estrogen 1.8.9 | R. Gentleman | OK | OK | OK |
| faahKO 1.2.12 | Colin A. Smith | OK | WARNINGS | OK |
| fabiaData 1.0.1 | Sepp Hochreiter | OK | OK | OK |
| facsDorit 1.4.6 | Florian Hahne | OK | OK | OK |
| ffpeExampleData 1.0.2 | Levi Waldron | OK | OK | OK |
| fibroEset 1.4.8 | Sylvia Merk | OK | WARNINGS | OK |
| flowWorkspaceData 0.99.8 | Greg Finak | OK | OK | OK |
| frmaExampleData 0.99.4 | Matthew N. McCall | OK | WARNINGS | OK |
| FunciSNP.data 0.99.1 | Simon G. Coetzee | OK | OK | OK |
| gageData 1.1.5 | Weijun Luo | OK | WARNINGS | OK |
| gaschYHS 1.0.10 | Vince Carey | OK | OK | OK |
| gatingMLData 1.0.6 | Nishant Gopalakrishnan | OK | OK | OK |
| gcspikelite 1.0.8 | Mark Robinson | OK | WARNINGS | OK |
| geneLenDataBase 0.99.10 | Matthew Young , Nadia Davidson | OK | WARNINGS | OK |
| GGdata 1.0.20 | VJ Carey | OK | OK | OK |
| ggtut 0.0.43 | VJ Carey | OK | OK | OK |
| golubEsets 1.4.12 | Vince Carey | OK | OK | OK |
| GSVAdata 0.99.9 | Robert Castelo | OK | OK | OK |
| GWASdata 1.0.7 | Stephanie Gogarten | OK | WARNINGS | OK |
| hapmap100khind 1.4.1 | Benilton Carvalho | OK | OK | OK |
| hapmap100kxba 1.4.1 | Benilton Carvalho | OK | OK | OK |
| hapmap500knsp 1.4.1 | Benilton Carvalho | OK | OK | OK |
| hapmap500ksty 1.4.1 | Benilton Carvalho | OK | OK | OK |
| hapmapsnp5 1.4.1 | Benilton Carvalho | OK | OK | OK |
| hapmapsnp6 1.4.1 | Benilton Carvalho | OK | OK | OK |
| harbChIP 1.0.9 | VJ Carey | OK | OK | OK |
| HEEBOdata 1.0.4 | Agnes Paquet | OK | WARNINGS | OK |
| hgu133abarcodevecs 1.0.5 | Matthew N. McCall | OK | OK | OK |
| hgu133plus2barcodevecs 1.0.5 | Matthew N. McCall | OK | OK | OK |
| hgu2beta7 1.2.7 | Bioconductor Package Maintainer | OK | WARNINGS | OK |
| HIVcDNAvantWout03 1.2.7 | Chris Fraley | OK | OK | OK |
| hmyriB36 0.99.16 | Vincent Carey | OK | OK | OK |
| humanStemCell 0.2.7 | R. Gentleman | OK | WARNINGS | OK |
| ind1KG 0.1.14 | VJ Carey | OK | OK | OK |
| iontreeData 0.99.7 | Mingshu Cao | OK | WARNINGS | OK |
| ITALICSData 2.0.6 | Guillem Rigaill | OK | WARNINGS | OK |
| Iyer517 1.4.11 | Vince Carey | OK | OK | OK |
| KEGGdzPathwaysGEO 1.1.1 | Gaurav Bhatti | OK | OK | OK |
| kidpack 1.5.11 | Wolfgang Huber | OK | WARNINGS | OK |
| leeBamViews 0.99.21 | VJ Carey | ERROR | skipped | skipped |
| LiebermanAidenHiC2009 0.1.13 | Felix Klein | OK | WARNINGS | OK |
| lumiBarnes 1.3.9 | Pan Du | OK | WARNINGS | OK |
| LungCancerLines 0.0.7 | Cory Barr | OK | OK | OK |
| lungExpression 0.0.14 | Robert Scharpf | OK | OK | OK |
| maqcExpression4plex 1.6.1 | Benilton Carvalho | OK | OK | OK |
| MAQCsubset 1.0.26 | VJ Carey | OK | OK | OK |
| MAQCsubsetAFX 1.0.9 | Laurent Gatto | OK | OK | OK |
| MAQCsubsetILM 1.0.8 | Laurent Gatto | ERROR | skipped | skipped |
| MEDIPSData 0.99.3 | Lukas Chavez | OK | OK | OK |
| MEEBOdata 1.0.4 | Agnes Paquet | OK | WARNINGS | OK |
| minfiData 0.3.1 | Kasper Daniel Hansen | OK | OK | OK |
| miRNATarget 0.99.2 | Y-h. Taguchi | OK | OK | OK |
| mosaicsExample 0.99.7 | Dongjun Chung | OK | OK | OK |
| mouse4302barcodevecs 1.0.5 | Matthew N. McCall | OK | OK | OK |
| msdata 0.1.12 | Steffen Neumann | OK | WARNINGS | OK |
| Mulder2012 0.2.2 | Xin Wang | OK | OK | OK |
| mvoutData 0.99.9 | VJ Carey | OK | OK | OK |
| NCIgraphData 0.99.5 | Laurent Jacob | OK | WARNINGS | OK |
| Neve2006 0.1.15 | VJ Carey | OK | OK | OK |
| pasilla 0.2.15 | Alejandro Reyes | OK | WARNINGS | OK |
| pasillaBamSubset 0.0.6 | H. Pages | OK | OK | OK |
| pcaGoPromoter.Hs.hg19 0.99.3 | Morten Hansen, | OK | OK | OK |
| pcaGoPromoter.Mm.mm9 0.99.3 | Morten Hansen, | OK | OK | OK |
| pcaGoPromoter.Rn.rn4 0.99.3 | Morten Hansen, | OK | OK | OK |
| pd.atdschip.tiling 0.0.4 | Kristof De Beuf | OK | OK | OK |
| ppiData 0.1.18 | Tony Chiang | OK | WARNINGS | OK |
| PREDAsampledata 0.2.6 | Francesco Ferrari | OK | WARNINGS | OK |
| ProData 1.0.7 | Xiaochun Li | OK | OK | OK |
| pumadata 1.99.4 | Richard Pearson | OK | WARNINGS | OK |
| PWMEnrich.Dmelanogaster.background 2.0.0 | Robert Stojnic | OK | ERROR | OK |
| rheumaticConditionWOLLBOLD 1.0.2 | Alejandro Quiroz-Zarate | OK | OK | OK |
| RMassBankData 0.99.1 | Michael Stravs | OK | OK | OK |
| RNAinteractMAPK 1.0.10 | Bernd Fischer | OK | OK | OK |
| RNASeqDataSubset 0.99.1 | D. Bindreither | OK | OK | OK |
| RnaSeqTutorial 0.0.11 | Nicolas Delhomme | OK | OK | OK |
| serumStimulation 0.99.3 | Morten Hansen, | OK | OK | OK |
| simpIntLists 0.99.3 | Kircicegi Korkmaz | OK | WARNINGS | OK |
| SNAData 1.8.5 | Denise Scholtens | OK | OK | OK |
| SpikeIn 1.4.9 | Rafael A. Irizarry | OK | WARNINGS | OK |
| SpikeInSubset 1.2.12 | Rafael A. Irizarry | OK | WARNINGS | OK |
| stemHypoxia 0.99.2 | Cristobal Fresno | OK | OK | OK |
| stjudem 1.2.8 | Joern Toedling | OK | OK | OK |
| synapterdata 0.99.3 | Laurent Gatto | OK | OK | OK |
| TargetSearchData 1.0.8 | Alvaro Cuadros-Inostroza | OK | OK | OK |
| TCGAMethylation450k 0.99.3 | Sean Davis | OK | OK | OK |
| tinesath1cdf 1.0.8 | Tine Casneuf | OK | WARNINGS | OK |
| tinesath1probe 1.0.8 | Tine Casneuf | OK | WARNINGS | OK |
| tweeDEseqCountData 1.0.8 | Juan R Gonzalez | OK | OK | OK |
| waveTilingData 0.99.1 | Kristof De Beuf | OK | OK | OK |
| XhybCasneuf 1.0.10 | Tineke Casneuf | OK | WARNINGS | OK |
| yeastCC 1.2.17 | Sandrine Dudoit | OK | WARNINGS | OK |
| yeastExpData 0.9.21 | R. Gentleman | OK | WARNINGS | OK |
| yeastGSData 0.1.9 | R. Gentleman | OK | WARNINGS | OK |
| yeastNagalakshmi 0.99.5 | Bioconductor Package Maintainer | OK | OK | OK |
| yeastRNASeq 0.0.7 | J. Bullard | OK | WARNINGS | OK |