| Back to the "Multiple platform build/check report" |
| Package 82/140 | Hostname | OS / Arch | BUILD | CHECK | BUILD BIN | ||||
| LungCancerLines 0.0.7 Cory Barr
| george2 | Linux (Ubuntu 12.04.1 LTS) / x86_64 | OK | OK | |||||
| lamb2 | Linux (openSUSE 11.4) / x86_64 | [ OK ] | OK | ||||||
| moscato2 | Windows Server 2008 R2 Enterprise SP1 (64-bit) / x64 | OK | OK | OK | |||||
| petty | Mac OS X Leopard (10.5.8) / i386 | OK | OK | OK |
| Package: LungCancerLines |
| Version: 0.0.7 |
| Command: /home/biocbuild/bbs-2.12-bioc/R/bin/R CMD build --keep-empty-dirs --no-resave-data LungCancerLines |
| StartedAt: 2013-01-17 12:13:30 -0800 (Thu, 17 Jan 2013) |
| EndedAt: 2013-01-17 12:14:11 -0800 (Thu, 17 Jan 2013) |
| EllapsedTime: 40.8 seconds |
| RetCode: 0 |
| Status: OK |
| PackageFile: LungCancerLines_0.0.7.tar.gz |
| PackageFileSize: 109.5 MiB |
* checking for file ‘LungCancerLines/DESCRIPTION’ ... OK * preparing ‘LungCancerLines’: * checking DESCRIPTION meta-information ... OK * checking for LF line-endings in source and make files * checking for empty or unneeded directories * building ‘LungCancerLines_0.0.7.tar.gz’