| george2 | Linux (Ubuntu 12.04.1 LTS) / x86_64 |  |  |  | 
| moscato2 | Windows Server 2008 R2 Enterprise SP1 (64-bit) / x64 |  |  |  | 
| petty | Mac OS X Snow Leopard (10.6.8) / x86_64 |  |  |  | 
| affycompData 1.1.5 Harris Jaffee
 
 | Last Changed Rev: 2317 / Revision: 2510 |  | Last Changed Date: 2013-04-03 15:11:40 -0700 | 
 | george2 | Linux (Ubuntu 12.04.1 LTS) / x86_64 | OK | OK |  | 
| moscato2 | Windows Server 2008 R2 Enterprise SP1 (64-bit) / x64 | OK | OK | OK | 
| petty | Mac OS X Snow Leopard (10.6.8) / x86_64 | OK | OK | OK | 
| affydata 1.11.18 Harris Jaffee
 
 | Last Changed Rev: 2317 / Revision: 2510 |  | Last Changed Date: 2013-04-03 15:11:40 -0700 | 
 | george2 | Linux (Ubuntu 12.04.1 LTS) / x86_64 | OK | WARNINGS |  | 
| moscato2 | Windows Server 2008 R2 Enterprise SP1 (64-bit) / x64 | OK | WARNINGS | OK | 
| petty | Mac OS X Snow Leopard (10.6.8) / x86_64 | OK | WARNINGS | OK | 
| AffymetrixDataTestFiles 0.1.6 Henrik Bengtsson
 
 | Last Changed Rev: 2317 / Revision: 2510 |  | Last Changed Date: 2013-04-03 15:11:40 -0700 | 
 | george2 | Linux (Ubuntu 12.04.1 LTS) / x86_64 | OK | OK |  | 
| moscato2 | Windows Server 2008 R2 Enterprise SP1 (64-bit) / x64 | OK | OK | OK | 
| petty | Mac OS X Snow Leopard (10.6.8) / x86_64 | OK | OK | OK | 
| ALL 1.4.14 Robert Gentleman
 
 | Last Changed Rev: 2317 / Revision: 2510 |  | Last Changed Date: 2013-04-03 15:11:40 -0700 | 
 | george2 | Linux (Ubuntu 12.04.1 LTS) / x86_64 | OK | OK |  | 
| moscato2 | Windows Server 2008 R2 Enterprise SP1 (64-bit) / x64 | OK | OK | OK | 
| petty | Mac OS X Snow Leopard (10.6.8) / x86_64 | OK | OK | OK | 
| ALLMLL 1.2.14 B. M. Bolstad
 
 | Last Changed Rev: 2317 / Revision: 2510 |  | Last Changed Date: 2013-04-03 15:11:40 -0700 | 
 | george2 | Linux (Ubuntu 12.04.1 LTS) / x86_64 | OK | OK |  | 
| moscato2 | Windows Server 2008 R2 Enterprise SP1 (64-bit) / x64 | OK | OK | OK | 
| petty | Mac OS X Snow Leopard (10.6.8) / x86_64 | OK | OK | OK | 
| AmpAffyExample 1.2.12 Rafael A. Irizarry
 
 | Last Changed Rev: 2317 / Revision: 2510 |  | Last Changed Date: 2013-04-03 15:11:40 -0700 | 
 | george2 | Linux (Ubuntu 12.04.1 LTS) / x86_64 | OK | WARNINGS |  | 
| moscato2 | Windows Server 2008 R2 Enterprise SP1 (64-bit) / x64 | OK | WARNINGS | OK | 
| petty | Mac OS X Snow Leopard (10.6.8) / x86_64 | OK | WARNINGS | OK | 
| antiProfilesData 0.99.1 Hector Corrada Bravo
 
 | Last Changed Rev: 2317 / Revision: 2510 |  | Last Changed Date: 2013-04-03 15:11:40 -0700 | 
 | george2 | Linux (Ubuntu 12.04.1 LTS) / x86_64 | OK | OK |  | 
| moscato2 | Windows Server 2008 R2 Enterprise SP1 (64-bit) / x64 | OK | OK | OK | 
| petty | Mac OS X Snow Leopard (10.6.8) / x86_64 | OK | OK | OK | 
| ARRmData 0.99.2 Jean-Philippe Fortin
 
 | Last Changed Rev: 2317 / Revision: 2510 |  | Last Changed Date: 2013-04-03 15:11:40 -0700 | 
 | george2 | Linux (Ubuntu 12.04.1 LTS) / x86_64 | OK | OK |  | 
| moscato2 | Windows Server 2008 R2 Enterprise SP1 (64-bit) / x64 | OK | OK | OK | 
| petty | Mac OS X Snow Leopard (10.6.8) / x86_64 | OK | OK | OK | 
| beadarrayExampleData 1.0.6 Mark Dunning
 
 | Last Changed Rev: 2317 / Revision: 2510 |  | Last Changed Date: 2013-04-03 15:11:40 -0700 | 
 | george2 | Linux (Ubuntu 12.04.1 LTS) / x86_64 | OK | OK |  | 
| moscato2 | Windows Server 2008 R2 Enterprise SP1 (64-bit) / x64 | OK | OK | OK | 
| petty | Mac OS X Snow Leopard (10.6.8) / x86_64 | OK | OK | OK | 
| BeadArrayUseCases 1.0.10 Mike Smith
 
 | Last Changed Rev: 2484 / Revision: 2510 |  | Last Changed Date: 2013-10-04 19:06:12 -0700 | 
 | george2 | Linux (Ubuntu 12.04.1 LTS) / x86_64 | OK | OK |  | 
| moscato2 | Windows Server 2008 R2 Enterprise SP1 (64-bit) / x64 | OK | OK | OK | 
| petty | Mac OS X Snow Leopard (10.6.8) / x86_64 | OK | OK | OK | 
| beta7 1.0.5 Jean Yang
 
 | Last Changed Rev: 2317 / Revision: 2510 |  | Last Changed Date: 2013-04-03 15:11:40 -0700 | 
 | george2 | Linux (Ubuntu 12.04.1 LTS) / x86_64 | OK | WARNINGS |  | 
| moscato2 | Windows Server 2008 R2 Enterprise SP1 (64-bit) / x64 | OK | WARNINGS | OK | 
| petty | Mac OS X Snow Leopard (10.6.8) / x86_64 | OK | WARNINGS | OK | 
| bladderbatch 1.0.5 Jeffrey T. Leek
 
 | Last Changed Rev: 2317 / Revision: 2510 |  | Last Changed Date: 2013-04-03 15:11:40 -0700 | 
 | george2 | Linux (Ubuntu 12.04.1 LTS) / x86_64 | OK | WARNINGS |  | 
| moscato2 | Windows Server 2008 R2 Enterprise SP1 (64-bit) / x64 | OK | WARNINGS | OK | 
| petty | Mac OS X Snow Leopard (10.6.8) / x86_64 | OK | WARNINGS | OK | 
| breastCancerMAINZ 1.0.5 Markus Schroeder , Benjamin Haibe-Kains
 
 | Last Changed Rev: 2317 / Revision: 2510 |  | Last Changed Date: 2013-04-03 15:11:40 -0700 | 
 | george2 | Linux (Ubuntu 12.04.1 LTS) / x86_64 | OK | WARNINGS |  | 
| moscato2 | Windows Server 2008 R2 Enterprise SP1 (64-bit) / x64 | OK | WARNINGS | OK | 
| petty | Mac OS X Snow Leopard (10.6.8) / x86_64 | OK | WARNINGS | OK | 
| breastCancerNKI 1.0.5 Markus Schroeder , Benjamin Haibe-Kains
 
 | Last Changed Rev: 2317 / Revision: 2510 |  | Last Changed Date: 2013-04-03 15:11:40 -0700 | 
 | george2 | Linux (Ubuntu 12.04.1 LTS) / x86_64 | OK | WARNINGS |  | 
| moscato2 | Windows Server 2008 R2 Enterprise SP1 (64-bit) / x64 | OK | WARNINGS | OK | 
| petty | Mac OS X Snow Leopard (10.6.8) / x86_64 | OK | WARNINGS | OK | 
| breastCancerTRANSBIG 1.0.5 Markus Schroeder , Benjamin Haibe-Kains
 
 | Last Changed Rev: 2317 / Revision: 2510 |  | Last Changed Date: 2013-04-03 15:11:40 -0700 | 
 | george2 | Linux (Ubuntu 12.04.1 LTS) / x86_64 | OK | WARNINGS |  | 
| moscato2 | Windows Server 2008 R2 Enterprise SP1 (64-bit) / x64 | OK | WARNINGS | OK | 
| petty | Mac OS X Snow Leopard (10.6.8) / x86_64 | OK | WARNINGS | OK | 
| breastCancerUNT 1.0.5 Markus Schroeder , Benjamin Haibe-Kains
 
 | Last Changed Rev: 2317 / Revision: 2510 |  | Last Changed Date: 2013-04-03 15:11:40 -0700 | 
 | george2 | Linux (Ubuntu 12.04.1 LTS) / x86_64 | OK | WARNINGS |  | 
| moscato2 | Windows Server 2008 R2 Enterprise SP1 (64-bit) / x64 | OK | WARNINGS | OK | 
| petty | Mac OS X Snow Leopard (10.6.8) / x86_64 | OK | WARNINGS | OK | 
| breastCancerUPP 1.0.5 Markus Schroeder , Benjamin Haibe-Kains
 
 | Last Changed Rev: 2317 / Revision: 2510 |  | Last Changed Date: 2013-04-03 15:11:40 -0700 | 
 | george2 | Linux (Ubuntu 12.04.1 LTS) / x86_64 | OK | WARNINGS |  | 
| moscato2 | Windows Server 2008 R2 Enterprise SP1 (64-bit) / x64 | OK | WARNINGS | OK | 
| petty | Mac OS X Snow Leopard (10.6.8) / x86_64 | OK | WARNINGS | OK | 
| breastCancerVDX 1.0.5 Markus Schroeder , Benjamin Haibe-Kains
 
 | Last Changed Rev: 2317 / Revision: 2510 |  | Last Changed Date: 2013-04-03 15:11:40 -0700 | 
 | george2 | Linux (Ubuntu 12.04.1 LTS) / x86_64 | OK | WARNINGS |  | 
| moscato2 | Windows Server 2008 R2 Enterprise SP1 (64-bit) / x64 | OK | WARNINGS | OK | 
| petty | Mac OS X Snow Leopard (10.6.8) / x86_64 | OK | WARNINGS | OK | 
| bronchialIL13 1.0.11 Vince Carey
 
 | Last Changed Rev: 2497 / Revision: 2510 |  | Last Changed Date: 2013-10-04 19:34:45 -0700 | 
 | george2 | Linux (Ubuntu 12.04.1 LTS) / x86_64 | OK | OK |  | 
| moscato2 | Windows Server 2008 R2 Enterprise SP1 (64-bit) / x64 | OK | OK | OK | 
| petty | Mac OS X Snow Leopard (10.6.8) / x86_64 | OK | OK | OK | 
| bsseqData 0.1.4 Kasper Daniel Hansen
 
 | Last Changed Rev: 2389 / Revision: 2510 |  | Last Changed Date: 2013-07-12 07:30:20 -0700 | 
 | george2 | Linux (Ubuntu 12.04.1 LTS) / x86_64 | OK | ERROR |  | 
| moscato2 | Windows Server 2008 R2 Enterprise SP1 (64-bit) / x64 | OK | ERROR | ERROR | 
| petty | Mac OS X Snow Leopard (10.6.8) / x86_64 | OK | ERROR | ERROR | 
| cancerdata 1.1.2 Daniel Kosztyla
 
 | Last Changed Rev: 2317 / Revision: 2510 |  | Last Changed Date: 2013-04-03 15:11:40 -0700 | 
 | george2 | Linux (Ubuntu 12.04.1 LTS) / x86_64 | OK | OK |  | 
| moscato2 | Windows Server 2008 R2 Enterprise SP1 (64-bit) / x64 | OK | OK | OK | 
| petty | Mac OS X Snow Leopard (10.6.8) / x86_64 | OK | OK | OK | 
| CCl4 1.0.14 Audrey Kauffmann
 
 | Last Changed Rev: 2317 / Revision: 2510 |  | Last Changed Date: 2013-04-03 15:11:40 -0700 | 
 | george2 | Linux (Ubuntu 12.04.1 LTS) / x86_64 | OK | WARNINGS |  | 
| moscato2 | Windows Server 2008 R2 Enterprise SP1 (64-bit) / x64 | OK | WARNINGS | OK | 
| petty | Mac OS X Snow Leopard (10.6.8) / x86_64 | OK | WARNINGS | OK | 
| ccTutorial 1.0.23 Joern Toedling
 
 | Last Changed Rev: 2317 / Revision: 2510 |  | Last Changed Date: 2013-04-03 15:11:40 -0700 | 
 | george2 | Linux (Ubuntu 12.04.1 LTS) / x86_64 | OK | OK |  | 
| moscato2 | Windows Server 2008 R2 Enterprise SP1 (64-bit) / x64 | OK | OK | OK | 
| petty | Mac OS X Snow Leopard (10.6.8) / x86_64 | OK | OK | OK | 
| ceu1kg 0.0.32 VJ Carey
 
 | Last Changed Rev: 2317 / Revision: 2510 |  | Last Changed Date: 2013-04-03 15:11:40 -0700 | 
 | george2 | Linux (Ubuntu 12.04.1 LTS) / x86_64 | OK | OK |  | 
| moscato2 | Windows Server 2008 R2 Enterprise SP1 (64-bit) / x64 | OK | OK | OK | 
| petty | Mac OS X Snow Leopard (10.6.8) / x86_64 | OK | OK | OK | 
| ceuhm3 0.0.15 VJ Carey
 
 | Last Changed Rev: 2489 / Revision: 2510 |  | Last Changed Date: 2013-10-04 19:16:53 -0700 | 
 | george2 | Linux (Ubuntu 12.04.1 LTS) / x86_64 | OK | OK |  | 
| moscato2 | Windows Server 2008 R2 Enterprise SP1 (64-bit) / x64 | OK | OK | OK | 
| petty | Mac OS X Snow Leopard (10.6.8) / x86_64 | OK | OK | OK | 
| cgdv17 0.0.20 VJ Carey
 
 | Last Changed Rev: 2483 / Revision: 2510 |  | Last Changed Date: 2013-10-04 19:03:19 -0700 | 
 | george2 | Linux (Ubuntu 12.04.1 LTS) / x86_64 | OK | OK |  | 
| moscato2 | Windows Server 2008 R2 Enterprise SP1 (64-bit) / x64 | OK | OK | OK | 
| petty | Mac OS X Snow Leopard (10.6.8) / x86_64 | OK | OK | OK | 
| charmData 0.99.8 Martin Aryee
 
 | Last Changed Rev: 2491 / Revision: 2510 |  | Last Changed Date: 2013-10-04 19:22:14 -0700 | 
 | george2 | Linux (Ubuntu 12.04.1 LTS) / x86_64 | OK | WARNINGS |  | 
| moscato2 | Windows Server 2008 R2 Enterprise SP1 (64-bit) / x64 | OK | WARNINGS | OK | 
| petty | Mac OS X Snow Leopard (10.6.8) / x86_64 | OK | WARNINGS | OK | 
| cheung2010 0.0.27 Vince Carey
 
 | Last Changed Rev: 2317 / Revision: 2510 |  | Last Changed Date: 2013-04-03 15:11:40 -0700 | 
 | george2 | Linux (Ubuntu 12.04.1 LTS) / x86_64 | OK | OK |  | 
| moscato2 | Windows Server 2008 R2 Enterprise SP1 (64-bit) / x64 | OK | OK | OK | 
| petty | Mac OS X Snow Leopard (10.6.8) / x86_64 | OK | OK | OK | 
| ChIPXpressData 1.0.0 George Wu
 
 | Last Changed Rev: 2337 / Revision: 2510 |  | Last Changed Date: 2013-04-26 12:31:16 -0700 | 
 | george2 | Linux (Ubuntu 12.04.1 LTS) / x86_64 | OK | WARNINGS |  | 
| moscato2 | Windows Server 2008 R2 Enterprise SP1 (64-bit) / x64 | N O T   S U P P O R T E D | 
| petty | Mac OS X Snow Leopard (10.6.8) / x86_64 | OK | WARNINGS | OK | 
| CLL 1.2.14 Robert Gentleman
 
 | Last Changed Rev: 2317 / Revision: 2510 |  | Last Changed Date: 2013-04-03 15:11:40 -0700 | 
 | george2 | Linux (Ubuntu 12.04.1 LTS) / x86_64 | OK | OK |  | 
| moscato2 | Windows Server 2008 R2 Enterprise SP1 (64-bit) / x64 | OK | OK | OK | 
| petty | Mac OS X Snow Leopard (10.6.8) / x86_64 | OK | OK | OK | 
| cMap2data 0.99.2 J. Saez-Rodriguez
 
 | Last Changed Rev: 2317 / Revision: 2510 |  | Last Changed Date: 2013-04-03 15:11:40 -0700 | 
 | george2 | Linux (Ubuntu 12.04.1 LTS) / x86_64 | OK | OK |  | 
| moscato2 | Windows Server 2008 R2 Enterprise SP1 (64-bit) / x64 | OK | OK | OK | 
| petty | Mac OS X Snow Leopard (10.6.8) / x86_64 | OK | OK | OK | 
| cnvGSAdata 0.99.4 Robert Ziman
 
 | Last Changed Rev: 2481 / Revision: 2510 |  | Last Changed Date: 2013-10-04 18:56:43 -0700 | 
 | george2 | Linux (Ubuntu 12.04.1 LTS) / x86_64 | OK | OK |  | 
| moscato2 | Windows Server 2008 R2 Enterprise SP1 (64-bit) / x64 | OK | OK | OK | 
| petty | Mac OS X Snow Leopard (10.6.8) / x86_64 | OK | OK | OK | 
| colonCA 1.4.11 W Sylvia Merk
 
 | Last Changed Rev: 2317 / Revision: 2510 |  | Last Changed Date: 2013-04-03 15:11:40 -0700 | 
 | george2 | Linux (Ubuntu 12.04.1 LTS) / x86_64 | OK | WARNINGS |  | 
| moscato2 | Windows Server 2008 R2 Enterprise SP1 (64-bit) / x64 | OK | WARNINGS | OK | 
| petty | Mac OS X Snow Leopard (10.6.8) / x86_64 | OK | WARNINGS | OK | 
| ConnectivityMap 0.99.10 Paul Shannon
 
 | Last Changed Rev: 2317 / Revision: 2510 |  | Last Changed Date: 2013-04-03 15:11:40 -0700 | 
 | george2 | Linux (Ubuntu 12.04.1 LTS) / x86_64 | OK | OK |  | 
| moscato2 | Windows Server 2008 R2 Enterprise SP1 (64-bit) / x64 | OK | OK | OK | 
| petty | Mac OS X Snow Leopard (10.6.8) / x86_64 | OK | OK | OK | 
| curatedOvarianData 1.0.3 Levi Waldron
 
 | Last Changed Rev: 2317 / Revision: 2510 |  | Last Changed Date: 2013-04-03 15:11:40 -0700 | 
 | george2 | Linux (Ubuntu 12.04.1 LTS) / x86_64 | OK | OK |  | 
| moscato2 | Windows Server 2008 R2 Enterprise SP1 (64-bit) / x64 | OK | OK | OK | 
| petty | Mac OS X Snow Leopard (10.6.8) / x86_64 | OK | OK | OK | 
| davidTiling 1.2.17 Wolfgang Huber
 
 | Last Changed Rev: 2317 / Revision: 2510 |  | Last Changed Date: 2013-04-03 15:11:40 -0700 | 
 | george2 | Linux (Ubuntu 12.04.1 LTS) / x86_64 | OK | OK |  | 
| moscato2 | Windows Server 2008 R2 Enterprise SP1 (64-bit) / x64 | OK | OK | OK | 
| petty | Mac OS X Snow Leopard (10.6.8) / x86_64 | OK | OK | OK | 
| DLBCL 1.3.6 Marcus Dittrich
 
 | Last Changed Rev: 2317 / Revision: 2510 |  | Last Changed Date: 2013-04-03 15:11:40 -0700 | 
 | george2 | Linux (Ubuntu 12.04.1 LTS) / x86_64 | OK | WARNINGS |  | 
| moscato2 | Windows Server 2008 R2 Enterprise SP1 (64-bit) / x64 | OK | WARNINGS | OK | 
| petty | Mac OS X Snow Leopard (10.6.8) / x86_64 | OK | WARNINGS | OK | 
| DREAM4 0.99.17 Paul Shannon
 
 | Last Changed Rev: 2317 / Revision: 2510 |  | Last Changed Date: 2013-04-03 15:11:40 -0700 | 
 | george2 | Linux (Ubuntu 12.04.1 LTS) / x86_64 | OK | OK |  | 
| moscato2 | Windows Server 2008 R2 Enterprise SP1 (64-bit) / x64 | OK | OK | OK | 
| petty | Mac OS X Snow Leopard (10.6.8) / x86_64 | OK | OK | OK | 
| dressCheck 0.1.7 Vincent Carey
 
 | Last Changed Rev: 2317 / Revision: 2510 |  | Last Changed Date: 2013-04-03 15:11:40 -0700 | 
 | george2 | Linux (Ubuntu 12.04.1 LTS) / x86_64 | OK | OK |  | 
| moscato2 | Windows Server 2008 R2 Enterprise SP1 (64-bit) / x64 | OK | OK | OK | 
| petty | Mac OS X Snow Leopard (10.6.8) / x86_64 | OK | OK | OK | 
| DrugVsDiseasedata 0.99.4 J. Saez-Rodriguez
 
 | Last Changed Rev: 2317 / Revision: 2510 |  | Last Changed Date: 2013-04-03 15:11:40 -0700 | 
 | george2 | Linux (Ubuntu 12.04.1 LTS) / x86_64 | OK | OK |  | 
| moscato2 | Windows Server 2008 R2 Enterprise SP1 (64-bit) / x64 | OK | OK | OK | 
| petty | Mac OS X Snow Leopard (10.6.8) / x86_64 | OK | OK | OK | 
| dsQTL 0.0.23 VJ Carey
 
 | Last Changed Rev: 2317 / Revision: 2510 |  | Last Changed Date: 2013-04-03 15:11:40 -0700 | 
 | george2 | Linux (Ubuntu 12.04.1 LTS) / x86_64 | OK | OK |  | 
| moscato2 | Windows Server 2008 R2 Enterprise SP1 (64-bit) / x64 | OK | OK | OK | 
| petty | Mac OS X Snow Leopard (10.6.8) / x86_64 | OK | OK | OK | 
| DvDdata 0.99.1 J. Saez-Rodriguez
 
 | Last Changed Rev: 2317 / Revision: 2510 |  | Last Changed Date: 2013-04-03 15:11:40 -0700 | 
 | george2 | Linux (Ubuntu 12.04.1 LTS) / x86_64 | OK | OK |  | 
| moscato2 | Windows Server 2008 R2 Enterprise SP1 (64-bit) / x64 | OK | OK | OK | 
| petty | Mac OS X Snow Leopard (10.6.8) / x86_64 | OK | OK | OK | 
| dyebiasexamples 1.0.10 Philip Lijnzaad
 
 | Last Changed Rev: 2317 / Revision: 2510 |  | Last Changed Date: 2013-04-03 15:11:40 -0700 | 
 | george2 | Linux (Ubuntu 12.04.1 LTS) / x86_64 | OK | WARNINGS |  | 
| moscato2 | Windows Server 2008 R2 Enterprise SP1 (64-bit) / x64 | OK | WARNINGS | OK | 
| petty | Mac OS X Snow Leopard (10.6.8) / x86_64 | OK | WARNINGS | OK | 
| EatonEtAlChIPseq 0.0.9 Patrick Aboyoun
 
 | Last Changed Rev: 2490 / Revision: 2510 |  | Last Changed Date: 2013-10-04 19:20:29 -0700 | 
 | george2 | Linux (Ubuntu 12.04.1 LTS) / x86_64 | OK | OK |  | 
| moscato2 | Windows Server 2008 R2 Enterprise SP1 (64-bit) / x64 | OK | OK | OK | 
| petty | Mac OS X Snow Leopard (10.6.8) / x86_64 | OK | OK | OK | 
| ecoliLeucine 1.2.10 Laurent Gautier
 
 | Last Changed Rev: 2317 / Revision: 2510 |  | Last Changed Date: 2013-04-03 15:11:40 -0700 | 
 | george2 | Linux (Ubuntu 12.04.1 LTS) / x86_64 | OK | WARNINGS |  | 
| moscato2 | Windows Server 2008 R2 Enterprise SP1 (64-bit) / x64 | OK | WARNINGS | OK | 
| petty | Mac OS X Snow Leopard (10.6.8) / x86_64 | OK | WARNINGS | OK | 
| encoDnaseI 0.1.16 VJ Carey
 
 | Last Changed Rev: 2317 / Revision: 2510 |  | Last Changed Date: 2013-04-03 15:11:40 -0700 | 
 | george2 | Linux (Ubuntu 12.04.1 LTS) / x86_64 | OK | OK |  | 
| moscato2 | Windows Server 2008 R2 Enterprise SP1 (64-bit) / x64 | OK | OK | OK | 
| petty | Mac OS X Snow Leopard (10.6.8) / x86_64 | OK | OK | OK | 
| estrogen 1.8.10 R. Gentleman
 
 | Last Changed Rev: 2317 / Revision: 2510 |  | Last Changed Date: 2013-04-03 15:11:40 -0700 | 
 | george2 | Linux (Ubuntu 12.04.1 LTS) / x86_64 | OK | OK |  | 
| moscato2 | Windows Server 2008 R2 Enterprise SP1 (64-bit) / x64 | OK | OK | OK | 
| petty | Mac OS X Snow Leopard (10.6.8) / x86_64 | OK | OK | OK | 
| faahKO 1.2.15 Colin A. Smith
 
 | Last Changed Rev: 2507 / Revision: 2510 |  | Last Changed Date: 2013-10-05 19:21:32 -0700 | 
 | george2 | Linux (Ubuntu 12.04.1 LTS) / x86_64 | OK | WARNINGS |  | 
| moscato2 | Windows Server 2008 R2 Enterprise SP1 (64-bit) / x64 | OK | WARNINGS | OK | 
| petty | Mac OS X Snow Leopard (10.6.8) / x86_64 | OK | WARNINGS | OK | 
| fabiaData 1.0.2 Sepp Hochreiter
 
 | Last Changed Rev: 2317 / Revision: 2510 |  | Last Changed Date: 2013-04-03 15:11:40 -0700 | 
 | george2 | Linux (Ubuntu 12.04.1 LTS) / x86_64 | OK | OK |  | 
| moscato2 | Windows Server 2008 R2 Enterprise SP1 (64-bit) / x64 | OK | OK | OK | 
| petty | Mac OS X Snow Leopard (10.6.8) / x86_64 | OK | OK | OK | 
| facsDorit 1.4.7 Florian Hahne
 
 | Last Changed Rev: 2317 / Revision: 2510 |  | Last Changed Date: 2013-04-03 15:11:40 -0700 | 
 | george2 | Linux (Ubuntu 12.04.1 LTS) / x86_64 | OK | OK |  | 
| moscato2 | Windows Server 2008 R2 Enterprise SP1 (64-bit) / x64 | OK | OK | OK | 
| petty | Mac OS X Snow Leopard (10.6.8) / x86_64 | OK | OK | OK | 
| FANTOM3and4CAGE 0.99.1 Vanja Haberle
 
 | Last Changed Rev: 2317 / Revision: 2510 |  | Last Changed Date: 2013-04-03 15:11:40 -0700 | 
 | george2 | Linux (Ubuntu 12.04.1 LTS) / x86_64 | OK | OK |  | 
| moscato2 | Windows Server 2008 R2 Enterprise SP1 (64-bit) / x64 | OK | OK | OK | 
| petty | Mac OS X Snow Leopard (10.6.8) / x86_64 | OK | OK | OK | 
| ffpeExampleData 1.0.3 Levi Waldron
 
 | Last Changed Rev: 2317 / Revision: 2510 |  | Last Changed Date: 2013-04-03 15:11:40 -0700 | 
 | george2 | Linux (Ubuntu 12.04.1 LTS) / x86_64 | OK | OK |  | 
| moscato2 | Windows Server 2008 R2 Enterprise SP1 (64-bit) / x64 | OK | OK | OK | 
| petty | Mac OS X Snow Leopard (10.6.8) / x86_64 | OK | OK | OK | 
| fibroEset 1.4.9 Sylvia Merk
 
 | Last Changed Rev: 2317 / Revision: 2510 |  | Last Changed Date: 2013-04-03 15:11:40 -0700 | 
 | george2 | Linux (Ubuntu 12.04.1 LTS) / x86_64 | OK | WARNINGS |  | 
| moscato2 | Windows Server 2008 R2 Enterprise SP1 (64-bit) / x64 | OK | WARNINGS | OK | 
| petty | Mac OS X Snow Leopard (10.6.8) / x86_64 | OK | WARNINGS | OK | 
| flowWorkspaceData 1.99.9 Mike Jiang
 
 | Last Changed Rev: 2450 / Revision: 2510 |  | Last Changed Date: 2013-09-20 15:35:10 -0700 | 
 | george2 | Linux (Ubuntu 12.04.1 LTS) / x86_64 | OK | WARNINGS |  | 
| moscato2 | Windows Server 2008 R2 Enterprise SP1 (64-bit) / x64 | OK | WARNINGS | OK | 
| petty | Mac OS X Snow Leopard (10.6.8) / x86_64 | OK | WARNINGS | OK | 
| frmaExampleData 0.99.5 Matthew N. McCall
 
 | Last Changed Rev: 2317 / Revision: 2510 |  | Last Changed Date: 2013-04-03 15:11:40 -0700 | 
 | george2 | Linux (Ubuntu 12.04.1 LTS) / x86_64 | OK | WARNINGS |  | 
| moscato2 | Windows Server 2008 R2 Enterprise SP1 (64-bit) / x64 | OK | WARNINGS | OK | 
| petty | Mac OS X Snow Leopard (10.6.8) / x86_64 | OK | WARNINGS | OK | 
| FunciSNP.data 0.99.2 Simon G. Coetzee
 
 | Last Changed Rev: 2317 / Revision: 2510 |  | Last Changed Date: 2013-04-03 15:11:40 -0700 | 
 | george2 | Linux (Ubuntu 12.04.1 LTS) / x86_64 | OK | OK |  | 
| moscato2 | Windows Server 2008 R2 Enterprise SP1 (64-bit) / x64 | OK | OK | OK | 
| petty | Mac OS X Snow Leopard (10.6.8) / x86_64 | OK | OK | OK | 
| gageData 2.0.2 Weijun Luo
 
 | Last Changed Rev: 2505 / Revision: 2510 |  | Last Changed Date: 2013-10-04 20:21:16 -0700 | 
 | george2 | Linux (Ubuntu 12.04.1 LTS) / x86_64 | OK | OK |  | 
| moscato2 | Windows Server 2008 R2 Enterprise SP1 (64-bit) / x64 | OK | OK | OK | 
| petty | Mac OS X Snow Leopard (10.6.8) / x86_64 | OK | OK | OK | 
| gaschYHS 1.0.11 Vince Carey
 
 | Last Changed Rev: 2317 / Revision: 2510 |  | Last Changed Date: 2013-04-03 15:11:40 -0700 | 
 | george2 | Linux (Ubuntu 12.04.1 LTS) / x86_64 | OK | OK |  | 
| moscato2 | Windows Server 2008 R2 Enterprise SP1 (64-bit) / x64 | OK | OK | OK | 
| petty | Mac OS X Snow Leopard (10.6.8) / x86_64 | OK | OK | OK | 
| gatingMLData 1.0.7 Nishant Gopalakrishnan
 
 | Last Changed Rev: 2496 / Revision: 2510 |  | Last Changed Date: 2013-10-04 19:32:59 -0700 | 
 | george2 | Linux (Ubuntu 12.04.1 LTS) / x86_64 | OK | OK |  | 
| moscato2 | Windows Server 2008 R2 Enterprise SP1 (64-bit) / x64 | OK | OK | OK | 
| petty | Mac OS X Snow Leopard (10.6.8) / x86_64 | OK | OK | OK | 
| gcspikelite 1.0.9 Mark Robinson
 
 | Last Changed Rev: 2506 / Revision: 2510 |  | Last Changed Date: 2013-10-04 20:21:42 -0700 | 
 | george2 | Linux (Ubuntu 12.04.1 LTS) / x86_64 | OK | WARNINGS |  | 
| moscato2 | Windows Server 2008 R2 Enterprise SP1 (64-bit) / x64 | OK | WARNINGS | OK | 
| petty | Mac OS X Snow Leopard (10.6.8) / x86_64 | OK | WARNINGS | OK | 
| geneLenDataBase 0.99.11 Matthew Young , Nadia Davidson
 
 | Last Changed Rev: 2317 / Revision: 2510 |  | Last Changed Date: 2013-04-03 15:11:40 -0700 | 
 | george2 | Linux (Ubuntu 12.04.1 LTS) / x86_64 | OK | WARNINGS |  | 
| moscato2 | Windows Server 2008 R2 Enterprise SP1 (64-bit) / x64 | OK | TIMEOUT | OK | 
| petty | Mac OS X Snow Leopard (10.6.8) / x86_64 | OK | WARNINGS | OK | 
| GGdata 1.0.21 VJ Carey
 
 | Last Changed Rev: 2495 / Revision: 2510 |  | Last Changed Date: 2013-10-04 19:29:59 -0700 | 
 | george2 | Linux (Ubuntu 12.04.1 LTS) / x86_64 | OK | OK |  | 
| moscato2 | Windows Server 2008 R2 Enterprise SP1 (64-bit) / x64 | OK | OK | OK | 
| petty | Mac OS X Snow Leopard (10.6.8) / x86_64 | OK | OK | OK | 
| ggtut 0.0.44 VJ Carey
 
 | Last Changed Rev: 2317 / Revision: 2510 |  | Last Changed Date: 2013-04-03 15:11:40 -0700 | 
 | george2 | Linux (Ubuntu 12.04.1 LTS) / x86_64 | OK | OK |  | 
| moscato2 | Windows Server 2008 R2 Enterprise SP1 (64-bit) / x64 | OK | OK | OK | 
| petty | Mac OS X Snow Leopard (10.6.8) / x86_64 | OK | OK | OK | 
| golubEsets 1.4.13 Vince Carey
 
 | Last Changed Rev: 2317 / Revision: 2510 |  | Last Changed Date: 2013-04-03 15:11:40 -0700 | 
 | george2 | Linux (Ubuntu 12.04.1 LTS) / x86_64 | OK | OK |  | 
| moscato2 | Windows Server 2008 R2 Enterprise SP1 (64-bit) / x64 | OK | OK | OK | 
| petty | Mac OS X Snow Leopard (10.6.8) / x86_64 | OK | OK | OK | 
| GSVAdata 0.99.10 Robert Castelo
 
 | Last Changed Rev: 2317 / Revision: 2510 |  | Last Changed Date: 2013-04-03 15:11:40 -0700 | 
 | george2 | Linux (Ubuntu 12.04.1 LTS) / x86_64 | OK | OK |  | 
| moscato2 | Windows Server 2008 R2 Enterprise SP1 (64-bit) / x64 | OK | OK | OK | 
| petty | Mac OS X Snow Leopard (10.6.8) / x86_64 | OK | OK | OK | 
| GWASdata 1.0.9 Stephanie Gogarten , Adrienne Stilp
 
 | Last Changed Rev: 2487 / Revision: 2510 |  | Last Changed Date: 2013-10-04 19:11:40 -0700 | 
 | george2 | Linux (Ubuntu 12.04.1 LTS) / x86_64 | OK | OK |  | 
| moscato2 | Windows Server 2008 R2 Enterprise SP1 (64-bit) / x64 | OK | OK | OK | 
| petty | Mac OS X Snow Leopard (10.6.8) / x86_64 | OK | OK | OK | 
| hapmap100khind 1.4.2 Benilton Carvalho
 
 | Last Changed Rev: 2317 / Revision: 2510 |  | Last Changed Date: 2013-04-03 15:11:40 -0700 | 
 | george2 | Linux (Ubuntu 12.04.1 LTS) / x86_64 | OK | OK |  | 
| moscato2 | Windows Server 2008 R2 Enterprise SP1 (64-bit) / x64 | OK | OK | OK | 
| petty | Mac OS X Snow Leopard (10.6.8) / x86_64 | OK | OK | OK | 
| hapmap100kxba 1.4.2 Benilton Carvalho
 
 | Last Changed Rev: 2317 / Revision: 2510 |  | Last Changed Date: 2013-04-03 15:11:40 -0700 | 
 | george2 | Linux (Ubuntu 12.04.1 LTS) / x86_64 | OK | OK |  | 
| moscato2 | Windows Server 2008 R2 Enterprise SP1 (64-bit) / x64 | OK | OK | OK | 
| petty | Mac OS X Snow Leopard (10.6.8) / x86_64 | OK | OK | OK | 
| hapmap500knsp 1.4.2 Benilton Carvalho
 
 | Last Changed Rev: 2317 / Revision: 2510 |  | Last Changed Date: 2013-04-03 15:11:40 -0700 | 
 | george2 | Linux (Ubuntu 12.04.1 LTS) / x86_64 | OK | OK |  | 
| moscato2 | Windows Server 2008 R2 Enterprise SP1 (64-bit) / x64 | OK | OK | OK | 
| petty | Mac OS X Snow Leopard (10.6.8) / x86_64 | OK | OK | OK | 
| hapmap500ksty 1.4.2 Benilton Carvalho
 
 | Last Changed Rev: 2317 / Revision: 2510 |  | Last Changed Date: 2013-04-03 15:11:40 -0700 | 
 | george2 | Linux (Ubuntu 12.04.1 LTS) / x86_64 | OK | OK |  | 
| moscato2 | Windows Server 2008 R2 Enterprise SP1 (64-bit) / x64 | OK | OK | OK | 
| petty | Mac OS X Snow Leopard (10.6.8) / x86_64 | OK | OK | OK | 
| hapmapsnp5 1.4.2 Benilton Carvalho
 
 | Last Changed Rev: 2317 / Revision: 2510 |  | Last Changed Date: 2013-04-03 15:11:40 -0700 | 
 | george2 | Linux (Ubuntu 12.04.1 LTS) / x86_64 | OK | OK |  | 
| moscato2 | Windows Server 2008 R2 Enterprise SP1 (64-bit) / x64 | OK | OK | OK | 
| petty | Mac OS X Snow Leopard (10.6.8) / x86_64 | OK | OK | OK | 
| hapmapsnp6 1.4.2 Benilton Carvalho
 
 | Last Changed Rev: 2317 / Revision: 2510 |  | Last Changed Date: 2013-04-03 15:11:40 -0700 | 
 | george2 | Linux (Ubuntu 12.04.1 LTS) / x86_64 | OK | OK |  | 
| moscato2 | Windows Server 2008 R2 Enterprise SP1 (64-bit) / x64 | OK | OK | OK | 
| petty | Mac OS X Snow Leopard (10.6.8) / x86_64 | OK | OK | OK | 
| harbChIP 1.0.10 VJ Carey
 
 | Last Changed Rev: 2317 / Revision: 2510 |  | Last Changed Date: 2013-04-03 15:11:40 -0700 | 
 | george2 | Linux (Ubuntu 12.04.1 LTS) / x86_64 | OK | OK |  | 
| moscato2 | Windows Server 2008 R2 Enterprise SP1 (64-bit) / x64 | OK | OK | OK | 
| petty | Mac OS X Snow Leopard (10.6.8) / x86_64 | OK | OK | OK | 
| HD2013SGI 1.0.4 Bernd Fischer
 
 | Last Changed Rev: 2399 / Revision: 2510 |  | Last Changed Date: 2013-07-18 02:50:56 -0700 | 
 | george2 | Linux (Ubuntu 12.04.1 LTS) / x86_64 | ERROR | skipped |  | 
| moscato2 | Windows Server 2008 R2 Enterprise SP1 (64-bit) / x64 | ERROR | skipped | skipped | 
| petty | Mac OS X Snow Leopard (10.6.8) / x86_64 | ERROR | skipped | skipped | 
| HEEBOdata 1.0.5 Agnes Paquet
 
 | Last Changed Rev: 2317 / Revision: 2510 |  | Last Changed Date: 2013-04-03 15:11:40 -0700 | 
 | george2 | Linux (Ubuntu 12.04.1 LTS) / x86_64 | OK | WARNINGS |  | 
| moscato2 | Windows Server 2008 R2 Enterprise SP1 (64-bit) / x64 | OK | WARNINGS | OK | 
| petty | Mac OS X Snow Leopard (10.6.8) / x86_64 | OK | WARNINGS | OK | 
| hgu133abarcodevecs 1.0.6 Matthew N. McCall
 
 | Last Changed Rev: 2317 / Revision: 2510 |  | Last Changed Date: 2013-04-03 15:11:40 -0700 | 
 | george2 | Linux (Ubuntu 12.04.1 LTS) / x86_64 | OK | OK |  | 
| moscato2 | Windows Server 2008 R2 Enterprise SP1 (64-bit) / x64 | OK | OK | OK | 
| petty | Mac OS X Snow Leopard (10.6.8) / x86_64 | OK | OK | OK | 
| hgu133plus2barcodevecs 1.0.6 Matthew N. McCall
 
 | Last Changed Rev: 2317 / Revision: 2510 |  | Last Changed Date: 2013-04-03 15:11:40 -0700 | 
 | george2 | Linux (Ubuntu 12.04.1 LTS) / x86_64 | OK | OK |  | 
| moscato2 | Windows Server 2008 R2 Enterprise SP1 (64-bit) / x64 | OK | OK | OK | 
| petty | Mac OS X Snow Leopard (10.6.8) / x86_64 | OK | OK | OK | 
| hgu2beta7 1.2.8 Bioconductor Package Maintainer
 
 | Last Changed Rev: 2317 / Revision: 2510 |  | Last Changed Date: 2013-04-03 15:11:40 -0700 | 
 | george2 | Linux (Ubuntu 12.04.1 LTS) / x86_64 | OK | WARNINGS |  | 
| moscato2 | Windows Server 2008 R2 Enterprise SP1 (64-bit) / x64 | OK | WARNINGS | OK | 
| petty | Mac OS X Snow Leopard (10.6.8) / x86_64 | OK | WARNINGS | OK | 
| HIVcDNAvantWout03 1.2.8 Chris Fraley
 
 | Last Changed Rev: 2317 / Revision: 2510 |  | Last Changed Date: 2013-04-03 15:11:40 -0700 | 
 | george2 | Linux (Ubuntu 12.04.1 LTS) / x86_64 | OK | OK |  | 
| moscato2 | Windows Server 2008 R2 Enterprise SP1 (64-bit) / x64 | OK | OK | OK | 
| petty | Mac OS X Snow Leopard (10.6.8) / x86_64 | OK | OK | OK | 
| hmyriB36 0.99.17 Vincent Carey
 
 | Last Changed Rev: 2493 / Revision: 2510 |  | Last Changed Date: 2013-10-04 19:25:18 -0700 | 
 | george2 | Linux (Ubuntu 12.04.1 LTS) / x86_64 | OK | OK |  | 
| moscato2 | Windows Server 2008 R2 Enterprise SP1 (64-bit) / x64 | OK | OK | OK | 
| petty | Mac OS X Snow Leopard (10.6.8) / x86_64 | OK | OK | OK | 
| humanStemCell 0.2.8 R. Gentleman
 
 | Last Changed Rev: 2317 / Revision: 2510 |  | Last Changed Date: 2013-04-03 15:11:40 -0700 | 
 | george2 | Linux (Ubuntu 12.04.1 LTS) / x86_64 | OK | WARNINGS |  | 
| moscato2 | Windows Server 2008 R2 Enterprise SP1 (64-bit) / x64 | OK | WARNINGS | OK | 
| petty | Mac OS X Snow Leopard (10.6.8) / x86_64 | OK | WARNINGS | OK | 
| ind1KG 0.1.15 VJ Carey
 
 | Last Changed Rev: 2317 / Revision: 2510 |  | Last Changed Date: 2013-04-03 15:11:40 -0700 | 
 | george2 | Linux (Ubuntu 12.04.1 LTS) / x86_64 | OK | OK |  | 
| moscato2 | Windows Server 2008 R2 Enterprise SP1 (64-bit) / x64 | OK | OK | OK | 
| petty | Mac OS X Snow Leopard (10.6.8) / x86_64 | OK | OK | OK | 
| iontreeData 0.99.8 Mingshu Cao
 
 | Last Changed Rev: 2488 / Revision: 2510 |  | Last Changed Date: 2013-10-04 19:13:16 -0700 | 
 | george2 | Linux (Ubuntu 12.04.1 LTS) / x86_64 | OK | WARNINGS |  | 
| moscato2 | Windows Server 2008 R2 Enterprise SP1 (64-bit) / x64 | OK | WARNINGS | OK | 
| petty | Mac OS X Snow Leopard (10.6.8) / x86_64 | OK | WARNINGS | OK | 
| ITALICSData 2.0.7 Guillem Rigaill
 
 | Last Changed Rev: 2494 / Revision: 2510 |  | Last Changed Date: 2013-10-04 19:28:10 -0700 | 
 | george2 | Linux (Ubuntu 12.04.1 LTS) / x86_64 | OK | WARNINGS |  | 
| moscato2 | Windows Server 2008 R2 Enterprise SP1 (64-bit) / x64 | OK | WARNINGS | OK | 
| petty | Mac OS X Snow Leopard (10.6.8) / x86_64 | OK | WARNINGS | OK | 
| Iyer517 1.4.12 Vince Carey
 
 | Last Changed Rev: 2317 / Revision: 2510 |  | Last Changed Date: 2013-04-03 15:11:40 -0700 | 
 | george2 | Linux (Ubuntu 12.04.1 LTS) / x86_64 | OK | OK |  | 
| moscato2 | Windows Server 2008 R2 Enterprise SP1 (64-bit) / x64 | OK | OK | OK | 
| petty | Mac OS X Snow Leopard (10.6.8) / x86_64 | OK | OK | OK | 
| KEGGdzPathwaysGEO 1.1.2 Gaurav Bhatti
 
 | Last Changed Rev: 2317 / Revision: 2510 |  | Last Changed Date: 2013-04-03 15:11:40 -0700 | 
 | george2 | Linux (Ubuntu 12.04.1 LTS) / x86_64 | OK | OK |  | 
| moscato2 | Windows Server 2008 R2 Enterprise SP1 (64-bit) / x64 | OK | OK | OK | 
| petty | Mac OS X Snow Leopard (10.6.8) / x86_64 | OK | OK | OK | 
| kidpack 1.5.12 Wolfgang Huber
 
 | Last Changed Rev: 2317 / Revision: 2510 |  | Last Changed Date: 2013-04-03 15:11:40 -0700 | 
 | george2 | Linux (Ubuntu 12.04.1 LTS) / x86_64 | OK | WARNINGS |  | 
| moscato2 | Windows Server 2008 R2 Enterprise SP1 (64-bit) / x64 | OK | WARNINGS | OK | 
| petty | Mac OS X Snow Leopard (10.6.8) / x86_64 | OK | WARNINGS | OK | 
| leeBamViews 0.99.22 VJ Carey
 
 | Last Changed Rev: 2317 / Revision: 2510 |  | Last Changed Date: 2013-04-03 15:11:40 -0700 | 
 | george2 | Linux (Ubuntu 12.04.1 LTS) / x86_64 | OK | OK |  | 
| moscato2 | Windows Server 2008 R2 Enterprise SP1 (64-bit) / x64 | OK | OK | OK | 
| petty | Mac OS X Snow Leopard (10.6.8) / x86_64 | OK | OK | OK | 
| leukemiasEset 0.99.3 Sara Aibar
 
 | Last Changed Rev: 2317 / Revision: 2510 |  | Last Changed Date: 2013-04-03 15:11:40 -0700 | 
 | george2 | Linux (Ubuntu 12.04.1 LTS) / x86_64 | OK | OK |  | 
| moscato2 | Windows Server 2008 R2 Enterprise SP1 (64-bit) / x64 | OK | OK | OK | 
| petty | Mac OS X Snow Leopard (10.6.8) / x86_64 | OK | OK | OK | 
| LiebermanAidenHiC2009 0.1.14 Felix Klein
 
 | Last Changed Rev: 2317 / Revision: 2510 |  | Last Changed Date: 2013-04-03 15:11:40 -0700 | 
 | george2 | Linux (Ubuntu 12.04.1 LTS) / x86_64 | OK | WARNINGS |  | 
| moscato2 | Windows Server 2008 R2 Enterprise SP1 (64-bit) / x64 | OK | WARNINGS | OK | 
| petty | Mac OS X Snow Leopard (10.6.8) / x86_64 | OK | WARNINGS | OK | 
| lumiBarnes 1.3.10 Pan Du
 
 | Last Changed Rev: 2317 / Revision: 2510 |  | Last Changed Date: 2013-04-03 15:11:40 -0700 | 
 | george2 | Linux (Ubuntu 12.04.1 LTS) / x86_64 | OK | WARNINGS |  | 
| moscato2 | Windows Server 2008 R2 Enterprise SP1 (64-bit) / x64 | OK | WARNINGS | OK | 
| petty | Mac OS X Snow Leopard (10.6.8) / x86_64 | OK | WARNINGS | OK | 
| LungCancerLines 0.0.8 Cory Barr
 
 | Last Changed Rev: 2317 / Revision: 2510 |  | Last Changed Date: 2013-04-03 15:11:40 -0700 | 
 | george2 | Linux (Ubuntu 12.04.1 LTS) / x86_64 | OK | OK |  | 
| moscato2 | Windows Server 2008 R2 Enterprise SP1 (64-bit) / x64 | OK | OK | OK | 
| petty | Mac OS X Snow Leopard (10.6.8) / x86_64 | OK | OK | OK | 
| lungExpression 0.0.15 Robert Scharpf
 
 | Last Changed Rev: 2317 / Revision: 2510 |  | Last Changed Date: 2013-04-03 15:11:40 -0700 | 
 | george2 | Linux (Ubuntu 12.04.1 LTS) / x86_64 | OK | OK |  | 
| moscato2 | Windows Server 2008 R2 Enterprise SP1 (64-bit) / x64 | OK | OK | OK | 
| petty | Mac OS X Snow Leopard (10.6.8) / x86_64 | OK | OK | OK | 
| maqcExpression4plex 1.6.2 Benilton Carvalho
 
 | Last Changed Rev: 2317 / Revision: 2510 |  | Last Changed Date: 2013-04-03 15:11:40 -0700 | 
 | george2 | Linux (Ubuntu 12.04.1 LTS) / x86_64 | OK | OK |  | 
| moscato2 | Windows Server 2008 R2 Enterprise SP1 (64-bit) / x64 | OK | OK | OK | 
| petty | Mac OS X Snow Leopard (10.6.8) / x86_64 | OK | OK | OK | 
| MAQCsubset 1.0.27 VJ Carey
 
 | Last Changed Rev: 2317 / Revision: 2510 |  | Last Changed Date: 2013-04-03 15:11:40 -0700 | 
 | george2 | Linux (Ubuntu 12.04.1 LTS) / x86_64 | OK | OK |  | 
| moscato2 | Windows Server 2008 R2 Enterprise SP1 (64-bit) / x64 | OK | OK | OK | 
| petty | Mac OS X Snow Leopard (10.6.8) / x86_64 | OK | OK | OK | 
| MAQCsubsetAFX 1.0.11 Laurent Gatto
 
 | Last Changed Rev: 2335 / Revision: 2510 |  | Last Changed Date: 2013-04-23 18:14:11 -0700 | 
 | george2 | Linux (Ubuntu 12.04.1 LTS) / x86_64 | OK | OK |  | 
| moscato2 | Windows Server 2008 R2 Enterprise SP1 (64-bit) / x64 | OK | OK | OK | 
| petty | Mac OS X Snow Leopard (10.6.8) / x86_64 | OK | OK | OK | 
| MAQCsubsetILM 1.0.10 Laurent Gatto
 
 | Last Changed Rev: 2317 / Revision: 2510 |  | Last Changed Date: 2013-04-03 15:11:40 -0700 | 
 | george2 | Linux (Ubuntu 12.04.1 LTS) / x86_64 | OK | OK |  | 
| moscato2 | Windows Server 2008 R2 Enterprise SP1 (64-bit) / x64 | OK | OK | OK | 
| petty | Mac OS X Snow Leopard (10.6.8) / x86_64 | OK | OK | OK | 
| MEDIPSData 0.99.4 Lukas Chavez
 
 | Last Changed Rev: 2317 / Revision: 2510 |  | Last Changed Date: 2013-04-03 15:11:40 -0700 | 
 | george2 | Linux (Ubuntu 12.04.1 LTS) / x86_64 | OK | OK |  | 
| moscato2 | Windows Server 2008 R2 Enterprise SP1 (64-bit) / x64 | OK | OK | OK | 
| petty | Mac OS X Snow Leopard (10.6.8) / x86_64 | OK | OK | OK | 
| MEEBOdata 1.0.5 Agnes Paquet
 
 | Last Changed Rev: 2317 / Revision: 2510 |  | Last Changed Date: 2013-04-03 15:11:40 -0700 | 
 | george2 | Linux (Ubuntu 12.04.1 LTS) / x86_64 | OK | WARNINGS |  | 
| moscato2 | Windows Server 2008 R2 Enterprise SP1 (64-bit) / x64 | OK | WARNINGS | OK | 
| petty | Mac OS X Snow Leopard (10.6.8) / x86_64 | OK | WARNINGS | OK | 
| minfiData 0.3.4 Kasper Daniel Hansen
 
 | Last Changed Rev: 2398 / Revision: 2510 |  | Last Changed Date: 2013-07-17 10:10:34 -0700 | 
 | george2 | Linux (Ubuntu 12.04.1 LTS) / x86_64 | OK | OK |  | 
| moscato2 | Windows Server 2008 R2 Enterprise SP1 (64-bit) / x64 | OK | OK | OK | 
| petty | Mac OS X Snow Leopard (10.6.8) / x86_64 | OK | OK | OK | 
| miRNATarget 0.99.3 Y-h. Taguchi
 
 | Last Changed Rev: 2317 / Revision: 2510 |  | Last Changed Date: 2013-04-03 15:11:40 -0700 | 
 | george2 | Linux (Ubuntu 12.04.1 LTS) / x86_64 | OK | OK |  | 
| moscato2 | Windows Server 2008 R2 Enterprise SP1 (64-bit) / x64 | OK | OK | OK | 
| petty | Mac OS X Snow Leopard (10.6.8) / x86_64 | OK | OK | OK | 
| MMDiffBamSubset 0.99.3 Gabriele Schweikert
 
 | Last Changed Rev: 2317 / Revision: 2510 |  | Last Changed Date: 2013-04-03 15:11:40 -0700 | 
 | george2 | Linux (Ubuntu 12.04.1 LTS) / x86_64 | OK | OK |  | 
| moscato2 | Windows Server 2008 R2 Enterprise SP1 (64-bit) / x64 | OK | OK | OK | 
| petty | Mac OS X Snow Leopard (10.6.8) / x86_64 | OK | OK | OK | 
| mosaicsExample 0.99.8 Dongjun Chung
 
 | Last Changed Rev: 2317 / Revision: 2510 |  | Last Changed Date: 2013-04-03 15:11:40 -0700 | 
 | george2 | Linux (Ubuntu 12.04.1 LTS) / x86_64 | OK | OK |  | 
| moscato2 | Windows Server 2008 R2 Enterprise SP1 (64-bit) / x64 | OK | OK | OK | 
| petty | Mac OS X Snow Leopard (10.6.8) / x86_64 | OK | OK | OK | 
| mouse4302barcodevecs 1.0.6 Matthew N. McCall
 
 | Last Changed Rev: 2317 / Revision: 2510 |  | Last Changed Date: 2013-04-03 15:11:40 -0700 | 
 | george2 | Linux (Ubuntu 12.04.1 LTS) / x86_64 | OK | OK |  | 
| moscato2 | Windows Server 2008 R2 Enterprise SP1 (64-bit) / x64 | OK | OK | OK | 
| petty | Mac OS X Snow Leopard (10.6.8) / x86_64 | OK | OK | OK | 
| msdata 0.1.13 Steffen Neumann
 
 | Last Changed Rev: 2317 / Revision: 2510 |  | Last Changed Date: 2013-04-03 15:11:40 -0700 | 
 | george2 | Linux (Ubuntu 12.04.1 LTS) / x86_64 | OK | WARNINGS |  | 
| moscato2 | Windows Server 2008 R2 Enterprise SP1 (64-bit) / x64 | OK | WARNINGS | OK | 
| petty | Mac OS X Snow Leopard (10.6.8) / x86_64 | OK | WARNINGS | OK | 
| Mulder2012 0.2.3 Xin Wang
 
 | Last Changed Rev: 2317 / Revision: 2510 |  | Last Changed Date: 2013-04-03 15:11:40 -0700 | 
 | george2 | Linux (Ubuntu 12.04.1 LTS) / x86_64 | OK | OK |  | 
| moscato2 | Windows Server 2008 R2 Enterprise SP1 (64-bit) / x64 | OK | WARNINGS | OK | 
| petty | Mac OS X Snow Leopard (10.6.8) / x86_64 | OK | WARNINGS | OK | 
| mvoutData 0.99.10 VJ Carey
 
 | Last Changed Rev: 2317 / Revision: 2510 |  | Last Changed Date: 2013-04-03 15:11:40 -0700 | 
 | george2 | Linux (Ubuntu 12.04.1 LTS) / x86_64 | OK | OK |  | 
| moscato2 | Windows Server 2008 R2 Enterprise SP1 (64-bit) / x64 | OK | OK | OK | 
| petty | Mac OS X Snow Leopard (10.6.8) / x86_64 | OK | OK | OK | 
| NCIgraphData 0.99.6 Laurent Jacob
 
 | Last Changed Rev: 2317 / Revision: 2510 |  | Last Changed Date: 2013-04-03 15:11:40 -0700 | 
 | george2 | Linux (Ubuntu 12.04.1 LTS) / x86_64 | OK | WARNINGS |  | 
| moscato2 | Windows Server 2008 R2 Enterprise SP1 (64-bit) / x64 | OK | WARNINGS | OK | 
| petty | Mac OS X Snow Leopard (10.6.8) / x86_64 | OK | WARNINGS | OK | 
| Neve2006 0.1.16 VJ Carey
 
 | Last Changed Rev: 2317 / Revision: 2510 |  | Last Changed Date: 2013-04-03 15:11:40 -0700 | 
 | george2 | Linux (Ubuntu 12.04.1 LTS) / x86_64 | OK | OK |  | 
| moscato2 | Windows Server 2008 R2 Enterprise SP1 (64-bit) / x64 | OK | OK | OK | 
| petty | Mac OS X Snow Leopard (10.6.8) / x86_64 | OK | OK | OK | 
| parathyroid 0.99.6 Michael Love
 
 | Last Changed Rev: 2341 / Revision: 2510 |  | Last Changed Date: 2013-05-11 01:34:10 -0700 | 
 | george2 | Linux (Ubuntu 12.04.1 LTS) / x86_64 | OK | OK |  | 
| moscato2 | Windows Server 2008 R2 Enterprise SP1 (64-bit) / x64 | OK | OK | OK | 
| petty | Mac OS X Snow Leopard (10.6.8) / x86_64 | OK | OK | OK | 
| parathyroidSE 1.0.2 Michael Love
 
 | Last Changed Rev: 2436 / Revision: 2510 |  | Last Changed Date: 2013-09-04 06:39:40 -0700 | 
 | george2 | Linux (Ubuntu 12.04.1 LTS) / x86_64 | ERROR | skipped |  | 
| moscato2 | Windows Server 2008 R2 Enterprise SP1 (64-bit) / x64 | ERROR | skipped | skipped | 
| petty | Mac OS X Snow Leopard (10.6.8) / x86_64 | ERROR | skipped | skipped | 
| pasilla 0.2.16 Alejandro Reyes
 
 | Last Changed Rev: 2317 / Revision: 2510 |  | Last Changed Date: 2013-04-03 15:11:40 -0700 | 
 | george2 | Linux (Ubuntu 12.04.1 LTS) / x86_64 | OK | WARNINGS |  | 
| moscato2 | Windows Server 2008 R2 Enterprise SP1 (64-bit) / x64 | OK | WARNINGS | OK | 
| petty | Mac OS X Snow Leopard (10.6.8) / x86_64 | OK | WARNINGS | OK | 
| pasillaBamSubset 0.0.7 H. Pages
 
 | Last Changed Rev: 2482 / Revision: 2510 |  | Last Changed Date: 2013-10-04 19:00:20 -0700 | 
 | george2 | Linux (Ubuntu 12.04.1 LTS) / x86_64 | OK | OK |  | 
| moscato2 | Windows Server 2008 R2 Enterprise SP1 (64-bit) / x64 | OK | OK | OK | 
| petty | Mac OS X Snow Leopard (10.6.8) / x86_64 | OK | OK | OK | 
| PathNetData 0.99.2 Jason B. Smith
 
 | Last Changed Rev: 2317 / Revision: 2510 |  | Last Changed Date: 2013-04-03 15:11:40 -0700 | 
 | george2 | Linux (Ubuntu 12.04.1 LTS) / x86_64 | OK | OK |  | 
| moscato2 | Windows Server 2008 R2 Enterprise SP1 (64-bit) / x64 | OK | OK | OK | 
| petty | Mac OS X Snow Leopard (10.6.8) / x86_64 | OK | OK | OK | 
| pcaGoPromoter.Hs.hg19 0.99.4 Morten Hansen,
 
 | Last Changed Rev: 2317 / Revision: 2510 |  | Last Changed Date: 2013-04-03 15:11:40 -0700 | 
 | george2 | Linux (Ubuntu 12.04.1 LTS) / x86_64 | OK | OK |  | 
| moscato2 | Windows Server 2008 R2 Enterprise SP1 (64-bit) / x64 | OK | OK | OK | 
| petty | Mac OS X Snow Leopard (10.6.8) / x86_64 | OK | OK | OK | 
| pcaGoPromoter.Mm.mm9 0.99.4 Morten Hansen,
 
 | Last Changed Rev: 2317 / Revision: 2510 |  | Last Changed Date: 2013-04-03 15:11:40 -0700 | 
 | george2 | Linux (Ubuntu 12.04.1 LTS) / x86_64 | OK | OK |  | 
| moscato2 | Windows Server 2008 R2 Enterprise SP1 (64-bit) / x64 | OK | OK | OK | 
| petty | Mac OS X Snow Leopard (10.6.8) / x86_64 | OK | OK | OK | 
| pcaGoPromoter.Rn.rn4 0.99.4 Morten Hansen,
 
 | Last Changed Rev: 2317 / Revision: 2510 |  | Last Changed Date: 2013-04-03 15:11:40 -0700 | 
 | george2 | Linux (Ubuntu 12.04.1 LTS) / x86_64 | OK | OK |  | 
| moscato2 | Windows Server 2008 R2 Enterprise SP1 (64-bit) / x64 | OK | OK | OK | 
| petty | Mac OS X Snow Leopard (10.6.8) / x86_64 | OK | OK | OK | 
| pd.atdschip.tiling 0.0.5 Kristof De Beuf
 
 | Last Changed Rev: 2317 / Revision: 2510 |  | Last Changed Date: 2013-04-03 15:11:40 -0700 | 
 | george2 | Linux (Ubuntu 12.04.1 LTS) / x86_64 | OK | OK |  | 
| moscato2 | Windows Server 2008 R2 Enterprise SP1 (64-bit) / x64 | OK | OK | OK | 
| petty | Mac OS X Snow Leopard (10.6.8) / x86_64 | OK | OK | OK | 
| ppiData 0.1.22 Bioconductor Package Maintainer
 
 | Last Changed Rev: 2317 / Revision: 2510 |  | Last Changed Date: 2013-04-03 15:11:40 -0700 | 
 | george2 | Linux (Ubuntu 12.04.1 LTS) / x86_64 | OK | WARNINGS |  | 
| moscato2 | Windows Server 2008 R2 Enterprise SP1 (64-bit) / x64 | OK | WARNINGS | OK | 
| petty | Mac OS X Snow Leopard (10.6.8) / x86_64 | OK | WARNINGS | OK | 
| prebsdata 0.99.4 Karolis Uziela
 
 | Last Changed Rev: 2330 / Revision: 2510 |  | Last Changed Date: 2013-04-16 03:55:03 -0700 | 
 | george2 | Linux (Ubuntu 12.04.1 LTS) / x86_64 | OK | OK |  | 
| moscato2 | Windows Server 2008 R2 Enterprise SP1 (64-bit) / x64 | OK | OK | OK | 
| petty | Mac OS X Snow Leopard (10.6.8) / x86_64 | OK | OK | OK | 
| PREDAsampledata 0.2.7 Francesco Ferrari
 
 | Last Changed Rev: 2317 / Revision: 2510 |  | Last Changed Date: 2013-04-03 15:11:40 -0700 | 
 | george2 | Linux (Ubuntu 12.04.1 LTS) / x86_64 | OK | WARNINGS |  | 
| moscato2 | Windows Server 2008 R2 Enterprise SP1 (64-bit) / x64 | OK | WARNINGS | OK | 
| petty | Mac OS X Snow Leopard (10.6.8) / x86_64 | OK | WARNINGS | OK | 
| ProData 1.0.8 Xiaochun Li
 
 | Last Changed Rev: 2317 / Revision: 2510 |  | Last Changed Date: 2013-04-03 15:11:40 -0700 | 
 | george2 | Linux (Ubuntu 12.04.1 LTS) / x86_64 | OK | OK |  | 
| moscato2 | Windows Server 2008 R2 Enterprise SP1 (64-bit) / x64 | OK | OK | OK | 
| petty | Mac OS X Snow Leopard (10.6.8) / x86_64 | OK | OK | OK | 
| pRolocdata 1.0.2 Laurent Gatto
 
 | Last Changed Rev: 2473 / Revision: 2510 |  | Last Changed Date: 2013-10-01 00:41:44 -0700 | 
 | george2 | Linux (Ubuntu 12.04.1 LTS) / x86_64 | OK | OK |  | 
| moscato2 | Windows Server 2008 R2 Enterprise SP1 (64-bit) / x64 | OK | WARNINGS | OK | 
| petty | Mac OS X Snow Leopard (10.6.8) / x86_64 | OK | OK | OK | 
| pumadata 1.99.5 Richard Pearson
 
 | Last Changed Rev: 2317 / Revision: 2510 |  | Last Changed Date: 2013-04-03 15:11:40 -0700 | 
 | george2 | Linux (Ubuntu 12.04.1 LTS) / x86_64 | OK | OK |  | 
| moscato2 | Windows Server 2008 R2 Enterprise SP1 (64-bit) / x64 | OK | OK | OK | 
| petty | Mac OS X Snow Leopard (10.6.8) / x86_64 | OK | OK | OK | 
| PWMEnrich.Dmelanogaster.background 2.1.0 Robert Stojnic
 
 | Last Changed Rev: 2433 / Revision: 2510 |  | Last Changed Date: 2013-08-19 03:16:09 -0700 | 
 | george2 | Linux (Ubuntu 12.04.1 LTS) / x86_64 | OK | WARNINGS |  | 
| moscato2 | Windows Server 2008 R2 Enterprise SP1 (64-bit) / x64 | OK | WARNINGS | OK | 
| petty | Mac OS X Snow Leopard (10.6.8) / x86_64 | OK | WARNINGS | OK | 
| RforProteomics 1.0.13 Laurent Gatto
 
 | Last Changed Rev: 2448 / Revision: 2510 |  | Last Changed Date: 2013-09-20 14:28:10 -0700 | 
 | george2 | Linux (Ubuntu 12.04.1 LTS) / x86_64 | OK | OK |  | 
| moscato2 | Windows Server 2008 R2 Enterprise SP1 (64-bit) / x64 | OK | OK | OK | 
| petty | Mac OS X Snow Leopard (10.6.8) / x86_64 | OK | OK | OK | 
| rheumaticConditionWOLLBOLD 1.0.3 Alejandro Quiroz-Zarate
 
 | Last Changed Rev: 2317 / Revision: 2510 |  | Last Changed Date: 2013-04-03 15:11:40 -0700 | 
 | george2 | Linux (Ubuntu 12.04.1 LTS) / x86_64 | OK | OK |  | 
| moscato2 | Windows Server 2008 R2 Enterprise SP1 (64-bit) / x64 | OK | OK | OK | 
| petty | Mac OS X Snow Leopard (10.6.8) / x86_64 | OK | OK | OK | 
| RIPSeekerData 0.99.1 Alejandro Reyes
 
 | Last Changed Rev: 2441 / Revision: 2510 |  | Last Changed Date: 2013-09-09 10:13:28 -0700 | 
 | george2 | Linux (Ubuntu 12.04.1 LTS) / x86_64 | OK | OK |  | 
| moscato2 | Windows Server 2008 R2 Enterprise SP1 (64-bit) / x64 | OK | OK | OK | 
| petty | Mac OS X Snow Leopard (10.6.8) / x86_64 | OK | OK | OK | 
| RMassBankData 0.99.2 Michael Stravs
 
 | Last Changed Rev: 2317 / Revision: 2510 |  | Last Changed Date: 2013-04-03 15:11:40 -0700 | 
 | george2 | Linux (Ubuntu 12.04.1 LTS) / x86_64 | OK | OK |  | 
| moscato2 | Windows Server 2008 R2 Enterprise SP1 (64-bit) / x64 | OK | OK | OK | 
| petty | Mac OS X Snow Leopard (10.6.8) / x86_64 | OK | OK | OK | 
| RNAinteractMAPK 1.0.11 Bernd Fischer
 
 | Last Changed Rev: 2317 / Revision: 2510 |  | Last Changed Date: 2013-04-03 15:11:40 -0700 | 
 | george2 | Linux (Ubuntu 12.04.1 LTS) / x86_64 | OK | OK |  | 
| moscato2 | Windows Server 2008 R2 Enterprise SP1 (64-bit) / x64 | OK | WARNINGS | OK | 
| petty | Mac OS X Snow Leopard (10.6.8) / x86_64 | OK | OK | OK | 
| RNAseqData.HeLa.bam.chr14 0.1.4 H. Pages
 
 | Last Changed Rev: 2475 / Revision: 2510 |  | Last Changed Date: 2013-10-04 13:25:10 -0700 | 
 | george2 | Linux (Ubuntu 12.04.1 LTS) / x86_64 | OK | WARNINGS |  | 
| moscato2 | Windows Server 2008 R2 Enterprise SP1 (64-bit) / x64 | OK | WARNINGS | OK | 
| petty | Mac OS X Snow Leopard (10.6.8) / x86_64 | OK | WARNINGS | OK | 
| RNAseqData.HNRNPC.bam.chr14 0.1.3 H. Pages
 
 | Last Changed Rev: 2369 / Revision: 2510 |  | Last Changed Date: 2013-06-05 12:47:33 -0700 | 
 | george2 | Linux (Ubuntu 12.04.1 LTS) / x86_64 | OK | WARNINGS |  | 
| moscato2 | Windows Server 2008 R2 Enterprise SP1 (64-bit) / x64 | OK | WARNINGS | OK | 
| petty | Mac OS X Snow Leopard (10.6.8) / x86_64 | OK | WARNINGS | OK | 
| RnaSeqTutorial 0.0.12 Nicolas Delhomme
 
 | Last Changed Rev: 2317 / Revision: 2510 |  | Last Changed Date: 2013-04-03 15:11:40 -0700 | 
 | george2 | Linux (Ubuntu 12.04.1 LTS) / x86_64 | OK | OK |  | 
| moscato2 | Windows Server 2008 R2 Enterprise SP1 (64-bit) / x64 | OK | OK | OK | 
| petty | Mac OS X Snow Leopard (10.6.8) / x86_64 | OK | OK | OK | 
| serumStimulation 0.99.4 Morten Hansen,
 
 | Last Changed Rev: 2317 / Revision: 2510 |  | Last Changed Date: 2013-04-03 15:11:40 -0700 | 
 | george2 | Linux (Ubuntu 12.04.1 LTS) / x86_64 | OK | OK |  | 
| moscato2 | Windows Server 2008 R2 Enterprise SP1 (64-bit) / x64 | OK | OK | OK | 
| petty | Mac OS X Snow Leopard (10.6.8) / x86_64 | OK | OK | OK | 
| simpIntLists 0.99.4 Kircicegi Korkmaz
 
 | Last Changed Rev: 2317 / Revision: 2510 |  | Last Changed Date: 2013-04-03 15:11:40 -0700 | 
 | george2 | Linux (Ubuntu 12.04.1 LTS) / x86_64 | OK | WARNINGS |  | 
| moscato2 | Windows Server 2008 R2 Enterprise SP1 (64-bit) / x64 | OK | WARNINGS | OK | 
| petty | Mac OS X Snow Leopard (10.6.8) / x86_64 | OK | WARNINGS | OK | 
| SNAData 1.8.6 Denise Scholtens
 
 | Last Changed Rev: 2317 / Revision: 2510 |  | Last Changed Date: 2013-04-03 15:11:40 -0700 | 
 | george2 | Linux (Ubuntu 12.04.1 LTS) / x86_64 | OK | OK |  | 
| moscato2 | Windows Server 2008 R2 Enterprise SP1 (64-bit) / x64 | OK | OK | OK | 
| petty | Mac OS X Snow Leopard (10.6.8) / x86_64 | OK | OK | OK | 
| SNAGEEdata 0.99.1 David Venet
 
 | Last Changed Rev: 2317 / Revision: 2510 |  | Last Changed Date: 2013-04-03 15:11:40 -0700 | 
 | george2 | Linux (Ubuntu 12.04.1 LTS) / x86_64 | OK | OK |  | 
| moscato2 | Windows Server 2008 R2 Enterprise SP1 (64-bit) / x64 | OK | OK | OK | 
| petty | Mac OS X Snow Leopard (10.6.8) / x86_64 | OK | OK | OK | 
| SomatiCAData 1.1.0 Mengjie Chen
 
 | Last Changed Rev: 2377 / Revision: 2510 |  | Last Changed Date: 2013-06-18 20:39:41 -0700 | 
 | george2 | Linux (Ubuntu 12.04.1 LTS) / x86_64 | OK | WARNINGS |  | 
| moscato2 | Windows Server 2008 R2 Enterprise SP1 (64-bit) / x64 | OK | WARNINGS | OK | 
| petty | Mac OS X Snow Leopard (10.6.8) / x86_64 | OK | WARNINGS | OK | 
| SpikeIn 1.4.10 Rafael A. Irizarry
 
 | Last Changed Rev: 2317 / Revision: 2510 |  | Last Changed Date: 2013-04-03 15:11:40 -0700 | 
 | george2 | Linux (Ubuntu 12.04.1 LTS) / x86_64 | OK | WARNINGS |  | 
| moscato2 | Windows Server 2008 R2 Enterprise SP1 (64-bit) / x64 | OK | WARNINGS | OK | 
| petty | Mac OS X Snow Leopard (10.6.8) / x86_64 | OK | WARNINGS | OK | 
| SpikeInSubset 1.2.13 Rafael A. Irizarry
 
 | Last Changed Rev: 2317 / Revision: 2510 |  | Last Changed Date: 2013-04-03 15:11:40 -0700 | 
 | george2 | Linux (Ubuntu 12.04.1 LTS) / x86_64 | OK | WARNINGS |  | 
| moscato2 | Windows Server 2008 R2 Enterprise SP1 (64-bit) / x64 | OK | WARNINGS | OK | 
| petty | Mac OS X Snow Leopard (10.6.8) / x86_64 | OK | WARNINGS | OK | 
| stemHypoxia 0.99.3 Cristobal Fresno
 
 | Last Changed Rev: 2317 / Revision: 2510 |  | Last Changed Date: 2013-04-03 15:11:40 -0700 | 
 | george2 | Linux (Ubuntu 12.04.1 LTS) / x86_64 | OK | OK |  | 
| moscato2 | Windows Server 2008 R2 Enterprise SP1 (64-bit) / x64 | OK | OK | OK | 
| petty | Mac OS X Snow Leopard (10.6.8) / x86_64 | OK | OK | OK | 
| stjudem 1.2.9 Joern Toedling
 
 | Last Changed Rev: 2317 / Revision: 2510 |  | Last Changed Date: 2013-04-03 15:11:40 -0700 | 
 | george2 | Linux (Ubuntu 12.04.1 LTS) / x86_64 | OK | OK |  | 
| moscato2 | Windows Server 2008 R2 Enterprise SP1 (64-bit) / x64 | OK | OK | OK | 
| petty | Mac OS X Snow Leopard (10.6.8) / x86_64 | OK | OK | OK | 
| synapterdata 1.0.0 Laurent Gatto
 
 | Last Changed Rev: 2342 / Revision: 2510 |  | Last Changed Date: 2013-05-13 03:31:29 -0700 | 
 | george2 | Linux (Ubuntu 12.04.1 LTS) / x86_64 | OK | OK |  | 
| moscato2 | Windows Server 2008 R2 Enterprise SP1 (64-bit) / x64 | OK | WARNINGS | OK | 
| petty | Mac OS X Snow Leopard (10.6.8) / x86_64 | OK | OK | OK | 
| TargetSearchData 1.0.9 Alvaro Cuadros-Inostroza
 
 | Last Changed Rev: 2503 / Revision: 2510 |  | Last Changed Date: 2013-10-04 20:19:00 -0700 | 
 | george2 | Linux (Ubuntu 12.04.1 LTS) / x86_64 | OK | OK |  | 
| moscato2 | Windows Server 2008 R2 Enterprise SP1 (64-bit) / x64 | OK | WARNINGS | OK | 
| petty | Mac OS X Snow Leopard (10.6.8) / x86_64 | OK | OK | OK | 
| TBX20BamSubset 0.99.2 D. Bindreither
 
 | Last Changed Rev: 2317 / Revision: 2510 |  | Last Changed Date: 2013-04-03 15:11:40 -0700 | 
 | george2 | Linux (Ubuntu 12.04.1 LTS) / x86_64 | OK | OK |  | 
| moscato2 | Windows Server 2008 R2 Enterprise SP1 (64-bit) / x64 | OK | OK | OK | 
| petty | Mac OS X Snow Leopard (10.6.8) / x86_64 | OK | OK | OK | 
| TCGAMethylation450k 0.99.4 Sean Davis
 
 | Last Changed Rev: 2486 / Revision: 2510 |  | Last Changed Date: 2013-10-04 19:09:45 -0700 | 
 | george2 | Linux (Ubuntu 12.04.1 LTS) / x86_64 | OK | OK |  | 
| moscato2 | Windows Server 2008 R2 Enterprise SP1 (64-bit) / x64 | OK | OK | OK | 
| petty | Mac OS X Snow Leopard (10.6.8) / x86_64 | OK | OK | OK | 
| tinesath1cdf 1.0.9 Tine Casneuf
 
 | Last Changed Rev: 2317 / Revision: 2510 |  | Last Changed Date: 2013-04-03 15:11:40 -0700 | 
 | george2 | Linux (Ubuntu 12.04.1 LTS) / x86_64 | OK | WARNINGS |  | 
| moscato2 | Windows Server 2008 R2 Enterprise SP1 (64-bit) / x64 | OK | WARNINGS | OK | 
| petty | Mac OS X Snow Leopard (10.6.8) / x86_64 | OK | WARNINGS | OK | 
| tinesath1probe 1.0.9 Tine Casneuf
 
 | Last Changed Rev: 2317 / Revision: 2510 |  | Last Changed Date: 2013-04-03 15:11:40 -0700 | 
 | george2 | Linux (Ubuntu 12.04.1 LTS) / x86_64 | OK | WARNINGS |  | 
| moscato2 | Windows Server 2008 R2 Enterprise SP1 (64-bit) / x64 | OK | WARNINGS | OK | 
| petty | Mac OS X Snow Leopard (10.6.8) / x86_64 | OK | WARNINGS | OK | 
| tweeDEseqCountData 1.0.9 Juan R Gonzalez
 
 | Last Changed Rev: 2485 / Revision: 2510 |  | Last Changed Date: 2013-10-04 19:07:53 -0700 | 
 | george2 | Linux (Ubuntu 12.04.1 LTS) / x86_64 | OK | OK |  | 
| moscato2 | Windows Server 2008 R2 Enterprise SP1 (64-bit) / x64 | OK | OK | OK | 
| petty | Mac OS X Snow Leopard (10.6.8) / x86_64 | OK | OK | OK | 
| waveTilingData 0.99.2 Kristof De Beuf
 
 | Last Changed Rev: 2317 / Revision: 2510 |  | Last Changed Date: 2013-04-03 15:11:40 -0700 | 
 | george2 | Linux (Ubuntu 12.04.1 LTS) / x86_64 | OK | OK |  | 
| moscato2 | Windows Server 2008 R2 Enterprise SP1 (64-bit) / x64 | OK | OK | OK | 
| petty | Mac OS X Snow Leopard (10.6.8) / x86_64 | OK | OK | OK | 
| XhybCasneuf 1.0.11 Tineke Casneuf
 
 | Last Changed Rev: 2317 / Revision: 2510 |  | Last Changed Date: 2013-04-03 15:11:40 -0700 | 
 | george2 | Linux (Ubuntu 12.04.1 LTS) / x86_64 | OK | WARNINGS |  | 
| moscato2 | Windows Server 2008 R2 Enterprise SP1 (64-bit) / x64 | OK | WARNINGS | OK | 
| petty | Mac OS X Snow Leopard (10.6.8) / x86_64 | OK | WARNINGS | OK | 
| yeastCC 1.2.18 Sandrine Dudoit
 
 | Last Changed Rev: 2317 / Revision: 2510 |  | Last Changed Date: 2013-04-03 15:11:40 -0700 | 
 | george2 | Linux (Ubuntu 12.04.1 LTS) / x86_64 | OK | WARNINGS |  | 
| moscato2 | Windows Server 2008 R2 Enterprise SP1 (64-bit) / x64 | OK | WARNINGS | OK | 
| petty | Mac OS X Snow Leopard (10.6.8) / x86_64 | OK | WARNINGS | OK | 
| yeastExpData 0.9.22 R. Gentleman
 
 | Last Changed Rev: 2317 / Revision: 2510 |  | Last Changed Date: 2013-04-03 15:11:40 -0700 | 
 | george2 | Linux (Ubuntu 12.04.1 LTS) / x86_64 | OK | WARNINGS |  | 
| moscato2 | Windows Server 2008 R2 Enterprise SP1 (64-bit) / x64 | OK | WARNINGS | OK | 
| petty | Mac OS X Snow Leopard (10.6.8) / x86_64 | OK | WARNINGS | OK | 
| yeastGSData 0.1.10 R. Gentleman
 
 | Last Changed Rev: 2317 / Revision: 2510 |  | Last Changed Date: 2013-04-03 15:11:40 -0700 | 
 | george2 | Linux (Ubuntu 12.04.1 LTS) / x86_64 | OK | WARNINGS |  | 
| moscato2 | Windows Server 2008 R2 Enterprise SP1 (64-bit) / x64 | OK | WARNINGS | OK | 
| petty | Mac OS X Snow Leopard (10.6.8) / x86_64 | OK | WARNINGS | OK | 
| yeastNagalakshmi 0.99.6 Bioconductor Package Maintainer
 
 | Last Changed Rev: 2317 / Revision: 2510 |  | Last Changed Date: 2013-04-03 15:11:40 -0700 | 
 | george2 | Linux (Ubuntu 12.04.1 LTS) / x86_64 | OK | OK |  | 
| moscato2 | Windows Server 2008 R2 Enterprise SP1 (64-bit) / x64 | OK | OK | OK | 
| petty | Mac OS X Snow Leopard (10.6.8) / x86_64 | OK | OK | OK | 
| yeastRNASeq 0.0.8 J. Bullard
 
 | Last Changed Rev: 2317 / Revision: 2510 |  | Last Changed Date: 2013-04-03 15:11:40 -0700 | 
 | george2 | Linux (Ubuntu 12.04.1 LTS) / x86_64 | OK | WARNINGS |  | 
| moscato2 | Windows Server 2008 R2 Enterprise SP1 (64-bit) / x64 | OK | WARNINGS | OK | 
| petty | Mac OS X Snow Leopard (10.6.8) / x86_64 | OK | WARNINGS | OK |