| Back to the "Multiple platform build/check report" |
| Package 46/140 | Hostname | OS / Arch | BUILD | CHECK | BUILD BIN | ||||
| flowWorkspaceData 0.99.8 Greg Finak
| george2 | Linux (Ubuntu 12.04.1 LTS) / x86_64 | OK | OK | |||||
| lamb2 | Linux (openSUSE 11.4) / x86_64 | [ OK ] | OK | ||||||
| moscato2 | Windows Server 2008 R2 Enterprise SP1 (64-bit) / x64 | OK | OK | OK | |||||
| petty | Mac OS X Leopard (10.5.8) / i386 | OK | OK | OK |
| Package: flowWorkspaceData |
| Version: 0.99.8 |
| Command: /home/biocbuild/bbs-2.12-bioc/R/bin/R CMD build --keep-empty-dirs --no-resave-data flowWorkspaceData |
| StartedAt: 2013-01-17 12:00:40 -0800 (Thu, 17 Jan 2013) |
| EndedAt: 2013-01-17 12:00:47 -0800 (Thu, 17 Jan 2013) |
| EllapsedTime: 6.8 seconds |
| RetCode: 0 |
| Status: OK |
| PackageFile: flowWorkspaceData_0.99.8.tar.gz |
| PackageFileSize: 6.241 MiB |
* checking for file ‘flowWorkspaceData/DESCRIPTION’ ... OK * preparing ‘flowWorkspaceData’: * checking DESCRIPTION meta-information ... OK * checking for LF line-endings in source and make files * checking for empty or unneeded directories * building ‘flowWorkspaceData_0.99.8.tar.gz’