| Back to the "Multiple platform build/check report" | 
This page was generated on 2013-10-08 16:07:32 -0700 (Tue, 08 Oct 2013).
| Package 71/156 | Hostname | OS / Arch | BUILD | CHECK | BUILD BIN | ||||
| hapmapsnp5 1.4.2 Benilton Carvalho 
 | george2 | Linux (Ubuntu 12.04.1 LTS) / x86_64 | OK | OK | |||||
| moscato2 | Windows Server 2008 R2 Enterprise SP1 (64-bit) / x64 | OK | OK | OK | |||||
| petty | Mac OS X Snow Leopard (10.6.8) / x86_64 | [ OK ] | OK | OK | 
| Package: hapmapsnp5 | 
| Version: 1.4.2 | 
| Command: /Library/Frameworks/R.framework/Versions/Current/Resources/bin/R CMD build --keep-empty-dirs --no-resave-data hapmapsnp5 | 
| StartedAt: 2013-10-08 12:24:24 -0700 (Tue, 08 Oct 2013) | 
| EndedAt: 2013-10-08 12:27:49 -0700 (Tue, 08 Oct 2013) | 
| EllapsedTime: 204.5 seconds | 
| RetCode: 0 | 
| Status: OK | 
| PackageFile: hapmapsnp5_1.4.2.tar.gz | 
| PackageFileSize: 59.41 MiB | 
* checking for file 'hapmapsnp5/DESCRIPTION' ... OK * preparing 'hapmapsnp5': * checking DESCRIPTION meta-information ... OK * checking for LF line-endings in source and make files * checking for empty or unneeded directories * building 'hapmapsnp5_1.4.2.tar.gz'