| biomaRt 1.13.6 Steffen Durinck
 
 | Snapshot Date: 2007-12-11 00:09:07 -0800 (Tue, 11 Dec 2007) |  | URL: https://hedgehog.fhcrc.org/bioconductor/trunk/madman/Rpacks/biomaRt |  | Last Changed Rev: 29080 / Revision: 29143 |  | Last Changed Date: 2007-12-06 08:30:53 -0800 (Thu, 06 Dec 2007) | 
 | lamb1 | Linux (SUSE 10.1) / x86_64 | [ OK ] | OK |  | 
| wilson2 | Linux (openSUSE 10.3) / x86_64 | OK | OK |  | 
| wellington | Linux (openSUSE 10.3) / i686 | OK | OK |  | 
| liverpool | Windows Server 2003 R2 (32-bit) / x64 | OK | OK | OK | 
| lemming | Windows Server 2003 (32-bit) / x64 | OK | OK | OK | 
* checking for file 'biomaRt/DESCRIPTION' ... OK
* preparing 'biomaRt':
* checking DESCRIPTION meta-information ... OK
* installing the package to re-build vignettes
* Installing *source* package 'biomaRt' ...
** R
** inst
** preparing package for lazy loading
Loading required package: RCurl
** help
Note: removing empty section \seealso
 >>> Building/Updating help pages for package 'biomaRt'
     Formats: text html latex example 
  Mart-class                        text    html    latex
  attributeSummary                  text    html    latex   example
  exportFASTA                       text    html    latex   example
  filterOptions                     text    html    latex   example
  filterSummary                     text    html    latex   example
  filterType                        text    html    latex   example
  getAffyArrays                     text    html    latex   example
  getBM                             text    html    latex   example
  getGO                             text    html    latex   example
  getGene                           text    html    latex   example
  getHomolog                        text    html    latex   example
  getLDS                            text    html    latex   example
  getSNP                            text    html    latex   example
  getSequence                       text    html    latex   example
  listAttributes                    text    html    latex   example
  listDatasets                      text    html    latex   example
  listFilters                       text    html    latex   example
  listMarts                         text    html    latex   example
  martDisconnect                    text    html    latex   example
  parseAttributes                   text    html    latex
  parseFilters                      text    html    latex
  useDataset                        text    html    latex   example
  useMart                           text    html    latex   example
** building package indices ...
* DONE (biomaRt)
* creating vignettes ... OK
* removing junk files
* checking for LF line-endings in source and make files
* checking for empty or unneeded directories
* building 'biomaRt_1.13.6.tar.gz'