| biomaRt 1.13.6 Steffen Durinck
 
 | Snapshot Date: 2007-12-11 00:09:07 -0800 (Tue, 11 Dec 2007) |  | URL: https://hedgehog.fhcrc.org/bioconductor/trunk/madman/Rpacks/biomaRt |  | Last Changed Rev: 29080 / Revision: 29143 |  | Last Changed Date: 2007-12-06 08:30:53 -0800 (Thu, 06 Dec 2007) | 
 | lamb1 | Linux (SUSE 10.1) / x86_64 | OK | OK |  | 
| wilson2 | Linux (openSUSE 10.3) / x86_64 | OK | OK |  | 
| wellington | Linux (openSUSE 10.3) / i686 | OK | OK |  | 
| liverpool | Windows Server 2003 R2 (32-bit) / x64 | OK | OK | OK | 
| lemming | Windows Server 2003 (32-bit) / x64 | OK | OK | [ OK ] | 
installing R.css in D:/biocbld/bbs-2.2-bioc/meat/biomaRt.buildbin-libdir
Using auto-selected zip options ' biomaRt-HELP=ziponly'
---------- Making package biomaRt ------------
  adding build stamp to DESCRIPTION
  installing NAMESPACE file and metadata
  installing R files
  installing inst files
  preparing package biomaRt for lazy loading
Loading required package: RCurl
  installing man source files
  installing indices
  installing help
Note: removing empty section \seealso
Note: removing empty section \seealso
 >>> Building/Updating help pages for package 'biomaRt'
     Formats: text html latex example chm 
  Mart-class                        text    html    latex           chm
  attributeSummary                  text    html    latex   example chm
  exportFASTA                       text    html    latex   example chm
  filterOptions                     text    html    latex   example chm
  filterSummary                     text    html    latex   example chm
  filterType                        text    html    latex   example chm
  getAffyArrays                     text    html    latex   example chm
  getBM                             text    html    latex   example chm
  getGO                             text    html    latex   example chm
  getGene                           text    html    latex   example chm
  getHomolog                        text    html    latex   example chm
  getLDS                            text    html    latex   example chm
  getSNP                            text    html    latex   example chm
  getSequence                       text    html    latex   example chm
  listAttributes                    text    html    latex   example chm
  listDatasets                      text    html    latex   example chm
  listFilters                       text    html    latex   example chm
  listMarts                         text    html    latex   example chm
  martDisconnect                    text    html    latex   example chm
  parseAttributes                   text    html    latex           chm
  parseFilters                      text    html    latex           chm
  useDataset                        text    html    latex   example chm
  useMart                           text    html    latex   example chm
  zipping help files
Microsoft HTML Help Compiler 4.74.8702
Compiling d:\biocbld\bbs-2.2-bioc\meat\R.INSTALL.908\biomaRt\chm\biomaRt.chm
Compile time: 0 minutes, 0 seconds
24	Topics
47	Local links
9	Internet links
1	Graphic
Created d:\biocbld\bbs-2.2-bioc\meat\R.INSTALL.908\biomaRt\chm\biomaRt.chm, 34,724 bytes
Compression decreased file by 29,369 bytes.
  adding MD5 sums
packaged installation of package 'biomaRt' as biomaRt_1.13.6.zip
* DONE (biomaRt)