| diffGeneAnalysis 1.21.0 Choudary Jagarlamudi
 
 | Snapshot Date: 2007-12-11 00:09:07 -0800 (Tue, 11 Dec 2007) |  | URL: https://hedgehog.fhcrc.org/bioconductor/trunk/madman/Rpacks/diffGeneAnalysis |  | Last Changed Rev: 27716 / Revision: 29143 |  | Last Changed Date: 2007-10-02 18:16:39 -0700 (Tue, 02 Oct 2007) | 
 | lamb1 | Linux (SUSE 10.1) / x86_64 | OK | OK |  | 
| wilson2 | Linux (openSUSE 10.3) / x86_64 | OK | OK |  | 
| wellington | Linux (openSUSE 10.3) / i686 | [ OK ] | OK |  | 
| liverpool | Windows Server 2003 R2 (32-bit) / x64 | OK | OK | OK | 
| lemming | Windows Server 2003 (32-bit) / x64 | OK | OK | OK | 
* checking for file 'diffGeneAnalysis/DESCRIPTION' ... OK
* preparing 'diffGeneAnalysis':
* checking DESCRIPTION meta-information ... OK
* installing the package to re-build vignettes
/tmp/Rinst1806116551
* Installing *source* package 'diffGeneAnalysis' ...
** R
** data
** inst
** help
 >>> Building/Updating help pages for package 'diffGeneAnalysis'
     Formats: text html latex example 
  assocAnalysis                     text    html    latex   example
  biasAdjust                        text    html    latex   example
  curveFit                          text    html    latex   example
  dataTrim                          text    html    latex   example
  normalize                         text    html    latex   example
  rawdata                           text    html    latex   example
  refGroup                          text    html    latex   example
** building package indices ...
* DONE (diffGeneAnalysis)
* creating vignettes ... OK
* removing junk files
* excluding invalid files from 'diffGeneAnalysis'
Subdirectory 'R' contains invalid file names:
  diffGeneAnalysis
Subdirectory 'man' contains invalid file names:
  README
* checking for LF line-endings in source and make files
* checking for empty or unneeded directories
* building 'diffGeneAnalysis_1.21.0.tar.gz'