| Back to the "Multiple platform build/check report" |
| Package 22/64 | Hostname | OS / Arch | BUILD | CHECK | BUILD BIN | ||||
| gcspikelite 1.0.1 Mark Robinson
| wilson2 | Linux (openSUSE 10.3) / x86_64 | OK | WARNINGS | |||||
| liverpool | Windows Server 2003 R2 (32-bit) / x64 | OK | WARNINGS | OK | |||||
| pelham | Mac OS X Leopard (10.5.6) / i386 | [ OK ] | WARNINGS | OK |
| Package: gcspikelite |
| Version: 1.0.1 |
| Command: /Library/Frameworks/R.framework/Versions/2.8/Resources/bin/R CMD build gcspikelite |
| StartedAt: 2009-04-10 01:32:26 -0700 (Fri, 10 Apr 2009) |
| EndedAt: 2009-04-10 01:34:18 -0700 (Fri, 10 Apr 2009) |
| EllapsedTime: 111.4 seconds |
| RetCode: 0 |
| Status: OK |
| PackageFile: gcspikelite_1.0.1.tar.gz |
| PackageFileSize: 21.6 MiB |
* checking for file 'gcspikelite/DESCRIPTION' ... OK * preparing 'gcspikelite': * checking DESCRIPTION meta-information ... OK * removing junk files * checking for LF line-endings in source and make files * checking for empty or unneeded directories * building 'gcspikelite_1.0.1.tar.gz'