AffymetrixDataTestFiles 0.1.2 Henrik Bengtsson
 | Snapshot Date: 2010-09-24 00:28:34 -0700 (Fri, 24 Sep 2010) |  | URL: https://hedgehog.fhcrc.org/bioc-data/trunk/experiment/pkgs/AffymetrixDataTestFiles |  | Last Changed Rev: 959 / Revision: 1309 |  | Last Changed Date: 2009-09-10 11:19:18 -0700 (Thu, 10 Sep 2009) |  
  | wilson1  | Linux (openSUSE 11.1) / x86_64  | [ OK ] |  OK  |  | 
| liverpool  | Windows Server 2003 R2 (32-bit) / x64  |  OK  |  OK  |  OK  | 
| pelham  | Mac OS X Leopard (10.5.8) / i386  |  OK  |  OK  |  OK  | 
* checking for file 'AffymetrixDataTestFiles/DESCRIPTION' ... OK
* preparing 'AffymetrixDataTestFiles':
* checking DESCRIPTION meta-information ... OK
* removing junk files
* checking for LF line-endings in source and make files
* checking for empty or unneeded directories
* building 'AffymetrixDataTestFiles_0.1.2.tar.gz'