| wilson1 | 
Linux (openSUSE 11.1) / x86_64  |  |  |  | 
| liverpool | 
Windows Server 2003 R2 (32-bit) / x64  |  |  |  | 
| pelham | 
Mac OS X Leopard (10.5.8) / i386  |  |  |  | 
affydata 1.11.10 Laurent
 | Last Changed Rev: 959 / Revision: 1309 |  | Last Changed Date: 2009-09-10 11:19:18 -0700 |  
  | wilson1  | Linux (openSUSE 11.1) / x86_64  |  OK  |  OK  |  | 
| liverpool  | Windows Server 2003 R2 (32-bit) / x64  |  OK  |  OK  |  OK  | 
| pelham  | Mac OS X Leopard (10.5.8) / i386  |  OK  |  OK  |  OK  | 
AffymetrixDataTestFiles 0.1.2 Henrik Bengtsson
 | Last Changed Rev: 959 / Revision: 1309 |  | Last Changed Date: 2009-09-10 11:19:18 -0700 |  
  | wilson1  | Linux (openSUSE 11.1) / x86_64  |  OK  |  OK  |  | 
| liverpool  | Windows Server 2003 R2 (32-bit) / x64  |  OK  |  OK  |  OK  | 
| pelham  | Mac OS X Leopard (10.5.8) / i386  |  OK  |  OK  |  OK  | 
ALL 1.4.7 Xiaochun Li
 | Last Changed Rev: 1061 / Revision: 1309 |  | Last Changed Date: 2009-10-13 23:43:09 -0700 |  
  | wilson1  | Linux (openSUSE 11.1) / x86_64  |  OK  |  OK  |  | 
| liverpool  | Windows Server 2003 R2 (32-bit) / x64  |  OK  |  OK  |  OK  | 
| pelham  | Mac OS X Leopard (10.5.8) / i386  |  OK  |  OK  |  OK  | 
ALLMLL 1.2.8 B. M. Bolstad
 | Last Changed Rev: 1067 / Revision: 1309 |  | Last Changed Date: 2009-10-13 23:57:55 -0700 |  
  | wilson1  | Linux (openSUSE 11.1) / x86_64  |  OK  |  OK  |  | 
| liverpool  | Windows Server 2003 R2 (32-bit) / x64  |  OK  |  OK  |  OK  | 
| pelham  | Mac OS X Leopard (10.5.8) / i386  |  OK  |  OK  |  OK  | 
AmpAffyExample 1.2.5 Rafael A. Irizarry
 | Last Changed Rev: 970 / Revision: 1309 |  | Last Changed Date: 2009-09-15 11:19:47 -0700 |  
  | wilson1  | Linux (openSUSE 11.1) / x86_64  |  OK  |  OK  |  | 
| liverpool  | Windows Server 2003 R2 (32-bit) / x64  |  OK  |  OK  |  OK  | 
| pelham  | Mac OS X Leopard (10.5.8) / i386  |  OK  |  OK  |  OK  | 
beta7 1.0.0 Jean Yang
 | Last Changed Rev: 780 / Revision: 1309 |  | Last Changed Date: 2009-05-08 11:53:22 -0700 |  
  | wilson1  | Linux (openSUSE 11.1) / x86_64  |  OK  |  OK  |  | 
| liverpool  | Windows Server 2003 R2 (32-bit) / x64  |  OK  |  OK  |  OK  | 
| pelham  | Mac OS X Leopard (10.5.8) / i386  |  OK  |  OK  |  OK  | 
bronchialIL13 1.0-6 Vince Carey
 | Last Changed Rev: 1069 / Revision: 1309 |  | Last Changed Date: 2009-10-14 00:01:41 -0700 |  
  | wilson1  | Linux (openSUSE 11.1) / x86_64  |  OK  |  OK  |  | 
| liverpool  | Windows Server 2003 R2 (32-bit) / x64  |  OK  |  OK  |  OK  | 
| pelham  | Mac OS X Leopard (10.5.8) / i386  |  OK  |  OK  |  OK  | 
CCl4 1.0.9 Audrey Kauffmann
 | Last Changed Rev: 959 / Revision: 1309 |  | Last Changed Date: 2009-09-10 11:19:18 -0700 |  
  | wilson1  | Linux (openSUSE 11.1) / x86_64  |  OK  |  OK  |  | 
| liverpool  | Windows Server 2003 R2 (32-bit) / x64  |  OK  |  OK  |  OK  | 
| pelham  | Mac OS X Leopard (10.5.8) / i386  |  OK  |  OK  |  OK  | 
ccTutorial 1.0.17 Joern Toedling
 | Last Changed Rev: 1044 / Revision: 1309 |  | Last Changed Date: 2009-10-13 18:55:23 -0700 |  
  | wilson1  | Linux (openSUSE 11.1) / x86_64  |  OK  |  OK  |  | 
| liverpool  | Windows Server 2003 R2 (32-bit) / x64  |  OK  |  OK  |  OK  | 
| pelham  | Mac OS X Leopard (10.5.8) / i386  |  OK  |  OK  |  OK  | 
ceu1kg 0.0.12 VJ Carey
 | Last Changed Rev: 1307 / Revision: 1309 |  | Last Changed Date: 2010-08-31 12:36:10 -0700 |  
  | wilson1  | Linux (openSUSE 11.1) / x86_64  |  ERROR  |  skipped  |  | 
| liverpool  | Windows Server 2003 R2 (32-bit) / x64  |  ERROR  |  skipped  |  skipped  | 
| pelham  | Mac OS X Leopard (10.5.8) / i386  |  ERROR  |  skipped  |  skipped  | 
ceuhm3 0.0.3 VJ Carey
 | Last Changed Rev: 1284 / Revision: 1309 |  | Last Changed Date: 2010-08-17 18:03:45 -0700 |  
  | wilson1  | Linux (openSUSE 11.1) / x86_64  |  OK  |  OK  |  | 
| liverpool  | Windows Server 2003 R2 (32-bit) / x64  |  OK  |  OK  |  OK  | 
| pelham  | Mac OS X Leopard (10.5.8) / i386  |  OK  |  OK  |  OK  | 
charmData 0.99.1 Martin Aryee
 | Last Changed Rev: 1175 / Revision: 1309 |  | Last Changed Date: 2010-03-05 15:22:15 -0800 |  
  | wilson1  | Linux (openSUSE 11.1) / x86_64  |  OK  |  WARNINGS  |  | 
| liverpool  | Windows Server 2003 R2 (32-bit) / x64  |  OK  |  WARNINGS  |  OK  | 
| pelham  | Mac OS X Leopard (10.5.8) / i386  |  OK  |  WARNINGS  |  OK  | 
CLL 1.2.8 Robert Gentleman
 | Last Changed Rev: 1063 / Revision: 1309 |  | Last Changed Date: 2009-10-13 23:47:36 -0700 |  
  | wilson1  | Linux (openSUSE 11.1) / x86_64  |  OK  |  OK  |  | 
| liverpool  | Windows Server 2003 R2 (32-bit) / x64  |  OK  |  OK  |  OK  | 
| pelham  | Mac OS X Leopard (10.5.8) / i386  |  OK  |  OK  |  OK  | 
colonCA 1.4.5 W Sylvia Merk
 | Last Changed Rev: 973 / Revision: 1309 |  | Last Changed Date: 2009-09-15 11:29:54 -0700 |  
  | wilson1  | Linux (openSUSE 11.1) / x86_64  |  OK  |  OK  |  | 
| liverpool  | Windows Server 2003 R2 (32-bit) / x64  |  OK  |  OK  |  OK  | 
| pelham  | Mac OS X Leopard (10.5.8) / i386  |  OK  |  OK  |  OK  | 
davidTiling 1.2.12 Wolfgang Huber
 | Last Changed Rev: 1042 / Revision: 1309 |  | Last Changed Date: 2009-10-13 18:35:32 -0700 |  
  | wilson1  | Linux (openSUSE 11.1) / x86_64  |  OK  |  OK  |  | 
| liverpool  | Windows Server 2003 R2 (32-bit) / x64  |  OK  |  OK  |  OK  | 
| pelham  | Mac OS X Leopard (10.5.8) / i386  |  OK  |  OK  |  OK  | 
DLBCL 1.3.1 Marcus Dittrich
 | Last Changed Rev: 1249 / Revision: 1309 |  | Last Changed Date: 2010-07-14 17:29:10 -0700 |  
  | wilson1  | Linux (openSUSE 11.1) / x86_64  |  OK  |  OK  |  | 
| liverpool  | Windows Server 2003 R2 (32-bit) / x64  |  OK  |  OK  |  OK  | 
| pelham  | Mac OS X Leopard (10.5.8) / i386  |  OK  |  OK  |  OK  | 
dressCheck 0.0.15 Vincent Carey
 | Last Changed Rev: 1225 / Revision: 1309 |  | Last Changed Date: 2010-05-14 12:25:52 -0700 |  
  | wilson1  | Linux (openSUSE 11.1) / x86_64  |  OK  |  WARNINGS  |  | 
| liverpool  | Windows Server 2003 R2 (32-bit) / x64  |  OK  |  WARNINGS  |  OK  | 
| pelham  | Mac OS X Leopard (10.5.8) / i386  |  OK  |  WARNINGS  |  OK  | 
dyebiasexamples 1.0.6 Philip Lijnzaad
 | Last Changed Rev: 1102 / Revision: 1309 |  | Last Changed Date: 2009-12-09 04:12:52 -0800 |  
  | wilson1  | Linux (openSUSE 11.1) / x86_64  |  OK  |  OK  |  | 
| liverpool  | Windows Server 2003 R2 (32-bit) / x64  |  OK  |  OK  |  OK  | 
| pelham  | Mac OS X Leopard (10.5.8) / i386  |  OK  |  OK  |  OK  | 
EatonEtAlChIPseq 0.0.1 Patrick Aboyoun
 | Last Changed Rev: 1221 / Revision: 1309 |  | Last Changed Date: 2010-05-03 12:16:04 -0700 |  
  | wilson1  | Linux (openSUSE 11.1) / x86_64  |  OK  |  OK  |  | 
| liverpool  | Windows Server 2003 R2 (32-bit) / x64  |  OK  |  OK  |  OK  | 
| pelham  | Mac OS X Leopard (10.5.8) / i386  |  OK  |  OK  |  OK  | 
ecoliLeucine 1.2.5 Laurent Gautier
 | Last Changed Rev: 959 / Revision: 1309 |  | Last Changed Date: 2009-09-10 11:19:18 -0700 |  
  | wilson1  | Linux (openSUSE 11.1) / x86_64  |  OK  |  OK  |  | 
| liverpool  | Windows Server 2003 R2 (32-bit) / x64  |  OK  |  OK  |  OK  | 
| pelham  | Mac OS X Leopard (10.5.8) / i386  |  OK  |  OK  |  OK  | 
encoDnaseI 0.1-4 VJ Carey
 | Last Changed Rev: 1023 / Revision: 1309 |  | Last Changed Date: 2009-10-01 09:11:52 -0700 |  
  | wilson1  | Linux (openSUSE 11.1) / x86_64  |  OK  |  WARNINGS  |  | 
| liverpool  | Windows Server 2003 R2 (32-bit) / x64  |  OK  |  WARNINGS  |  OK  | 
| pelham  | Mac OS X Leopard (10.5.8) / i386  |  OK  |  WARNINGS  |  OK  | 
estrogen 1.8.5 R. Gentleman
 | Last Changed Rev: 1036 / Revision: 1309 |  | Last Changed Date: 2009-10-12 11:55:42 -0700 |  
  | wilson1  | Linux (openSUSE 11.1) / x86_64  |  OK  |  OK  |  | 
| liverpool  | Windows Server 2003 R2 (32-bit) / x64  |  OK  |  OK  |  OK  | 
| pelham  | Mac OS X Leopard (10.5.8) / i386  |  OK  |  OK  |  OK  | 
faahKO 1.2.5 Colin A. Smith
 | Last Changed Rev: 1232 / Revision: 1309 |  | Last Changed Date: 2010-06-30 04:55:50 -0700 |  
  | wilson1  | Linux (openSUSE 11.1) / x86_64  |  OK  |  WARNINGS  |  | 
| liverpool  | Windows Server 2003 R2 (32-bit) / x64  |  OK  |  WARNINGS  |  OK  | 
| pelham  | Mac OS X Leopard (10.5.8) / i386  |  OK  |  WARNINGS  |  OK  | 
facsDorit 1.4.2 Florian Hahne
 | Last Changed Rev: 959 / Revision: 1309 |  | Last Changed Date: 2009-09-10 11:19:18 -0700 |  
  | wilson1  | Linux (openSUSE 11.1) / x86_64  |  OK  |  OK  |  | 
| liverpool  | Windows Server 2003 R2 (32-bit) / x64  |  OK  |  OK  |  OK  | 
| pelham  | Mac OS X Leopard (10.5.8) / i386  |  OK  |  OK  |  OK  | 
fibroEset 1.4.4 Sylvia Merk
 | Last Changed Rev: 976 / Revision: 1309 |  | Last Changed Date: 2009-09-15 11:40:21 -0700 |  
  | wilson1  | Linux (openSUSE 11.1) / x86_64  |  OK  |  OK  |  | 
| liverpool  | Windows Server 2003 R2 (32-bit) / x64  |  OK  |  OK  |  OK  | 
| pelham  | Mac OS X Leopard (10.5.8) / i386  |  OK  |  OK  |  OK  | 
frmaExampleData 0.99.0 Matthew N. McCall
 | Last Changed Rev: 1134 / Revision: 1309 |  | Last Changed Date: 2010-02-03 13:37:59 -0800 |  
  | wilson1  | Linux (openSUSE 11.1) / x86_64  |  OK  |  OK  |  | 
| liverpool  | Windows Server 2003 R2 (32-bit) / x64  |  OK  |  OK  |  OK  | 
| pelham  | Mac OS X Leopard (10.5.8) / i386  |  OK  |  OK  |  OK  | 
gaschYHS 1.0.3 Vince Carey
 | Last Changed Rev: 1026 / Revision: 1309 |  | Last Changed Date: 2009-10-06 16:38:50 -0700 |  
  | wilson1  | Linux (openSUSE 11.1) / x86_64  |  OK  |  OK  |  | 
| liverpool  | Windows Server 2003 R2 (32-bit) / x64  |  OK  |  OK  |  OK  | 
| pelham  | Mac OS X Leopard (10.5.8) / i386  |  OK  |  OK  |  OK  | 
gatingMLData 1.0.2 Nishant Gopalakrishnan
 | Last Changed Rev: 792 / Revision: 1309 |  | Last Changed Date: 2009-05-11 11:47:30 -0700 |  
  | wilson1  | Linux (openSUSE 11.1) / x86_64  |  OK  |  OK  |  | 
| liverpool  | Windows Server 2003 R2 (32-bit) / x64  |  OK  |  OK  |  OK  | 
| pelham  | Mac OS X Leopard (10.5.8) / i386  |  OK  |  OK  |  OK  | 
gcspikelite 1.0.2 Mark Robinson
 | Last Changed Rev: 793 / Revision: 1309 |  | Last Changed Date: 2009-05-11 11:48:05 -0700 |  
  | wilson1  | Linux (openSUSE 11.1) / x86_64  |  OK  |  OK  |  | 
| liverpool  | Windows Server 2003 R2 (32-bit) / x64  |  OK  |  OK  |  OK  | 
| pelham  | Mac OS X Leopard (10.5.8) / i386  |  OK  |  OK  |  OK  | 
geneLenDataBase 0.99.4 Matthew Young
 | Last Changed Rev: 1214 / Revision: 1309 |  | Last Changed Date: 2010-04-21 22:38:13 -0700 |  
  | wilson1  | Linux (openSUSE 11.1) / x86_64  |  OK  |  OK  |  | 
| liverpool  | Windows Server 2003 R2 (32-bit) / x64  |  OK  |  OK  |  OK  | 
| pelham  | Mac OS X Leopard (10.5.8) / i386  |  OK  |  TIMEOUT  |  OK  | 
GenomicFeatures.Hsapiens.UCSC.hg18 0.1.2 Biocore Data Team
 | Last Changed Rev: 1169 / Revision: 1309 |  | Last Changed Date: 2010-03-04 17:39:21 -0800 |  
  | wilson1  | Linux (openSUSE 11.1) / x86_64  |  OK  |  OK  |  | 
| liverpool  | Windows Server 2003 R2 (32-bit) / x64  |  OK  |  OK  |  OK  | 
| pelham  | Mac OS X Leopard (10.5.8) / i386  |  OK  |  OK  |  OK  | 
GenomicFeatures.Mmusculus.UCSC.mm9 0.1.2 Biocore Data Team
 | Last Changed Rev: 1170 / Revision: 1309 |  | Last Changed Date: 2010-03-04 17:39:47 -0800 |  
  | wilson1  | Linux (openSUSE 11.1) / x86_64  |  OK  |  OK  |  | 
| liverpool  | Windows Server 2003 R2 (32-bit) / x64  |  OK  |  OK  |  OK  | 
| pelham  | Mac OS X Leopard (10.5.8) / i386  |  OK  |  OK  |  OK  | 
GGdata 1.0.4 VJ Carey
 | Last Changed Rev: 1222 / Revision: 1309 |  | Last Changed Date: 2010-05-04 10:13:22 -0700 |  
  | wilson1  | Linux (openSUSE 11.1) / x86_64  |  OK  |  OK  |  | 
| liverpool  | Windows Server 2003 R2 (32-bit) / x64  |  OK  |  OK  |  OK  | 
| pelham  | Mac OS X Leopard (10.5.8) / i386  |  OK  |  OK  |  OK  | 
golubEsets 1.4.7 Vince Carey
 | Last Changed Rev: 980 / Revision: 1309 |  | Last Changed Date: 2009-09-15 11:49:40 -0700 |  
  | wilson1  | Linux (openSUSE 11.1) / x86_64  |  OK  |  OK  |  | 
| liverpool  | Windows Server 2003 R2 (32-bit) / x64  |  OK  |  OK  |  OK  | 
| pelham  | Mac OS X Leopard (10.5.8) / i386  |  OK  |  OK  |  OK  | 
hapmap100khind 1.3.32 Benilton Carvalho
 | Last Changed Rev: 1037 / Revision: 1309 |  | Last Changed Date: 2009-10-12 11:58:09 -0700 |  
  | wilson1  | Linux (openSUSE 11.1) / x86_64  |  OK  |  OK  |  | 
| liverpool  | Windows Server 2003 R2 (32-bit) / x64  |  OK  |  OK  |  OK  | 
| pelham  | Mac OS X Leopard (10.5.8) / i386  |  OK  |  OK  |  OK  | 
hapmap100kxba 1.3.3 Benilton Carvalho
 | Last Changed Rev: 1032 / Revision: 1309 |  | Last Changed Date: 2009-10-06 16:56:18 -0700 |  
  | wilson1  | Linux (openSUSE 11.1) / x86_64  |  OK  |  OK  |  | 
| liverpool  | Windows Server 2003 R2 (32-bit) / x64  |  OK  |  OK  |  OK  | 
| pelham  | Mac OS X Leopard (10.5.8) / i386  |  OK  |  OK  |  OK  | 
hapmap500knsp 1.3.3 Benilton Carvalho
 | Last Changed Rev: 1028 / Revision: 1309 |  | Last Changed Date: 2009-10-06 16:52:21 -0700 |  
  | wilson1  | Linux (openSUSE 11.1) / x86_64  |  OK  |  OK  |  | 
| liverpool  | Windows Server 2003 R2 (32-bit) / x64  |  OK  |  OK  |  OK  | 
| pelham  | Mac OS X Leopard (10.5.8) / i386  |  OK  |  OK  |  OK  | 
hapmap500ksty 1.3.3 Benilton Carvalho
 | Last Changed Rev: 1031 / Revision: 1309 |  | Last Changed Date: 2009-10-06 16:55:26 -0700 |  
  | wilson1  | Linux (openSUSE 11.1) / x86_64  |  OK  |  OK  |  | 
| liverpool  | Windows Server 2003 R2 (32-bit) / x64  |  OK  |  OK  |  OK  | 
| pelham  | Mac OS X Leopard (10.5.8) / i386  |  OK  |  OK  |  OK  | 
hapmapsnp5 1.3.3 Benilton Carvalho
 | Last Changed Rev: 1030 / Revision: 1309 |  | Last Changed Date: 2009-10-06 16:54:25 -0700 |  
  | wilson1  | Linux (openSUSE 11.1) / x86_64  |  OK  |  OK  |  | 
| liverpool  | Windows Server 2003 R2 (32-bit) / x64  |  OK  |  OK  |  OK  | 
| pelham  | Mac OS X Leopard (10.5.8) / i386  |  OK  |  OK  |  OK  | 
hapmapsnp6 1.3.3 Benilton Carvalho
 | Last Changed Rev: 1029 / Revision: 1309 |  | Last Changed Date: 2009-10-06 16:53:25 -0700 |  
  | wilson1  | Linux (openSUSE 11.1) / x86_64  |  OK  |  OK  |  | 
| liverpool  | Windows Server 2003 R2 (32-bit) / x64  |  OK  |  OK  |  OK  | 
| pelham  | Mac OS X Leopard (10.5.8) / i386  |  OK  |  OK  |  OK  | 
harbChIP 1.0.5 VJ Carey
 | Last Changed Rev: 1209 / Revision: 1309 |  | Last Changed Date: 2010-04-11 09:43:18 -0700 |  
  | wilson1  | Linux (openSUSE 11.1) / x86_64  |  OK  |  OK  |  | 
| liverpool  | Windows Server 2003 R2 (32-bit) / x64  |  OK  |  OK  |  OK  | 
| pelham  | Mac OS X Leopard (10.5.8) / i386  |  OK  |  OK  |  OK  | 
HEEBOdata 1.0.0 Agnes Paquet
 | Last Changed Rev: 142 / Revision: 1309 |  | Last Changed Date: 2006-09-28 18:17:09 -0700 |  
  | wilson1  | Linux (openSUSE 11.1) / x86_64  |  OK  |  OK  |  | 
| liverpool  | Windows Server 2003 R2 (32-bit) / x64  |  OK  |  OK  |  OK  | 
| pelham  | Mac OS X Leopard (10.5.8) / i386  |  OK  |  OK  |  OK  | 
hgu133abarcodevecs 0.0.3 Matthew N. McCall
 | Last Changed Rev: 1193 / Revision: 1309 |  | Last Changed Date: 2010-03-31 17:36:19 -0700 |  
  | wilson1  | Linux (openSUSE 11.1) / x86_64  |  OK  |  OK  |  | 
| liverpool  | Windows Server 2003 R2 (32-bit) / x64  |  OK  |  OK  |  OK  | 
| pelham  | Mac OS X Leopard (10.5.8) / i386  |  OK  |  OK  |  OK  | 
hgu133afrmavecs 1.0.0 Matthew N. McCall
 | Last Changed Rev: 1229 / Revision: 1309 |  | Last Changed Date: 2010-06-08 11:15:14 -0700 |  
  | wilson1  | Linux (openSUSE 11.1) / x86_64  |  OK  |  OK  |  | 
| liverpool  | Windows Server 2003 R2 (32-bit) / x64  |  OK  |  OK  |  OK  | 
| pelham  | Mac OS X Leopard (10.5.8) / i386  |  OK  |  OK  |  OK  | 
hgu133plus2barcodevecs 0.0.3 Matthew N. McCall
 | Last Changed Rev: 1196 / Revision: 1309 |  | Last Changed Date: 2010-03-31 17:39:35 -0700 |  
  | wilson1  | Linux (openSUSE 11.1) / x86_64  |  OK  |  OK  |  | 
| liverpool  | Windows Server 2003 R2 (32-bit) / x64  |  OK  |  OK  |  OK  | 
| pelham  | Mac OS X Leopard (10.5.8) / i386  |  OK  |  OK  |  OK  | 
hgu133plus2frmavecs 1.0.0 Matthew N. McCall
 | Last Changed Rev: 1230 / Revision: 1309 |  | Last Changed Date: 2010-06-08 11:15:20 -0700 |  
  | wilson1  | Linux (openSUSE 11.1) / x86_64  |  OK  |  ERROR  |  | 
| liverpool  | Windows Server 2003 R2 (32-bit) / x64  |  OK  |  ERROR  |  OK  | 
| pelham  | Mac OS X Leopard (10.5.8) / i386  |  OK  |  ERROR  |  OK  | 
hgu2beta7 1.2.2 Biocore Team c/o BioC user list
 | Last Changed Rev: 782 / Revision: 1309 |  | Last Changed Date: 2009-05-08 12:29:52 -0700 |  
  | wilson1  | Linux (openSUSE 11.1) / x86_64  |  OK  |  OK  |  | 
| liverpool  | Windows Server 2003 R2 (32-bit) / x64  |  OK  |  OK  |  OK  | 
| pelham  | Mac OS X Leopard (10.5.8) / i386  |  OK  |  OK  |  OK  | 
HIVcDNAvantWout03 1.2.3 Chris Fraley
 | Last Changed Rev: 959 / Revision: 1309 |  | Last Changed Date: 2009-09-10 11:19:18 -0700 |  
  | wilson1  | Linux (openSUSE 11.1) / x86_64  |  OK  |  OK  |  | 
| liverpool  | Windows Server 2003 R2 (32-bit) / x64  |  OK  |  OK  |  OK  | 
| pelham  | Mac OS X Leopard (10.5.8) / i386  |  OK  |  OK  |  OK  | 
hmyriB36 0.99.4 Vincent Carey
 | Last Changed Rev: 1050 / Revision: 1309 |  | Last Changed Date: 2009-10-13 22:44:21 -0700 |  
  | wilson1  | Linux (openSUSE 11.1) / x86_64  |  OK  |  OK  |  | 
| liverpool  | Windows Server 2003 R2 (32-bit) / x64  |  OK  |  OK  |  OK  | 
| pelham  | Mac OS X Leopard (10.5.8) / i386  |  OK  |  OK  |  OK  | 
humanStemCell 0.2.3 R. Gentleman
 | Last Changed Rev: 906 / Revision: 1309 |  | Last Changed Date: 2009-07-24 17:41:39 -0700 |  
  | wilson1  | Linux (openSUSE 11.1) / x86_64  |  OK  |  OK  |  | 
| liverpool  | Windows Server 2003 R2 (32-bit) / x64  |  OK  |  OK  |  OK  | 
| pelham  | Mac OS X Leopard (10.5.8) / i386  |  OK  |  OK  |  OK  | 
ind1KG 0.1.3 VJ Carey
 | Last Changed Rev: 1206 / Revision: 1309 |  | Last Changed Date: 2010-04-09 17:27:51 -0700 |  
  | wilson1  | Linux (openSUSE 11.1) / x86_64  |  OK  |  OK  |  | 
| liverpool  | Windows Server 2003 R2 (32-bit) / x64  |  OK  |  OK  |  OK  | 
| pelham  | Mac OS X Leopard (10.5.8) / i386  |  OK  |  OK  |  OK  | 
ITALICSData 2.0.1 Guillem Rigaill
 | Last Changed Rev: 801 / Revision: 1309 |  | Last Changed Date: 2009-05-11 12:23:04 -0700 |  
  | wilson1  | Linux (openSUSE 11.1) / x86_64  |  OK  |  OK  |  | 
| liverpool  | Windows Server 2003 R2 (32-bit) / x64  |  OK  |  OK  |  OK  | 
| pelham  | Mac OS X Leopard (10.5.8) / i386  |  OK  |  OK  |  OK  | 
Iyer517 1.4.4 Vince Carey
 | Last Changed Rev: 992 / Revision: 1309 |  | Last Changed Date: 2009-09-16 17:29:15 -0700 |  
  | wilson1  | Linux (openSUSE 11.1) / x86_64  |  OK  |  OK  |  | 
| liverpool  | Windows Server 2003 R2 (32-bit) / x64  |  OK  |  OK  |  OK  | 
| pelham  | Mac OS X Leopard (10.5.8) / i386  |  OK  |  OK  |  OK  | 
kidpack 1.5.7 Wolfgang Huber
 | Last Changed Rev: 1057 / Revision: 1309 |  | Last Changed Date: 2009-10-13 23:37:03 -0700 |  
  | wilson1  | Linux (openSUSE 11.1) / x86_64  |  OK  |  OK  |  | 
| liverpool  | Windows Server 2003 R2 (32-bit) / x64  |  OK  |  OK  |  OK  | 
| pelham  | Mac OS X Leopard (10.5.8) / i386  |  OK  |  OK  |  OK  | 
leeBamViews 0.99.7 VJ Carey
 | Last Changed Rev: 1224 / Revision: 1309 |  | Last Changed Date: 2010-05-14 12:18:21 -0700 |  
  | wilson1  | Linux (openSUSE 11.1) / x86_64  |  ERROR  |  skipped  |  | 
| liverpool  | Windows Server 2003 R2 (32-bit) / x64  |  ERROR  |  skipped  |  skipped  | 
| pelham  | Mac OS X Leopard (10.5.8) / i386  |  ERROR  |  skipped  |  skipped  | 
lumiBarnes 1.3.4 Pan Du
 | Last Changed Rev: 912 / Revision: 1309 |  | Last Changed Date: 2009-07-24 17:56:18 -0700 |  
  | wilson1  | Linux (openSUSE 11.1) / x86_64  |  OK  |  OK  |  | 
| liverpool  | Windows Server 2003 R2 (32-bit) / x64  |  OK  |  OK  |  OK  | 
| pelham  | Mac OS X Leopard (10.5.8) / i386  |  OK  |  OK  |  OK  | 
lungExpression 0.0.10 Robert Scharpf
 | Last Changed Rev: 959 / Revision: 1309 |  | Last Changed Date: 2009-09-10 11:19:18 -0700 |  
  | wilson1  | Linux (openSUSE 11.1) / x86_64  |  OK  |  OK  |  | 
| liverpool  | Windows Server 2003 R2 (32-bit) / x64  |  OK  |  OK  |  OK  | 
| pelham  | Mac OS X Leopard (10.5.8) / i386  |  OK  |  OK  |  OK  | 
maqcExpression4plex 1.2.0 Benilton Carvalho
 | Last Changed Rev: 1239 / Revision: 1309 |  | Last Changed Date: 2010-07-06 18:11:50 -0700 |  
  | wilson1  | Linux (openSUSE 11.1) / x86_64  |  OK  |  OK  |  | 
| liverpool  | Windows Server 2003 R2 (32-bit) / x64  |  OK  |  OK  |  OK  | 
| pelham  | Mac OS X Leopard (10.5.8) / i386  |  OK  |  OK  |  OK  | 
MAQCsubset 1.0.19 VJ Carey
 | Last Changed Rev: 1213 / Revision: 1309 |  | Last Changed Date: 2010-04-20 14:11:54 -0700 |  
  | wilson1  | Linux (openSUSE 11.1) / x86_64  |  OK  |  WARNINGS  |  | 
| liverpool  | Windows Server 2003 R2 (32-bit) / x64  |  OK  |  WARNINGS  |  OK  | 
| pelham  | Mac OS X Leopard (10.5.8) / i386  |  OK  |  WARNINGS  |  OK  | 
MAQCsubsetAFX 1.0.3 Laurent Gatto
 | Last Changed Rev: 1071 / Revision: 1309 |  | Last Changed Date: 2009-10-14 00:23:52 -0700 |  
  | wilson1  | Linux (openSUSE 11.1) / x86_64  |  OK  |  OK  |  | 
| liverpool  | Windows Server 2003 R2 (32-bit) / x64  |  OK  |  OK  |  OK  | 
| pelham  | Mac OS X Leopard (10.5.8) / i386  |  OK  |  OK  |  OK  | 
MAQCsubsetILM 1.0.2 Laurent Gatto
 | Last Changed Rev: 959 / Revision: 1309 |  | Last Changed Date: 2009-09-10 11:19:18 -0700 |  
  | wilson1  | Linux (openSUSE 11.1) / x86_64  |  OK  |  OK  |  | 
| liverpool  | Windows Server 2003 R2 (32-bit) / x64  |  OK  |  OK  |  OK  | 
| pelham  | Mac OS X Leopard (10.5.8) / i386  |  OK  |  OK  |  OK  | 
MEEBOdata 1.0.0 Agnes Paquet
 | Last Changed Rev: 142 / Revision: 1309 |  | Last Changed Date: 2006-09-28 18:17:09 -0700 |  
  | wilson1  | Linux (openSUSE 11.1) / x86_64  |  OK  |  OK  |  | 
| liverpool  | Windows Server 2003 R2 (32-bit) / x64  |  OK  |  OK  |  OK  | 
| pelham  | Mac OS X Leopard (10.5.8) / i386  |  OK  |  OK  |  OK  | 
mouse4302barcodevecs 0.0.3 Matthew N. McCall
 | Last Changed Rev: 1197 / Revision: 1309 |  | Last Changed Date: 2010-03-31 17:39:41 -0700 |  
  | wilson1  | Linux (openSUSE 11.1) / x86_64  |  OK  |  OK  |  | 
| liverpool  | Windows Server 2003 R2 (32-bit) / x64  |  OK  |  OK  |  OK  | 
| pelham  | Mac OS X Leopard (10.5.8) / i386  |  OK  |  OK  |  OK  | 
mouse4302frmavecs 1.0.0 Matthew N. McCall
 | Last Changed Rev: 1231 / Revision: 1309 |  | Last Changed Date: 2010-06-08 11:15:29 -0700 |  
  | wilson1  | Linux (openSUSE 11.1) / x86_64  |  OK  |  ERROR  |  | 
| liverpool  | Windows Server 2003 R2 (32-bit) / x64  |  OK  |  ERROR  |  OK  | 
| pelham  | Mac OS X Leopard (10.5.8) / i386  |  OK  |  ERROR  |  OK  | 
msdata 0.1.4 Steffen Neumann
 | Last Changed Rev: 1208 / Revision: 1309 |  | Last Changed Date: 2010-04-11 09:37:16 -0700 |  
  | wilson1  | Linux (openSUSE 11.1) / x86_64  |  OK  |  OK  |  | 
| liverpool  | Windows Server 2003 R2 (32-bit) / x64  |  OK  |  OK  |  OK  | 
| pelham  | Mac OS X Leopard (10.5.8) / i386  |  OK  |  OK  |  OK  | 
mvoutData 0.99.4 VJ Carey
 | Last Changed Rev: 1075 / Revision: 1309 |  | Last Changed Date: 2009-10-14 00:37:29 -0700 |  
  | wilson1  | Linux (openSUSE 11.1) / x86_64  |  OK  |  OK  |  | 
| liverpool  | Windows Server 2003 R2 (32-bit) / x64  |  OK  |  OK  |  OK  | 
| pelham  | Mac OS X Leopard (10.5.8) / i386  |  OK  |  OK  |  OK  | 
Neve2006 0.1.9 VJ Carey
 | Last Changed Rev: 983 / Revision: 1309 |  | Last Changed Date: 2009-09-15 12:05:10 -0700 |  
  | wilson1  | Linux (openSUSE 11.1) / x86_64  |  OK  |  OK  |  | 
| liverpool  | Windows Server 2003 R2 (32-bit) / x64  |  OK  |  OK  |  OK  | 
| pelham  | Mac OS X Leopard (10.5.8) / i386  |  OK  |  OK  |  OK  | 
ppiData 0.1.14 Tony Chiang
 | Last Changed Rev: 1101 / Revision: 1309 |  | Last Changed Date: 2009-12-05 17:17:35 -0800 |  
  | wilson1  | Linux (openSUSE 11.1) / x86_64  |  OK  |  OK  |  | 
| liverpool  | Windows Server 2003 R2 (32-bit) / x64  |  OK  |  OK  |  OK  | 
| pelham  | Mac OS X Leopard (10.5.8) / i386  |  OK  |  OK  |  OK  | 
ProData 1.0.3 Xiaochun Li
 | Last Changed Rev: 924 / Revision: 1309 |  | Last Changed Date: 2009-07-24 18:53:02 -0700 |  
  | wilson1  | Linux (openSUSE 11.1) / x86_64  |  OK  |  OK  |  | 
| liverpool  | Windows Server 2003 R2 (32-bit) / x64  |  OK  |  OK  |  OK  | 
| pelham  | Mac OS X Leopard (10.5.8) / i386  |  OK  |  OK  |  OK  | 
pumadata 1.0.3 Richard Pearson
 | Last Changed Rev: 984 / Revision: 1309 |  | Last Changed Date: 2009-09-15 12:24:18 -0700 |  
  | wilson1  | Linux (openSUSE 11.1) / x86_64  |  OK  |  WARNINGS  |  | 
| liverpool  | Windows Server 2003 R2 (32-bit) / x64  |  OK  |  WARNINGS  |  OK  | 
| pelham  | Mac OS X Leopard (10.5.8) / i386  |  OK  |  WARNINGS  |  OK  | 
rfcdmin 1.6.11 N. Le Meur
 | Last Changed Rev: 1077 / Revision: 1309 |  | Last Changed Date: 2009-10-14 00:44:20 -0700 |  
  | wilson1  | Linux (openSUSE 11.1) / x86_64  |  OK  |  OK  |  | 
| liverpool  | Windows Server 2003 R2 (32-bit) / x64  |  OK  |  OK  |  OK  | 
| pelham  | Mac OS X Leopard (10.5.8) / i386  |  OK  |  OK  |  OK  | 
SNAData 1.8.1 Denise Scholtens
 | Last Changed Rev: 733 / Revision: 1309 |  | Last Changed Date: 2008-10-27 10:59:54 -0700 |  
  | wilson1  | Linux (openSUSE 11.1) / x86_64  |  OK  |  OK  |  | 
| liverpool  | Windows Server 2003 R2 (32-bit) / x64  |  OK  |  OK  |  OK  | 
| pelham  | Mac OS X Leopard (10.5.8) / i386  |  OK  |  OK  |  OK  | 
SpikeIn 1.4.4 Rafael A. Irizarry
 | Last Changed Rev: 1055 / Revision: 1309 |  | Last Changed Date: 2009-10-13 23:31:49 -0700 |  
  | wilson1  | Linux (openSUSE 11.1) / x86_64  |  OK  |  OK  |  | 
| liverpool  | Windows Server 2003 R2 (32-bit) / x64  |  OK  |  OK  |  OK  | 
| pelham  | Mac OS X Leopard (10.5.8) / i386  |  OK  |  OK  |  OK  | 
SpikeInSubset 1.2.8 Rafael A. Irizarry
 | Last Changed Rev: 930 / Revision: 1309 |  | Last Changed Date: 2009-07-24 19:13:55 -0700 |  
  | wilson1  | Linux (openSUSE 11.1) / x86_64  |  OK  |  OK  |  | 
| liverpool  | Windows Server 2003 R2 (32-bit) / x64  |  OK  |  OK  |  OK  | 
| pelham  | Mac OS X Leopard (10.5.8) / i386  |  OK  |  OK  |  OK  | 
stjudem 1.2.2 Joern Toedling
 | Last Changed Rev: 1059 / Revision: 1309 |  | Last Changed Date: 2009-10-13 23:40:40 -0700 |  
  | wilson1  | Linux (openSUSE 11.1) / x86_64  |  OK  |  OK  |  | 
| liverpool  | Windows Server 2003 R2 (32-bit) / x64  |  OK  |  OK  |  OK  | 
| pelham  | Mac OS X Leopard (10.5.8) / i386  |  OK  |  OK  |  OK  | 
TargetSearchData 1.0.1 Alvaro Cuadros-Inostroza
 | Last Changed Rev: 959 / Revision: 1309 |  | Last Changed Date: 2009-09-10 11:19:18 -0700 |  
  | wilson1  | Linux (openSUSE 11.1) / x86_64  |  OK  |  OK  |  | 
| liverpool  | Windows Server 2003 R2 (32-bit) / x64  |  OK  |  OK  |  OK  | 
| pelham  | Mac OS X Leopard (10.5.8) / i386  |  OK  |  OK  |  OK  | 
tinesath1cdf 1.0.3 Tine Casneuf
 | Last Changed Rev: 959 / Revision: 1309 |  | Last Changed Date: 2009-09-10 11:19:18 -0700 |  
  | wilson1  | Linux (openSUSE 11.1) / x86_64  |  OK  |  OK  |  | 
| liverpool  | Windows Server 2003 R2 (32-bit) / x64  |  OK  |  OK  |  ERROR  | 
| pelham  | Mac OS X Leopard (10.5.8) / i386  |  OK  |  OK  |  OK  | 
tinesath1probe 1.0.2 Tine Casneuf
 | Last Changed Rev: 738 / Revision: 1309 |  | Last Changed Date: 2008-10-30 14:47:17 -0700 |  
  | wilson1  | Linux (openSUSE 11.1) / x86_64  |  OK  |  OK  |  | 
| liverpool  | Windows Server 2003 R2 (32-bit) / x64  |  OK  |  OK  |  OK  | 
| pelham  | Mac OS X Leopard (10.5.8) / i386  |  OK  |  OK  |  OK  | 
XhybCasneuf 1.0.6 Tineke Casneuf
 | Last Changed Rev: 986 / Revision: 1309 |  | Last Changed Date: 2009-09-15 12:41:50 -0700 |  
  | wilson1  | Linux (openSUSE 11.1) / x86_64  |  OK  |  OK  |  | 
| liverpool  | Windows Server 2003 R2 (32-bit) / x64  |  OK  |  OK  |  OK  | 
| pelham  | Mac OS X Leopard (10.5.8) / i386  |  OK  |  OK  |  OK  | 
yeastCC 1.2.11 Sandrine Dudoit
 | Last Changed Rev: 1040 / Revision: 1309 |  | Last Changed Date: 2009-10-12 14:01:00 -0700 |  
  | wilson1  | Linux (openSUSE 11.1) / x86_64  |  OK  |  WARNINGS  |  | 
| liverpool  | Windows Server 2003 R2 (32-bit) / x64  |  OK  |  WARNINGS  |  OK  | 
| pelham  | Mac OS X Leopard (10.5.8) / i386  |  OK  |  WARNINGS  |  OK  | 
yeastExpData 0.9.17 R. Gentleman
 | Last Changed Rev: 1099 / Revision: 1309 |  | Last Changed Date: 2009-12-03 10:39:42 -0800 |  
  | wilson1  | Linux (openSUSE 11.1) / x86_64  |  OK  |  WARNINGS  |  | 
| liverpool  | Windows Server 2003 R2 (32-bit) / x64  |  OK  |  WARNINGS  |  OK  | 
| pelham  | Mac OS X Leopard (10.5.8) / i386  |  OK  |  WARNINGS  |  OK  | 
yeastGSData 0.1.5 R. Gentleman
 | Last Changed Rev: 959 / Revision: 1309 |  | Last Changed Date: 2009-09-10 11:19:18 -0700 |  
  | wilson1  | Linux (openSUSE 11.1) / x86_64  |  OK  |  OK  |  | 
| liverpool  | Windows Server 2003 R2 (32-bit) / x64  |  OK  |  OK  |  OK  | 
| pelham  | Mac OS X Leopard (10.5.8) / i386  |  OK  |  OK  |  OK  | 
yeastRNASeq 0.0.3 J. Bullard
 | Last Changed Rev: 1107 / Revision: 1309 |  | Last Changed Date: 2010-01-15 12:01:16 -0800 |  
  | wilson1  | Linux (openSUSE 11.1) / x86_64  |  OK  |  OK  |  | 
| liverpool  | Windows Server 2003 R2 (32-bit) / x64  |  OK  |  OK  |  OK  | 
| pelham  | Mac OS X Leopard (10.5.8) / i386  |  OK  |  OK  |  OK  |