| Back to the "Multiple platform build/check report" |
| Package 42/83 | Hostname | OS / Arch | BUILD | CHECK | BUILD BIN | ||||
| HEEBOdata 1.0.0 Agnes Paquet
| wilson1 | Linux (openSUSE 11.1) / x86_64 | OK | OK | |||||
| liverpool | Windows Server 2003 R2 (32-bit) / x64 | OK | OK | OK | |||||
| pelham | Mac OS X Leopard (10.5.8) / i386 | OK | OK | [ OK ] |
| Package: HEEBOdata |
| Version: 1.0.0 |
| Command: /Users/biocbuild/BBS/utils/build-universal.sh HEEBOdata_1.0.0.tar.gz /Library/Frameworks/R.framework/Versions/2.11/Resources/bin/R HEEBOdata.buildbin-libdir |
| StartedAt: 2010-09-24 04:40:38 -0700 (Fri, 24 Sep 2010) |
| EndedAt: 2010-09-24 04:41:16 -0700 (Fri, 24 Sep 2010) |
| EllapsedTime: 38.1 seconds |
| RetCode: 0 |
| Status: OK |
| PackageFile: HEEBOdata_1.0.0.tgz |
| PackageFileSize: 8.365 MiB |
INSTALLATION WITH 'R CMD INSTALL --preclean --library=HEEBOdata.buildbin-libdir HEEBOdata_1.0.0.tar.gz'
* installing *source* package ‘HEEBOdata’ ...
** data
** inst
** help
*** installing help indices
** building package indices ...
** testing if installed package can be loaded
* DONE (HEEBOdata)