| Back to the "Multiple platform build/check report" | 
| Package 69/83 | Hostname | OS / Arch | BUILD | CHECK | BUILD BIN | ||||
| ProData 1.0.3 Xiaochun Li 
  | wilson1 | Linux (openSUSE 11.1) / x86_64 | OK | OK | |||||
| liverpool | Windows Server 2003 R2 (32-bit) / x64 | OK | OK | OK | |||||
| pelham | Mac OS X Leopard (10.5.8) / i386 | OK | OK | [ OK ] | 
| Package: ProData | 
| Version: 1.0.3 | 
| Command: /Users/biocbuild/BBS/utils/build-universal.sh ProData_1.0.3.tar.gz /Library/Frameworks/R.framework/Versions/2.11/Resources/bin/R ProData.buildbin-libdir | 
| StartedAt: 2010-09-24 04:46:55 -0700 (Fri, 24 Sep 2010) | 
| EndedAt: 2010-09-24 04:47:11 -0700 (Fri, 24 Sep 2010) | 
| EllapsedTime: 16.3 seconds | 
| RetCode: 0 | 
| Status: OK | 
| PackageFile: ProData_1.0.3.tgz | 
| PackageFileSize: 19.05 MiB | 
                INSTALLATION WITH 'R CMD INSTALL --preclean --library=ProData.buildbin-libdir ProData_1.0.3.tar.gz'
* installing *source* package ‘ProData’ ...
** data
** inst
** help
*** installing help indices
** building package indices ...
** testing if installed package can be loaded
* DONE (ProData)