| Back to the "Multiple platform build/check report" | 
| Package 73/83 | Hostname | OS / Arch | BUILD | CHECK | BUILD BIN | ||||
| SpikeIn 1.4.4 Rafael A. Irizarry 
  | wilson1 | Linux (openSUSE 11.1) / x86_64 | [ OK ] | OK | |||||
| liverpool | Windows Server 2003 R2 (32-bit) / x64 | OK | OK | OK | |||||
| pelham | Mac OS X Leopard (10.5.8) / i386 | OK | OK | OK | 
| Package: SpikeIn | 
| Version: 1.4.4 | 
| Command: /home/biocbuild/bbs-2.6-bioc/R/bin/R CMD build SpikeIn | 
| StartedAt: 2010-09-24 01:42:54 -0700 (Fri, 24 Sep 2010) | 
| EndedAt: 2010-09-24 01:42:59 -0700 (Fri, 24 Sep 2010) | 
| EllapsedTime: 4.7 seconds | 
| RetCode: 0 | 
| Status: OK | 
| PackageFile: SpikeIn_1.4.4.tar.gz | 
| PackageFileSize: 63.05 MiB | 
* checking for file 'SpikeIn/DESCRIPTION' ... OK * preparing 'SpikeIn': * checking DESCRIPTION meta-information ... OK * removing junk files * checking for LF line-endings in source and make files * checking for empty or unneeded directories * building 'SpikeIn_1.4.4.tar.gz'