| bronchialIL13 1.0-6 Vince Carey
 
 | Snapshot Date: 2010-09-24 00:28:34 -0700 (Fri, 24 Sep 2010) |  | URL: https://hedgehog.fhcrc.org/bioc-data/trunk/experiment/pkgs/bronchialIL13 |  | Last Changed Rev: 1069 / Revision: 1309 |  | Last Changed Date: 2009-10-14 00:01:41 -0700 (Wed, 14 Oct 2009) | 
 | wilson1 | Linux (openSUSE 11.1) / x86_64 | OK | OK |  | 
| liverpool | Windows Server 2003 R2 (32-bit) / x64 | OK | OK | OK | 
| pelham | Mac OS X Leopard (10.5.8) / i386 | OK | OK | [ OK ] | 
                INSTALLATION WITH 'R CMD INSTALL --preclean --library=bronchialIL13.buildbin-libdir bronchialIL13_1.0-6.tar.gz'
* installing *source* package ‘bronchialIL13’ ...
** data
** inst
** help
*** installing help indices
** building package indices ...
** testing if installed package can be loaded
* DONE (bronchialIL13)