| Back to the "Multiple platform build/check report" | 
| Package 12/83 | Hostname | OS / Arch | BUILD | CHECK | BUILD BIN | ||||
| charmData 0.99.1 Martin Aryee 
 | wilson1 | Linux (openSUSE 11.1) / x86_64 | OK | WARNINGS | |||||
| liverpool | Windows Server 2003 R2 (32-bit) / x64 | [ OK ] | WARNINGS | OK | |||||
| pelham | Mac OS X Leopard (10.5.8) / i386 | OK | WARNINGS | OK | 
| Package: charmData | 
| Version: 0.99.1 | 
| Command: chmod a+r charmData -R && E:\biocbld\bbs-2.6-bioc\R\bin\R.exe CMD build charmData | 
| StartedAt: 2010-09-24 03:29:45 -0700 (Fri, 24 Sep 2010) | 
| EndedAt: 2010-09-24 03:30:14 -0700 (Fri, 24 Sep 2010) | 
| EllapsedTime: 29.5 seconds | 
| RetCode: 0 | 
| Status: OK | 
| PackageFile: charmData_0.99.1.tar.gz | 
| PackageFileSize: 15.1 MiB | 
* checking for file 'charmData/DESCRIPTION' ... OK * preparing 'charmData': * checking DESCRIPTION meta-information ... OK * removing junk files * checking for LF line-endings in source and make files * checking for empty or unneeded directories * building 'charmData_0.99.1.tar.gz'