| Back to the "Multiple platform build/check report" | 
| Package 28/83 | Hostname | OS / Arch | BUILD | CHECK | BUILD BIN | ||||
| gatingMLData 1.0.2 Nishant Gopalakrishnan 
  | wilson1 | Linux (openSUSE 11.1) / x86_64 | OK | OK | |||||
| liverpool | Windows Server 2003 R2 (32-bit) / x64 | OK | OK | OK | |||||
| pelham | Mac OS X Leopard (10.5.8) / i386 | [ OK ] | OK | OK | 
| Package: gatingMLData | 
| Version: 1.0.2 | 
| Command: /Library/Frameworks/R.framework/Versions/2.11/Resources/bin/R CMD build gatingMLData | 
| StartedAt: 2010-09-24 01:59:12 -0700 (Fri, 24 Sep 2010) | 
| EndedAt: 2010-09-24 01:59:31 -0700 (Fri, 24 Sep 2010) | 
| EllapsedTime: 19.8 seconds | 
| RetCode: 0 | 
| Status: OK | 
| PackageFile: gatingMLData_1.0.2.tar.gz | 
| PackageFileSize: 1.792 MiB | 
* checking for file 'gatingMLData/DESCRIPTION' ... OK * preparing 'gatingMLData': * checking DESCRIPTION meta-information ... OK * removing junk files * checking for LF line-endings in source and make files * checking for empty or unneeded directories * building 'gatingMLData_1.0.2.tar.gz'