This page was generated on 2020-04-15 18:30:18 -0400 (Wed, 15 Apr 2020).
| malbec1 |
Linux (Ubuntu 18.04.4 LTS) / x86_64 | | | |
|
| annotation 1.10.0 | Bioconductor Package Maintainer | OK | ERROR | |
| arrays 1.12.0 | Bioconductor Package Maintainer | OK | OK |  |
| BgeeCall 1.2.1 | Julien Wollbrett | OK | OK |  |
| BiocMetaWorkflow 1.8.1 | Mike Smith | OK | OK |  |
| CAGEWorkflow 1.2.0 | Malte Thodberg | OK | OK |  |
| chipseqDB 1.10.0 | Aaron Lun | OK | OK |  |
| csawUsersGuide 1.2.0 | Aaron Lun | OK | OK |  |
| cytofWorkflow 1.10.2 | Malgorzata Nowicka | OK | OK |  |
| EGSEA123 1.10.0 | Matthew Ritchie | OK | OK |  |
| eQTL 1.10.0 | Vincent Carey | OK | OK |  |
| ExpressionNormalizationWorkflow 1.12.0 | Karthikeyan Murugesan | OK | OK |  |
| generegulation 1.10.0 | Bioconductor Package Maintainer | OK | OK |  |
| highthroughputassays 1.10.0 | Bioconductor Package Maintainer | OK | OK |  |
| liftOver 1.10.0 | Bioconductor Package Maintainer | OK | OK |  |
| maEndToEnd 2.6.1 | Stefanie Reisenauer | OK | OK |  |
| methylationArrayAnalysis 1.10.0 | Jovana Maksimovic | OK | OK |  |
| proteomics 1.10.0 | Laurent Gatto | OK | OK |  |
| recountWorkflow 1.10.0 | Leonardo Collado-Torres | OK | OK |  |
| RNAseq123 1.10.0 | Matthew Ritchie | OK | OK |  |
| rnaseqDTU 1.6.0 | Michael Love | OK | OK |  |
| rnaseqGene 1.10.0 | Michael Love | OK | OK |  |
| RnaSeqGeneEdgeRQL 1.10.0 | Yunshun Chen | OK | OK |  |
| sequencing 1.10.0 | Bioconductor Package Maintainer | OK | OK |  |
| simpleSingleCell 1.10.1 | Aaron Lun | OK | OK |  |
| SingscoreAMLMutations 1.2.0 | Dharmesh D. Bhuva | OK | OK |  |
| TCGAWorkflow 1.10.1 | Tiago Chedraoui Silva | OK | OK |  |
| variants 1.10.0 | Bioconductor Package Maintainer | OK | OK |  |