| Back to Workflows build report for BioC 3.10 |
This page was generated on 2020-04-15 18:30:18 -0400 (Wed, 15 Apr 2020).
| Package 24/27 | Hostname | OS / Arch | INSTALL | BUILD | ||||||
| simpleSingleCell 1.10.1 Aaron Lun
| malbec1 | Linux (Ubuntu 18.04.4 LTS) / x86_64 | OK | [ OK ] |
| Package: simpleSingleCell |
| Version: 1.10.1 |
| Command: /home/biocbuild/bbs-3.10-bioc/R/bin/R CMD build --keep-empty-dirs --no-resave-data simpleSingleCell |
| StartedAt: 2020-04-15 11:14:10 -0400 (Wed, 15 Apr 2020) |
| EndedAt: 2020-04-15 11:15:02 -0400 (Wed, 15 Apr 2020) |
| EllapsedTime: 52.1 seconds |
| RetCode: 0 |
| Status: OK |
| PackageFile: simpleSingleCell_1.10.1.tar.gz |
| PackageFileSize: 3.191 MiB |
############################################################################## ############################################################################## ### ### Running command: ### ### /home/biocbuild/bbs-3.10-bioc/R/bin/R CMD build --keep-empty-dirs --no-resave-data simpleSingleCell ### ############################################################################## ############################################################################## * checking for file ‘simpleSingleCell/DESCRIPTION’ ... OK * preparing ‘simpleSingleCell’: * checking DESCRIPTION meta-information ... OK * installing the package to build vignettes * creating vignettes ... OK * checking for LF line-endings in source and make files and shell scripts * checking for empty or unneeded directories * creating default NAMESPACE file * building ‘simpleSingleCell_1.10.1.tar.gz’