| Back to Workflows build report for BioC 3.10 |
This page was generated on 2020-04-15 18:30:18 -0400 (Wed, 15 Apr 2020).
| Package 27/27 | Hostname | OS / Arch | INSTALL | BUILD | ||||||
| variants 1.10.0 Bioconductor Package Maintainer
| malbec1 | Linux (Ubuntu 18.04.4 LTS) / x86_64 | OK | [ OK ] |
| Package: variants |
| Version: 1.10.0 |
| Command: /home/biocbuild/bbs-3.10-bioc/R/bin/R CMD build --keep-empty-dirs --no-resave-data variants |
| StartedAt: 2020-04-15 11:15:17 -0400 (Wed, 15 Apr 2020) |
| EndedAt: 2020-04-15 11:16:09 -0400 (Wed, 15 Apr 2020) |
| EllapsedTime: 51.9 seconds |
| RetCode: 0 |
| Status: OK |
| PackageFile: variants_1.10.0.tar.gz |
| PackageFileSize: 224.8 KiB |
############################################################################## ############################################################################## ### ### Running command: ### ### /home/biocbuild/bbs-3.10-bioc/R/bin/R CMD build --keep-empty-dirs --no-resave-data variants ### ############################################################################## ############################################################################## * checking for file ‘variants/DESCRIPTION’ ... OK * preparing ‘variants’: * checking DESCRIPTION meta-information ... OK * installing the package to build vignettes * creating vignettes ... OK * checking for LF line-endings in source and make files and shell scripts * checking for empty or unneeded directories * creating default NAMESPACE file * building ‘variants_1.10.0.tar.gz’