| Back to Multiple platform build/check report for BioC 3.15 |
|
This page was generated on 2022-03-18 11:07:20 -0400 (Fri, 18 Mar 2022).
| Hostname | OS | Arch (*) | R version | Installed pkgs |
|---|---|---|---|---|
| nebbiolo1 | Linux (Ubuntu 20.04.4 LTS) | x86_64 | R Under development (unstable) (2022-02-17 r81757) -- "Unsuffered Consequences" | 4334 |
| riesling1 | Windows Server 2019 Standard | x64 | R Under development (unstable) (2021-11-21 r81221) -- "Unsuffered Consequences" | 4097 |
| palomino3 | Windows Server 2022 Datacenter | x64 | R Under development (unstable) (2022-02-17 r81757 ucrt) -- "Unsuffered Consequences" | 4083 |
| merida1 | macOS 10.14.6 Mojave | x86_64 | R Under development (unstable) (2022-03-02 r81842) -- "Unsuffered Consequences" | 4134 |
| Click on any hostname to see more info about the system (e.g. compilers) (*) as reported by 'uname -p', except on Windows and Mac OS X | ||||
|
To the developers/maintainers of the DelayedTensor package: - Please allow up to 24 hours (and sometimes 48 hours) for your latest push to git@git.bioconductor.org:packages/DelayedTensor.git to reflect on this report. See How and When does the builder pull? When will my changes propagate? here for more information. - Make sure to use the following settings in order to reproduce any error or warning you see on this page. |
| Package 487/2090 | Hostname | OS / Arch | INSTALL | BUILD | CHECK | BUILD BIN | ||||||||
| DelayedTensor 1.1.0 (landing page) Koki Tsuyuzaki
| nebbiolo1 | Linux (Ubuntu 20.04.4 LTS) / x86_64 | OK | OK | WARNINGS | |||||||||
| riesling1 | Windows Server 2019 Standard / x64 | OK | OK | WARNINGS | OK | |||||||||
| palomino3 | Windows Server 2022 Datacenter / x64 | OK | OK | WARNINGS | OK | |||||||||
| merida1 | macOS 10.14.6 Mojave / x86_64 | OK | OK | WARNINGS | OK | |||||||||
| Package: DelayedTensor |
| Version: 1.1.0 |
| Command: rm -rf DelayedTensor.buildbin-libdir && mkdir DelayedTensor.buildbin-libdir && D:\biocbuild\bbs-3.15-bioc\R\bin\R.exe CMD INSTALL --build --library=DelayedTensor.buildbin-libdir DelayedTensor_1.1.0.tar.gz |
| StartedAt: 2022-03-17 21:04:15 -0400 (Thu, 17 Mar 2022) |
| EndedAt: 2022-03-17 21:05:28 -0400 (Thu, 17 Mar 2022) |
| EllapsedTime: 73.1 seconds |
| RetCode: 0 |
| Status: OK |
| PackageFile: DelayedTensor_1.1.0.zip |
| PackageFileSize: 3.115 MiB |
##############################################################################
##############################################################################
###
### Running command:
###
### rm -rf DelayedTensor.buildbin-libdir && mkdir DelayedTensor.buildbin-libdir && D:\biocbuild\bbs-3.15-bioc\R\bin\R.exe CMD INSTALL --build --library=DelayedTensor.buildbin-libdir DelayedTensor_1.1.0.tar.gz
###
##############################################################################
##############################################################################
* installing *source* package 'DelayedTensor' ...
** using staged installation
** R
** data
*** moving datasets to lazyload DB
** inst
** byte-compile and prepare package for lazy loading
Creating a new generic function for 'kronecker' in package 'DelayedTensor'
Creating a new generic function for 'diag' in package 'DelayedTensor'
Creating a new generic function for 'diag<-' in package 'DelayedTensor'
** help
*** installing help indices
converting help for package 'DelayedTensor'
finding HTML links ... done
DelayedDiagonalArray html
DelayedTensor-package html
cbind_list html
cp html
cs_fold html
cs_unfold html
diag html
einsum html
fnorm html
fold html
getSparse html
getVerbose html
hadamard html
hadamard_list html
hosvd html
human_mid_brain html
innerProd html
k_fold html
k_unfold html
khatri_rao html
khatri_rao_list html
kronecker html
kronecker_list html
list_rep html
matvec html
modeMean html
modeSum html
modebind_list html
mouse_mid_brain html
mpca html
outerProd html
pvd html
rbind_list html
rs_fold html
rs_unfold html
setSparse html
setVerbose html
ttl html
ttm html
tucker html
unfold html
unmatvec html
vec html
** building package indices
** installing vignettes
** testing if installed package can be loaded from temporary location
** testing if installed package can be loaded from final location
** testing if installed package keeps a record of temporary installation path
* MD5 sums
packaged installation of 'DelayedTensor' as DelayedTensor_1.1.0.zip
* DONE (DelayedTensor)