| Back to Multiple platform build/check report for BioC 3.19: simplified long |
|
This page was generated on 2024-10-18 20:38 -0400 (Fri, 18 Oct 2024).
| Hostname | OS | Arch (*) | R version | Installed pkgs |
|---|---|---|---|---|
| nebbiolo1 | Linux (Ubuntu 22.04.3 LTS) | x86_64 | 4.4.1 (2024-06-14) -- "Race for Your Life" | 4763 |
| palomino7 | Windows Server 2022 Datacenter | x64 | 4.4.1 (2024-06-14 ucrt) -- "Race for Your Life" | 4500 |
| merida1 | macOS 12.7.5 Monterey | x86_64 | 4.4.1 (2024-06-14) -- "Race for Your Life" | 4530 |
| kjohnson1 | macOS 13.6.6 Ventura | arm64 | 4.4.1 (2024-06-14) -- "Race for Your Life" | 4480 |
| Click on any hostname to see more info about the system (e.g. compilers) (*) as reported by 'uname -p', except on Windows and Mac OS X | ||||
| Package 2025/2300 | Hostname | OS / Arch | INSTALL | BUILD | CHECK | BUILD BIN | ||||||||
| SparseArray 1.4.8 (landing page) Hervé Pagès
| nebbiolo1 | Linux (Ubuntu 22.04.3 LTS) / x86_64 | OK | OK | OK | |||||||||
| palomino7 | Windows Server 2022 Datacenter / x64 | OK | OK | WARNINGS | OK | |||||||||
| merida1 | macOS 12.7.5 Monterey / x86_64 | OK | OK | OK | OK | |||||||||
| kjohnson1 | macOS 13.6.6 Ventura / arm64 | OK | OK | OK | NA | |||||||||
|
To the developers/maintainers of the SparseArray package: - Allow up to 24 hours (and sometimes 48 hours) for your latest push to git@git.bioconductor.org:packages/SparseArray.git to reflect on this report. See Troubleshooting Build Report for more information. - Use the following Renviron settings to reproduce errors and warnings. - If 'R CMD check' started to fail recently on the Linux builder(s) over a missing dependency, add the missing dependency to 'Suggests:' in your DESCRIPTION file. See Renviron.bioc for more information. |
| Package: SparseArray |
| Version: 1.4.8 |
| Command: /home/biocbuild/bbs-3.19-bioc/R/bin/R CMD check --install=check:SparseArray.install-out.txt --library=/home/biocbuild/bbs-3.19-bioc/R/site-library --timings SparseArray_1.4.8.tar.gz |
| StartedAt: 2024-10-17 05:21:04 -0400 (Thu, 17 Oct 2024) |
| EndedAt: 2024-10-17 05:24:10 -0400 (Thu, 17 Oct 2024) |
| EllapsedTime: 186.3 seconds |
| RetCode: 0 |
| Status: OK |
| CheckDir: SparseArray.Rcheck |
| Warnings: 0 |
##############################################################################
##############################################################################
###
### Running command:
###
### /home/biocbuild/bbs-3.19-bioc/R/bin/R CMD check --install=check:SparseArray.install-out.txt --library=/home/biocbuild/bbs-3.19-bioc/R/site-library --timings SparseArray_1.4.8.tar.gz
###
##############################################################################
##############################################################################
* using log directory ‘/home/biocbuild/bbs-3.19-bioc/meat/SparseArray.Rcheck’
* using R version 4.4.1 (2024-06-14)
* using platform: x86_64-pc-linux-gnu
* R was compiled by
gcc (Ubuntu 11.4.0-1ubuntu1~22.04) 11.4.0
GNU Fortran (Ubuntu 11.4.0-1ubuntu1~22.04) 11.4.0
* running under: Ubuntu 22.04.5 LTS
* using session charset: UTF-8
* checking for file ‘SparseArray/DESCRIPTION’ ... OK
* this is package ‘SparseArray’ version ‘1.4.8’
* package encoding: UTF-8
* checking package namespace information ... OK
* checking package dependencies ... OK
* checking if this is a source package ... OK
* checking if there is a namespace ... OK
* checking for hidden files and directories ... OK
* checking for portable file names ... OK
* checking for sufficient/correct file permissions ... OK
* checking whether package ‘SparseArray’ can be installed ... OK
* used C compiler: ‘gcc (Ubuntu 11.4.0-1ubuntu1~22.04) 11.4.0’
* checking installed package size ... OK
* checking package directory ... OK
* checking ‘build’ directory ... OK
* checking DESCRIPTION meta-information ... OK
* checking top-level files ... OK
* checking for left-over files ... OK
* checking index information ... OK
* checking package subdirectories ... OK
* checking code files for non-ASCII characters ... OK
* checking R files for syntax errors ... OK
* checking whether the package can be loaded ... OK
* checking whether the package can be loaded with stated dependencies ... OK
* checking whether the package can be unloaded cleanly ... OK
* checking whether the namespace can be loaded with stated dependencies ... OK
* checking whether the namespace can be unloaded cleanly ... OK
* checking loading without being on the library search path ... OK
* checking whether startup messages can be suppressed ... OK
* checking dependencies in R code ... OK
* checking S3 generic/method consistency ... OK
* checking replacement functions ... OK
* checking foreign function calls ... OK
* checking R code for possible problems ... OK
* checking Rd files ... OK
* checking Rd metadata ... OK
* checking Rd cross-references ... OK
* checking for missing documentation entries ... OK
* checking for code/documentation mismatches ... OK
* checking Rd \usage sections ... OK
* checking Rd contents ... OK
* checking for unstated dependencies in examples ... OK
* checking line endings in C/C++/Fortran sources/headers ... OK
* checking line endings in Makefiles ... OK
* checking compilation flags in Makevars ... OK
* checking for GNU extensions in Makefiles ... OK
* checking for portable use of $(BLAS_LIBS) and $(LAPACK_LIBS) ... OK
* checking use of PKG_*FLAGS in Makefiles ... OK
* checking compiled code ... NOTE
Note: information on .o files is not available
File ‘SparseArray/libs/SparseArray.so’:
Found non-API calls to R: ‘R_GetConnection’, ‘R_ReadConnection’,
‘Rf_StringFalse’, ‘Rf_StringTrue’, ‘Rf_isBlankString’
Compiled code should not call non-API entry points in R.
See ‘Writing portable packages’ in the ‘Writing R Extensions’ manual.
* checking files in ‘vignettes’ ... OK
* checking examples ... OK
Examples with CPU (user + system) or elapsed time > 5s
user system elapsed
thread-control 32.508 0.456 27.931
SVT_SparseArray-class 11.189 1.716 12.905
rowsum-methods 6.183 0.808 6.990
* checking for unstated dependencies in ‘tests’ ... OK
* checking tests ...
Running ‘testthat.R’
OK
* checking for unstated dependencies in vignettes ... OK
* checking package vignettes ... OK
* checking re-building of vignette outputs ... OK
* checking PDF version of manual ... OK
* DONE
Status: 1 NOTE
See
‘/home/biocbuild/bbs-3.19-bioc/meat/SparseArray.Rcheck/00check.log’
for details.
SparseArray.Rcheck/00install.out
##############################################################################
##############################################################################
###
### Running command:
###
### /home/biocbuild/bbs-3.19-bioc/R/bin/R CMD INSTALL SparseArray
###
##############################################################################
##############################################################################
* installing to library ‘/home/biocbuild/bbs-3.19-bioc/R/site-library’
* installing *source* package ‘SparseArray’ ...
** using staged installation
** libs
using C compiler: ‘gcc (Ubuntu 11.4.0-1ubuntu1~22.04) 11.4.0’
gcc -I"/home/biocbuild/bbs-3.19-bioc/R/include" -DNDEBUG -I'/home/biocbuild/bbs-3.19-bioc/R/site-library/S4Vectors/include' -I'/home/biocbuild/bbs-3.19-bioc/R/site-library/IRanges/include' -I'/home/biocbuild/bbs-3.19-bioc/R/site-library/XVector/include' -I/usr/local/include -fopenmp -fpic -g -O2 -Wall -c ExtendableJaggedArray.c -o ExtendableJaggedArray.o
ExtendableJaggedArray.c: In function ‘_move_ExtendableJaggedArrays_to_SVT’:
ExtendableJaggedArray.c:125:25: warning: ‘nzoffs_p’ may be used uninitialized in this function [-Wmaybe-uninitialized]
125 | free(nzoffs_p);
| ^~~~~~~~~~~~~~
ExtendableJaggedArray.c:129:25: warning: ‘nzvals_p’ may be used uninitialized in this function [-Wmaybe-uninitialized]
129 | free(nzvals_p);
| ^~~~~~~~~~~~~~
gcc -I"/home/biocbuild/bbs-3.19-bioc/R/include" -DNDEBUG -I'/home/biocbuild/bbs-3.19-bioc/R/site-library/S4Vectors/include' -I'/home/biocbuild/bbs-3.19-bioc/R/site-library/IRanges/include' -I'/home/biocbuild/bbs-3.19-bioc/R/site-library/XVector/include' -I/usr/local/include -fopenmp -fpic -g -O2 -Wall -c IRanges_stubs.c -o IRanges_stubs.o
gcc -I"/home/biocbuild/bbs-3.19-bioc/R/include" -DNDEBUG -I'/home/biocbuild/bbs-3.19-bioc/R/site-library/S4Vectors/include' -I'/home/biocbuild/bbs-3.19-bioc/R/site-library/IRanges/include' -I'/home/biocbuild/bbs-3.19-bioc/R/site-library/XVector/include' -I/usr/local/include -fopenmp -fpic -g -O2 -Wall -c OPBufTree.c -o OPBufTree.o
gcc -I"/home/biocbuild/bbs-3.19-bioc/R/include" -DNDEBUG -I'/home/biocbuild/bbs-3.19-bioc/R/site-library/S4Vectors/include' -I'/home/biocbuild/bbs-3.19-bioc/R/site-library/IRanges/include' -I'/home/biocbuild/bbs-3.19-bioc/R/site-library/XVector/include' -I/usr/local/include -fopenmp -fpic -g -O2 -Wall -c R_init_SparseArray.c -o R_init_SparseArray.o
gcc -I"/home/biocbuild/bbs-3.19-bioc/R/include" -DNDEBUG -I'/home/biocbuild/bbs-3.19-bioc/R/site-library/S4Vectors/include' -I'/home/biocbuild/bbs-3.19-bioc/R/site-library/IRanges/include' -I'/home/biocbuild/bbs-3.19-bioc/R/site-library/XVector/include' -I/usr/local/include -fopenmp -fpic -g -O2 -Wall -c Rvector_summarization.c -o Rvector_summarization.o
Rvector_summarization.c:1309:12: warning: ‘count_NA_list_elts’ defined but not used [-Wunused-function]
1309 | static int count_NA_list_elts(SEXP x)
| ^~~~~~~~~~~~~~~~~~
Rvector_summarization.c:1299:12: warning: ‘any_NA_list_elt’ defined but not used [-Wunused-function]
1299 | static int any_NA_list_elt(SEXP x)
| ^~~~~~~~~~~~~~~
gcc -I"/home/biocbuild/bbs-3.19-bioc/R/include" -DNDEBUG -I'/home/biocbuild/bbs-3.19-bioc/R/site-library/S4Vectors/include' -I'/home/biocbuild/bbs-3.19-bioc/R/site-library/IRanges/include' -I'/home/biocbuild/bbs-3.19-bioc/R/site-library/XVector/include' -I/usr/local/include -fopenmp -fpic -g -O2 -Wall -c Rvector_utils.c -o Rvector_utils.o
gcc -I"/home/biocbuild/bbs-3.19-bioc/R/include" -DNDEBUG -I'/home/biocbuild/bbs-3.19-bioc/R/site-library/S4Vectors/include' -I'/home/biocbuild/bbs-3.19-bioc/R/site-library/IRanges/include' -I'/home/biocbuild/bbs-3.19-bioc/R/site-library/XVector/include' -I/usr/local/include -fopenmp -fpic -g -O2 -Wall -c S4Vectors_stubs.c -o S4Vectors_stubs.o
gcc -I"/home/biocbuild/bbs-3.19-bioc/R/include" -DNDEBUG -I'/home/biocbuild/bbs-3.19-bioc/R/site-library/S4Vectors/include' -I'/home/biocbuild/bbs-3.19-bioc/R/site-library/IRanges/include' -I'/home/biocbuild/bbs-3.19-bioc/R/site-library/XVector/include' -I/usr/local/include -fopenmp -fpic -g -O2 -Wall -c SBT_utils.c -o SBT_utils.o
gcc -I"/home/biocbuild/bbs-3.19-bioc/R/include" -DNDEBUG -I'/home/biocbuild/bbs-3.19-bioc/R/site-library/S4Vectors/include' -I'/home/biocbuild/bbs-3.19-bioc/R/site-library/IRanges/include' -I'/home/biocbuild/bbs-3.19-bioc/R/site-library/XVector/include' -I/usr/local/include -fopenmp -fpic -g -O2 -Wall -c SVT_SparseArray_class.c -o SVT_SparseArray_class.o
gcc -I"/home/biocbuild/bbs-3.19-bioc/R/include" -DNDEBUG -I'/home/biocbuild/bbs-3.19-bioc/R/site-library/S4Vectors/include' -I'/home/biocbuild/bbs-3.19-bioc/R/site-library/IRanges/include' -I'/home/biocbuild/bbs-3.19-bioc/R/site-library/XVector/include' -I/usr/local/include -fopenmp -fpic -g -O2 -Wall -c SparseArray_Complex_methods.c -o SparseArray_Complex_methods.o
gcc -I"/home/biocbuild/bbs-3.19-bioc/R/include" -DNDEBUG -I'/home/biocbuild/bbs-3.19-bioc/R/site-library/S4Vectors/include' -I'/home/biocbuild/bbs-3.19-bioc/R/site-library/IRanges/include' -I'/home/biocbuild/bbs-3.19-bioc/R/site-library/XVector/include' -I/usr/local/include -fopenmp -fpic -g -O2 -Wall -c SparseArray_Math_methods.c -o SparseArray_Math_methods.o
gcc -I"/home/biocbuild/bbs-3.19-bioc/R/include" -DNDEBUG -I'/home/biocbuild/bbs-3.19-bioc/R/site-library/S4Vectors/include' -I'/home/biocbuild/bbs-3.19-bioc/R/site-library/IRanges/include' -I'/home/biocbuild/bbs-3.19-bioc/R/site-library/XVector/include' -I/usr/local/include -fopenmp -fpic -g -O2 -Wall -c SparseArray_Ops_methods.c -o SparseArray_Ops_methods.o
gcc -I"/home/biocbuild/bbs-3.19-bioc/R/include" -DNDEBUG -I'/home/biocbuild/bbs-3.19-bioc/R/site-library/S4Vectors/include' -I'/home/biocbuild/bbs-3.19-bioc/R/site-library/IRanges/include' -I'/home/biocbuild/bbs-3.19-bioc/R/site-library/XVector/include' -I/usr/local/include -fopenmp -fpic -g -O2 -Wall -c SparseArray_abind.c -o SparseArray_abind.o
gcc -I"/home/biocbuild/bbs-3.19-bioc/R/include" -DNDEBUG -I'/home/biocbuild/bbs-3.19-bioc/R/site-library/S4Vectors/include' -I'/home/biocbuild/bbs-3.19-bioc/R/site-library/IRanges/include' -I'/home/biocbuild/bbs-3.19-bioc/R/site-library/XVector/include' -I/usr/local/include -fopenmp -fpic -g -O2 -Wall -c SparseArray_aperm.c -o SparseArray_aperm.o
gcc -I"/home/biocbuild/bbs-3.19-bioc/R/include" -DNDEBUG -I'/home/biocbuild/bbs-3.19-bioc/R/site-library/S4Vectors/include' -I'/home/biocbuild/bbs-3.19-bioc/R/site-library/IRanges/include' -I'/home/biocbuild/bbs-3.19-bioc/R/site-library/XVector/include' -I/usr/local/include -fopenmp -fpic -g -O2 -Wall -c SparseArray_class.c -o SparseArray_class.o
gcc -I"/home/biocbuild/bbs-3.19-bioc/R/include" -DNDEBUG -I'/home/biocbuild/bbs-3.19-bioc/R/site-library/S4Vectors/include' -I'/home/biocbuild/bbs-3.19-bioc/R/site-library/IRanges/include' -I'/home/biocbuild/bbs-3.19-bioc/R/site-library/XVector/include' -I/usr/local/include -fopenmp -fpic -g -O2 -Wall -c SparseArray_dim_tuning.c -o SparseArray_dim_tuning.o
gcc -I"/home/biocbuild/bbs-3.19-bioc/R/include" -DNDEBUG -I'/home/biocbuild/bbs-3.19-bioc/R/site-library/S4Vectors/include' -I'/home/biocbuild/bbs-3.19-bioc/R/site-library/IRanges/include' -I'/home/biocbuild/bbs-3.19-bioc/R/site-library/XVector/include' -I/usr/local/include -fopenmp -fpic -g -O2 -Wall -c SparseArray_subassignment.c -o SparseArray_subassignment.o
gcc -I"/home/biocbuild/bbs-3.19-bioc/R/include" -DNDEBUG -I'/home/biocbuild/bbs-3.19-bioc/R/site-library/S4Vectors/include' -I'/home/biocbuild/bbs-3.19-bioc/R/site-library/IRanges/include' -I'/home/biocbuild/bbs-3.19-bioc/R/site-library/XVector/include' -I/usr/local/include -fopenmp -fpic -g -O2 -Wall -c SparseArray_subsetting.c -o SparseArray_subsetting.o
gcc -I"/home/biocbuild/bbs-3.19-bioc/R/include" -DNDEBUG -I'/home/biocbuild/bbs-3.19-bioc/R/site-library/S4Vectors/include' -I'/home/biocbuild/bbs-3.19-bioc/R/site-library/IRanges/include' -I'/home/biocbuild/bbs-3.19-bioc/R/site-library/XVector/include' -I/usr/local/include -fopenmp -fpic -g -O2 -Wall -c SparseArray_summarization.c -o SparseArray_summarization.o
gcc -I"/home/biocbuild/bbs-3.19-bioc/R/include" -DNDEBUG -I'/home/biocbuild/bbs-3.19-bioc/R/site-library/S4Vectors/include' -I'/home/biocbuild/bbs-3.19-bioc/R/site-library/IRanges/include' -I'/home/biocbuild/bbs-3.19-bioc/R/site-library/XVector/include' -I/usr/local/include -fopenmp -fpic -g -O2 -Wall -c SparseMatrix_mult.c -o SparseMatrix_mult.o
SparseMatrix_mult.c:372:13: warning: ‘crossprod2_doublemat_doubleSV’ defined but not used [-Wunused-function]
372 | static void crossprod2_doublemat_doubleSV(
| ^~~~~~~~~~~~~~~~~~~~~~~~~~~~~
SparseMatrix_mult.c:332:13: warning: ‘crossprod2_doubleSV_doublemat’ defined but not used [-Wunused-function]
332 | static void crossprod2_doubleSV_doublemat(
| ^~~~~~~~~~~~~~~~~~~~~~~~~~~~~
gcc -I"/home/biocbuild/bbs-3.19-bioc/R/include" -DNDEBUG -I'/home/biocbuild/bbs-3.19-bioc/R/site-library/S4Vectors/include' -I'/home/biocbuild/bbs-3.19-bioc/R/site-library/IRanges/include' -I'/home/biocbuild/bbs-3.19-bioc/R/site-library/XVector/include' -I/usr/local/include -fopenmp -fpic -g -O2 -Wall -c SparseVec_Arith.c -o SparseVec_Arith.o
gcc -I"/home/biocbuild/bbs-3.19-bioc/R/include" -DNDEBUG -I'/home/biocbuild/bbs-3.19-bioc/R/site-library/S4Vectors/include' -I'/home/biocbuild/bbs-3.19-bioc/R/site-library/IRanges/include' -I'/home/biocbuild/bbs-3.19-bioc/R/site-library/XVector/include' -I/usr/local/include -fopenmp -fpic -g -O2 -Wall -c SparseVec_Compare.c -o SparseVec_Compare.o
gcc -I"/home/biocbuild/bbs-3.19-bioc/R/include" -DNDEBUG -I'/home/biocbuild/bbs-3.19-bioc/R/site-library/S4Vectors/include' -I'/home/biocbuild/bbs-3.19-bioc/R/site-library/IRanges/include' -I'/home/biocbuild/bbs-3.19-bioc/R/site-library/XVector/include' -I/usr/local/include -fopenmp -fpic -g -O2 -Wall -c SparseVec_Logic.c -o SparseVec_Logic.o
gcc -I"/home/biocbuild/bbs-3.19-bioc/R/include" -DNDEBUG -I'/home/biocbuild/bbs-3.19-bioc/R/site-library/S4Vectors/include' -I'/home/biocbuild/bbs-3.19-bioc/R/site-library/IRanges/include' -I'/home/biocbuild/bbs-3.19-bioc/R/site-library/XVector/include' -I/usr/local/include -fopenmp -fpic -g -O2 -Wall -c SparseVec_Math.c -o SparseVec_Math.o
gcc -I"/home/biocbuild/bbs-3.19-bioc/R/include" -DNDEBUG -I'/home/biocbuild/bbs-3.19-bioc/R/site-library/S4Vectors/include' -I'/home/biocbuild/bbs-3.19-bioc/R/site-library/IRanges/include' -I'/home/biocbuild/bbs-3.19-bioc/R/site-library/XVector/include' -I/usr/local/include -fopenmp -fpic -g -O2 -Wall -c SparseVec_dotprod.c -o SparseVec_dotprod.o
gcc -I"/home/biocbuild/bbs-3.19-bioc/R/include" -DNDEBUG -I'/home/biocbuild/bbs-3.19-bioc/R/site-library/S4Vectors/include' -I'/home/biocbuild/bbs-3.19-bioc/R/site-library/IRanges/include' -I'/home/biocbuild/bbs-3.19-bioc/R/site-library/XVector/include' -I/usr/local/include -fopenmp -fpic -g -O2 -Wall -c XVector_stubs.c -o XVector_stubs.o
gcc -I"/home/biocbuild/bbs-3.19-bioc/R/include" -DNDEBUG -I'/home/biocbuild/bbs-3.19-bioc/R/site-library/S4Vectors/include' -I'/home/biocbuild/bbs-3.19-bioc/R/site-library/IRanges/include' -I'/home/biocbuild/bbs-3.19-bioc/R/site-library/XVector/include' -I/usr/local/include -fopenmp -fpic -g -O2 -Wall -c coerceVector2.c -o coerceVector2.o
gcc -I"/home/biocbuild/bbs-3.19-bioc/R/include" -DNDEBUG -I'/home/biocbuild/bbs-3.19-bioc/R/site-library/S4Vectors/include' -I'/home/biocbuild/bbs-3.19-bioc/R/site-library/IRanges/include' -I'/home/biocbuild/bbs-3.19-bioc/R/site-library/XVector/include' -I/usr/local/include -fopenmp -fpic -g -O2 -Wall -c leaf_utils.c -o leaf_utils.o
gcc -I"/home/biocbuild/bbs-3.19-bioc/R/include" -DNDEBUG -I'/home/biocbuild/bbs-3.19-bioc/R/site-library/S4Vectors/include' -I'/home/biocbuild/bbs-3.19-bioc/R/site-library/IRanges/include' -I'/home/biocbuild/bbs-3.19-bioc/R/site-library/XVector/include' -I/usr/local/include -fopenmp -fpic -g -O2 -Wall -c matrixStats_methods.c -o matrixStats_methods.o
gcc -I"/home/biocbuild/bbs-3.19-bioc/R/include" -DNDEBUG -I'/home/biocbuild/bbs-3.19-bioc/R/site-library/S4Vectors/include' -I'/home/biocbuild/bbs-3.19-bioc/R/site-library/IRanges/include' -I'/home/biocbuild/bbs-3.19-bioc/R/site-library/XVector/include' -I/usr/local/include -fopenmp -fpic -g -O2 -Wall -c randomSparseArray.c -o randomSparseArray.o
gcc -I"/home/biocbuild/bbs-3.19-bioc/R/include" -DNDEBUG -I'/home/biocbuild/bbs-3.19-bioc/R/site-library/S4Vectors/include' -I'/home/biocbuild/bbs-3.19-bioc/R/site-library/IRanges/include' -I'/home/biocbuild/bbs-3.19-bioc/R/site-library/XVector/include' -I/usr/local/include -fopenmp -fpic -g -O2 -Wall -c readSparseCSV.c -o readSparseCSV.o
readSparseCSV.c: In function ‘C_readSparseCSV_as_SVT_SparseMatrix’:
readSparseCSV.c:248:25: warning: ‘nzoffs_buf’ may be used uninitialized in this function [-Wmaybe-uninitialized]
248 | load_csv_data_to_AEbufs(data, data_len, col_idx - 1,
| ^~~~~~~~~~~~~~~~~~~~~~~~~~~~~~~~~~~~~~~~~~~~~~~~~~~~
249 | nzvals_buf, nzoffs_buf);
| ~~~~~~~~~~~~~~~~~~~~~~~
readSparseCSV.c:296:29: note: ‘nzoffs_buf’ was declared here
296 | IntAE *nzvals_buf, *nzoffs_buf;
| ^~~~~~~~~~
readSparseCSV.c:248:25: warning: ‘nzvals_buf’ may be used uninitialized in this function [-Wmaybe-uninitialized]
248 | load_csv_data_to_AEbufs(data, data_len, col_idx - 1,
| ^~~~~~~~~~~~~~~~~~~~~~~~~~~~~~~~~~~~~~~~~~~~~~~~~~~~
249 | nzvals_buf, nzoffs_buf);
| ~~~~~~~~~~~~~~~~~~~~~~~
readSparseCSV.c:296:16: note: ‘nzvals_buf’ was declared here
296 | IntAE *nzvals_buf, *nzoffs_buf;
| ^~~~~~~~~~
gcc -I"/home/biocbuild/bbs-3.19-bioc/R/include" -DNDEBUG -I'/home/biocbuild/bbs-3.19-bioc/R/site-library/S4Vectors/include' -I'/home/biocbuild/bbs-3.19-bioc/R/site-library/IRanges/include' -I'/home/biocbuild/bbs-3.19-bioc/R/site-library/XVector/include' -I/usr/local/include -fopenmp -fpic -g -O2 -Wall -c rowsum_methods.c -o rowsum_methods.o
gcc -I"/home/biocbuild/bbs-3.19-bioc/R/include" -DNDEBUG -I'/home/biocbuild/bbs-3.19-bioc/R/site-library/S4Vectors/include' -I'/home/biocbuild/bbs-3.19-bioc/R/site-library/IRanges/include' -I'/home/biocbuild/bbs-3.19-bioc/R/site-library/XVector/include' -I/usr/local/include -fopenmp -fpic -g -O2 -Wall -c sparseMatrix_utils.c -o sparseMatrix_utils.o
gcc -I"/home/biocbuild/bbs-3.19-bioc/R/include" -DNDEBUG -I'/home/biocbuild/bbs-3.19-bioc/R/site-library/S4Vectors/include' -I'/home/biocbuild/bbs-3.19-bioc/R/site-library/IRanges/include' -I'/home/biocbuild/bbs-3.19-bioc/R/site-library/XVector/include' -I/usr/local/include -fopenmp -fpic -g -O2 -Wall -c test.c -o test.o
gcc -I"/home/biocbuild/bbs-3.19-bioc/R/include" -DNDEBUG -I'/home/biocbuild/bbs-3.19-bioc/R/site-library/S4Vectors/include' -I'/home/biocbuild/bbs-3.19-bioc/R/site-library/IRanges/include' -I'/home/biocbuild/bbs-3.19-bioc/R/site-library/XVector/include' -I/usr/local/include -fopenmp -fpic -g -O2 -Wall -c thread_control.c -o thread_control.o
gcc -shared -L/home/biocbuild/bbs-3.19-bioc/R/lib -L/usr/local/lib -o SparseArray.so ExtendableJaggedArray.o IRanges_stubs.o OPBufTree.o R_init_SparseArray.o Rvector_summarization.o Rvector_utils.o S4Vectors_stubs.o SBT_utils.o SVT_SparseArray_class.o SparseArray_Complex_methods.o SparseArray_Math_methods.o SparseArray_Ops_methods.o SparseArray_abind.o SparseArray_aperm.o SparseArray_class.o SparseArray_dim_tuning.o SparseArray_subassignment.o SparseArray_subsetting.o SparseArray_summarization.o SparseMatrix_mult.o SparseVec_Arith.o SparseVec_Compare.o SparseVec_Logic.o SparseVec_Math.o SparseVec_dotprod.o XVector_stubs.o coerceVector2.o leaf_utils.o matrixStats_methods.o randomSparseArray.o readSparseCSV.o rowsum_methods.o sparseMatrix_utils.o test.o thread_control.o -fopenmp -L/home/biocbuild/bbs-3.19-bioc/R/lib -lR
installing to /home/biocbuild/bbs-3.19-bioc/R/site-library/00LOCK-SparseArray/00new/SparseArray/libs
** R
** inst
** byte-compile and prepare package for lazy loading
** help
*** installing help indices
** building package indices
** installing vignettes
** testing if installed package can be loaded from temporary location
** checking absolute paths in shared objects and dynamic libraries
** testing if installed package can be loaded from final location
** testing if installed package keeps a record of temporary installation path
* DONE (SparseArray)
SparseArray.Rcheck/tests/testthat.Rout
R version 4.4.1 (2024-06-14) -- "Race for Your Life"
Copyright (C) 2024 The R Foundation for Statistical Computing
Platform: x86_64-pc-linux-gnu
R is free software and comes with ABSOLUTELY NO WARRANTY.
You are welcome to redistribute it under certain conditions.
Type 'license()' or 'licence()' for distribution details.
R is a collaborative project with many contributors.
Type 'contributors()' for more information and
'citation()' on how to cite R or R packages in publications.
Type 'demo()' for some demos, 'help()' for on-line help, or
'help.start()' for an HTML browser interface to help.
Type 'q()' to quit R.
> library(testthat)
> library(SparseArray)
Loading required package: Matrix
Loading required package: BiocGenerics
Attaching package: 'BiocGenerics'
The following objects are masked from 'package:stats':
IQR, mad, sd, var, xtabs
The following objects are masked from 'package:base':
Filter, Find, Map, Position, Reduce, anyDuplicated, aperm, append,
as.data.frame, basename, cbind, colnames, dirname, do.call,
duplicated, eval, evalq, get, grep, grepl, intersect, is.unsorted,
lapply, mapply, match, mget, order, paste, pmax, pmax.int, pmin,
pmin.int, rank, rbind, rownames, sapply, setdiff, table, tapply,
union, unique, unsplit, which.max, which.min
Loading required package: MatrixGenerics
Loading required package: matrixStats
Attaching package: 'MatrixGenerics'
The following objects are masked from 'package:matrixStats':
colAlls, colAnyNAs, colAnys, colAvgsPerRowSet, colCollapse,
colCounts, colCummaxs, colCummins, colCumprods, colCumsums,
colDiffs, colIQRDiffs, colIQRs, colLogSumExps, colMadDiffs,
colMads, colMaxs, colMeans2, colMedians, colMins, colOrderStats,
colProds, colQuantiles, colRanges, colRanks, colSdDiffs, colSds,
colSums2, colTabulates, colVarDiffs, colVars, colWeightedMads,
colWeightedMeans, colWeightedMedians, colWeightedSds,
colWeightedVars, rowAlls, rowAnyNAs, rowAnys, rowAvgsPerColSet,
rowCollapse, rowCounts, rowCummaxs, rowCummins, rowCumprods,
rowCumsums, rowDiffs, rowIQRDiffs, rowIQRs, rowLogSumExps,
rowMadDiffs, rowMads, rowMaxs, rowMeans2, rowMedians, rowMins,
rowOrderStats, rowProds, rowQuantiles, rowRanges, rowRanks,
rowSdDiffs, rowSds, rowSums2, rowTabulates, rowVarDiffs, rowVars,
rowWeightedMads, rowWeightedMeans, rowWeightedMedians,
rowWeightedSds, rowWeightedVars
Loading required package: S4Vectors
Loading required package: stats4
Attaching package: 'S4Vectors'
The following objects are masked from 'package:Matrix':
expand, unname
The following object is masked from 'package:utils':
findMatches
The following objects are masked from 'package:base':
I, expand.grid, unname
Loading required package: S4Arrays
Loading required package: abind
Loading required package: IRanges
Attaching package: 'S4Arrays'
The following object is masked from 'package:abind':
abind
The following object is masked from 'package:base':
rowsum
>
> test_check("SparseArray")
[ FAIL 0 | WARN 0 | SKIP 0 | PASS 6501 ]
>
> proc.time()
user system elapsed
28.464 1.616 29.457
SparseArray.Rcheck/SparseArray-Ex.timings
| name | user | system | elapsed | |
| COO_SparseArray-class | 0.669 | 0.024 | 0.693 | |
| SVT_SparseArray-class | 11.189 | 1.716 | 12.905 | |
| SparseArray-Complex-methods | 0 | 0 | 0 | |
| SparseArray-Math-methods | 0.003 | 0.003 | 0.007 | |
| SparseArray-Ops-methods | 0.004 | 0.002 | 0.007 | |
| SparseArray-abind | 0.085 | 0.021 | 0.105 | |
| SparseArray-aperm | 0 | 0 | 0 | |
| SparseArray-class | 1.098 | 0.144 | 1.241 | |
| SparseArray-dim-tuning | 0.005 | 0.000 | 0.005 | |
| SparseArray-misc-methods | 0 | 0 | 0 | |
| SparseArray-subassignment | 0.038 | 0.000 | 0.039 | |
| SparseArray-subsetting | 0.155 | 0.020 | 0.175 | |
| SparseArray-summarization | 0.008 | 0.000 | 0.007 | |
| SparseMatrix-mult | 0.054 | 0.007 | 0.041 | |
| extract_sparse_array | 0.076 | 0.005 | 0.075 | |
| matrixStats-methods | 0.071 | 0.012 | 0.059 | |
| randomSparseArray | 3.442 | 0.356 | 3.793 | |
| readSparseCSV | 0.018 | 0.008 | 0.026 | |
| rowsum-methods | 6.183 | 0.808 | 6.990 | |
| thread-control | 32.508 | 0.456 | 27.931 | |