| Back to Multiple platform build/check report for BioC 3.19: simplified long |
|
This page was generated on 2024-10-18 20:40 -0400 (Fri, 18 Oct 2024).
| Hostname | OS | Arch (*) | R version | Installed pkgs |
|---|---|---|---|---|
| nebbiolo1 | Linux (Ubuntu 22.04.3 LTS) | x86_64 | 4.4.1 (2024-06-14) -- "Race for Your Life" | 4763 |
| palomino7 | Windows Server 2022 Datacenter | x64 | 4.4.1 (2024-06-14 ucrt) -- "Race for Your Life" | 4500 |
| merida1 | macOS 12.7.5 Monterey | x86_64 | 4.4.1 (2024-06-14) -- "Race for Your Life" | 4530 |
| kjohnson1 | macOS 13.6.6 Ventura | arm64 | 4.4.1 (2024-06-14) -- "Race for Your Life" | 4480 |
| Click on any hostname to see more info about the system (e.g. compilers) (*) as reported by 'uname -p', except on Windows and Mac OS X | ||||
| Package 2025/2300 | Hostname | OS / Arch | INSTALL | BUILD | CHECK | BUILD BIN | ||||||||
| SparseArray 1.4.8 (landing page) Hervé Pagès
| nebbiolo1 | Linux (Ubuntu 22.04.3 LTS) / x86_64 | OK | OK | OK | |||||||||
| palomino7 | Windows Server 2022 Datacenter / x64 | OK | OK | WARNINGS | OK | |||||||||
| merida1 | macOS 12.7.5 Monterey / x86_64 | OK | OK | OK | OK | |||||||||
| kjohnson1 | macOS 13.6.6 Ventura / arm64 | OK | OK | OK | NA | |||||||||
|
To the developers/maintainers of the SparseArray package: - Allow up to 24 hours (and sometimes 48 hours) for your latest push to git@git.bioconductor.org:packages/SparseArray.git to reflect on this report. See Troubleshooting Build Report for more information. - Use the following Renviron settings to reproduce errors and warnings. - If 'R CMD check' started to fail recently on the Linux builder(s) over a missing dependency, add the missing dependency to 'Suggests:' in your DESCRIPTION file. See Renviron.bioc for more information. |
| Package: SparseArray |
| Version: 1.4.8 |
| Command: rm -rf SparseArray.buildbin-libdir && mkdir SparseArray.buildbin-libdir && E:\biocbuild\bbs-3.19-bioc\R\bin\R.exe CMD INSTALL --build --library=SparseArray.buildbin-libdir SparseArray_1.4.8.tar.gz |
| StartedAt: 2024-10-17 08:41:30 -0400 (Thu, 17 Oct 2024) |
| EndedAt: 2024-10-17 08:43:29 -0400 (Thu, 17 Oct 2024) |
| EllapsedTime: 119.0 seconds |
| RetCode: 0 |
| Status: OK |
| PackageFile: SparseArray_1.4.8.zip |
| PackageFileSize: 1.889 MiB |
##############################################################################
##############################################################################
###
### Running command:
###
### rm -rf SparseArray.buildbin-libdir && mkdir SparseArray.buildbin-libdir && E:\biocbuild\bbs-3.19-bioc\R\bin\R.exe CMD INSTALL --build --library=SparseArray.buildbin-libdir SparseArray_1.4.8.tar.gz
###
##############################################################################
##############################################################################
* installing *source* package 'SparseArray' ...
** using staged installation
** libs
using C compiler: 'gcc.exe (GCC) 13.2.0'
gcc -I"E:/biocbuild/bbs-3.19-bioc/R/include" -DNDEBUG -I'E:/biocbuild/bbs-3.19-bioc/R/library/S4Vectors/include' -I'E:/biocbuild/bbs-3.19-bioc/R/library/IRanges/include' -I'E:/biocbuild/bbs-3.19-bioc/R/library/XVector/include' -I"C:/rtools44/x86_64-w64-mingw32.static.posix/include" -fopenmp -O2 -Wall -mfpmath=sse -msse2 -mstackrealign -c ExtendableJaggedArray.c -o ExtendableJaggedArray.o
ExtendableJaggedArray.c: In function '_move_ExtendableJaggedArrays_to_SVT':
ExtendableJaggedArray.c:129:25: warning: 'nzvals_p' may be used uninitialized [-Wmaybe-uninitialized]
129 | free(nzvals_p);
| ^~~~~~~~~~~~~~
ExtendableJaggedArray.c:111:22: note: 'nzvals_p' was declared here
111 | int *nzvals_p, *nzoffs_p;
| ^~~~~~~~
ExtendableJaggedArray.c:125:25: warning: 'nzoffs_p' may be used uninitialized [-Wmaybe-uninitialized]
125 | free(nzoffs_p);
| ^~~~~~~~~~~~~~
ExtendableJaggedArray.c:111:33: note: 'nzoffs_p' was declared here
111 | int *nzvals_p, *nzoffs_p;
| ^~~~~~~~
gcc -I"E:/biocbuild/bbs-3.19-bioc/R/include" -DNDEBUG -I'E:/biocbuild/bbs-3.19-bioc/R/library/S4Vectors/include' -I'E:/biocbuild/bbs-3.19-bioc/R/library/IRanges/include' -I'E:/biocbuild/bbs-3.19-bioc/R/library/XVector/include' -I"C:/rtools44/x86_64-w64-mingw32.static.posix/include" -fopenmp -O2 -Wall -mfpmath=sse -msse2 -mstackrealign -c IRanges_stubs.c -o IRanges_stubs.o
gcc -I"E:/biocbuild/bbs-3.19-bioc/R/include" -DNDEBUG -I'E:/biocbuild/bbs-3.19-bioc/R/library/S4Vectors/include' -I'E:/biocbuild/bbs-3.19-bioc/R/library/IRanges/include' -I'E:/biocbuild/bbs-3.19-bioc/R/library/XVector/include' -I"C:/rtools44/x86_64-w64-mingw32.static.posix/include" -fopenmp -O2 -Wall -mfpmath=sse -msse2 -mstackrealign -c OPBufTree.c -o OPBufTree.o
OPBufTree.c: In function 'print_OPBuf':
OPBufTree.c:271:37: warning: format '%lu' expects argument of type 'long unsigned int', but argument 2 has type 'R_xlen_t' {aka 'long long int'} [-Wformat=]
271 | Rprintf("%4lu", opbuf->xLoffs[k]);
| ~~~^ ~~~~~~~~~~~~~~~~
| | |
| | R_xlen_t {aka long long int}
| long unsigned int
| %4llu
gcc -I"E:/biocbuild/bbs-3.19-bioc/R/include" -DNDEBUG -I'E:/biocbuild/bbs-3.19-bioc/R/library/S4Vectors/include' -I'E:/biocbuild/bbs-3.19-bioc/R/library/IRanges/include' -I'E:/biocbuild/bbs-3.19-bioc/R/library/XVector/include' -I"C:/rtools44/x86_64-w64-mingw32.static.posix/include" -fopenmp -O2 -Wall -mfpmath=sse -msse2 -mstackrealign -c R_init_SparseArray.c -o R_init_SparseArray.o
gcc -I"E:/biocbuild/bbs-3.19-bioc/R/include" -DNDEBUG -I'E:/biocbuild/bbs-3.19-bioc/R/library/S4Vectors/include' -I'E:/biocbuild/bbs-3.19-bioc/R/library/IRanges/include' -I'E:/biocbuild/bbs-3.19-bioc/R/library/XVector/include' -I"C:/rtools44/x86_64-w64-mingw32.static.posix/include" -fopenmp -O2 -Wall -mfpmath=sse -msse2 -mstackrealign -c Rvector_summarization.c -o Rvector_summarization.o
Rvector_summarization.c:1309:12: warning: 'count_NA_list_elts' defined but not used [-Wunused-function]
1309 | static int count_NA_list_elts(SEXP x)
| ^~~~~~~~~~~~~~~~~~
Rvector_summarization.c:1299:12: warning: 'any_NA_list_elt' defined but not used [-Wunused-function]
1299 | static int any_NA_list_elt(SEXP x)
| ^~~~~~~~~~~~~~~
gcc -I"E:/biocbuild/bbs-3.19-bioc/R/include" -DNDEBUG -I'E:/biocbuild/bbs-3.19-bioc/R/library/S4Vectors/include' -I'E:/biocbuild/bbs-3.19-bioc/R/library/IRanges/include' -I'E:/biocbuild/bbs-3.19-bioc/R/library/XVector/include' -I"C:/rtools44/x86_64-w64-mingw32.static.posix/include" -fopenmp -O2 -Wall -mfpmath=sse -msse2 -mstackrealign -c Rvector_utils.c -o Rvector_utils.o
gcc -I"E:/biocbuild/bbs-3.19-bioc/R/include" -DNDEBUG -I'E:/biocbuild/bbs-3.19-bioc/R/library/S4Vectors/include' -I'E:/biocbuild/bbs-3.19-bioc/R/library/IRanges/include' -I'E:/biocbuild/bbs-3.19-bioc/R/library/XVector/include' -I"C:/rtools44/x86_64-w64-mingw32.static.posix/include" -fopenmp -O2 -Wall -mfpmath=sse -msse2 -mstackrealign -c S4Vectors_stubs.c -o S4Vectors_stubs.o
gcc -I"E:/biocbuild/bbs-3.19-bioc/R/include" -DNDEBUG -I'E:/biocbuild/bbs-3.19-bioc/R/library/S4Vectors/include' -I'E:/biocbuild/bbs-3.19-bioc/R/library/IRanges/include' -I'E:/biocbuild/bbs-3.19-bioc/R/library/XVector/include' -I"C:/rtools44/x86_64-w64-mingw32.static.posix/include" -fopenmp -O2 -Wall -mfpmath=sse -msse2 -mstackrealign -c SBT_utils.c -o SBT_utils.o
gcc -I"E:/biocbuild/bbs-3.19-bioc/R/include" -DNDEBUG -I'E:/biocbuild/bbs-3.19-bioc/R/library/S4Vectors/include' -I'E:/biocbuild/bbs-3.19-bioc/R/library/IRanges/include' -I'E:/biocbuild/bbs-3.19-bioc/R/library/XVector/include' -I"C:/rtools44/x86_64-w64-mingw32.static.posix/include" -fopenmp -O2 -Wall -mfpmath=sse -msse2 -mstackrealign -c SVT_SparseArray_class.c -o SVT_SparseArray_class.o
gcc -I"E:/biocbuild/bbs-3.19-bioc/R/include" -DNDEBUG -I'E:/biocbuild/bbs-3.19-bioc/R/library/S4Vectors/include' -I'E:/biocbuild/bbs-3.19-bioc/R/library/IRanges/include' -I'E:/biocbuild/bbs-3.19-bioc/R/library/XVector/include' -I"C:/rtools44/x86_64-w64-mingw32.static.posix/include" -fopenmp -O2 -Wall -mfpmath=sse -msse2 -mstackrealign -c SparseArray_Complex_methods.c -o SparseArray_Complex_methods.o
gcc -I"E:/biocbuild/bbs-3.19-bioc/R/include" -DNDEBUG -I'E:/biocbuild/bbs-3.19-bioc/R/library/S4Vectors/include' -I'E:/biocbuild/bbs-3.19-bioc/R/library/IRanges/include' -I'E:/biocbuild/bbs-3.19-bioc/R/library/XVector/include' -I"C:/rtools44/x86_64-w64-mingw32.static.posix/include" -fopenmp -O2 -Wall -mfpmath=sse -msse2 -mstackrealign -c SparseArray_Math_methods.c -o SparseArray_Math_methods.o
gcc -I"E:/biocbuild/bbs-3.19-bioc/R/include" -DNDEBUG -I'E:/biocbuild/bbs-3.19-bioc/R/library/S4Vectors/include' -I'E:/biocbuild/bbs-3.19-bioc/R/library/IRanges/include' -I'E:/biocbuild/bbs-3.19-bioc/R/library/XVector/include' -I"C:/rtools44/x86_64-w64-mingw32.static.posix/include" -fopenmp -O2 -Wall -mfpmath=sse -msse2 -mstackrealign -c SparseArray_Ops_methods.c -o SparseArray_Ops_methods.o
gcc -I"E:/biocbuild/bbs-3.19-bioc/R/include" -DNDEBUG -I'E:/biocbuild/bbs-3.19-bioc/R/library/S4Vectors/include' -I'E:/biocbuild/bbs-3.19-bioc/R/library/IRanges/include' -I'E:/biocbuild/bbs-3.19-bioc/R/library/XVector/include' -I"C:/rtools44/x86_64-w64-mingw32.static.posix/include" -fopenmp -O2 -Wall -mfpmath=sse -msse2 -mstackrealign -c SparseArray_abind.c -o SparseArray_abind.o
gcc -I"E:/biocbuild/bbs-3.19-bioc/R/include" -DNDEBUG -I'E:/biocbuild/bbs-3.19-bioc/R/library/S4Vectors/include' -I'E:/biocbuild/bbs-3.19-bioc/R/library/IRanges/include' -I'E:/biocbuild/bbs-3.19-bioc/R/library/XVector/include' -I"C:/rtools44/x86_64-w64-mingw32.static.posix/include" -fopenmp -O2 -Wall -mfpmath=sse -msse2 -mstackrealign -c SparseArray_aperm.c -o SparseArray_aperm.o
gcc -I"E:/biocbuild/bbs-3.19-bioc/R/include" -DNDEBUG -I'E:/biocbuild/bbs-3.19-bioc/R/library/S4Vectors/include' -I'E:/biocbuild/bbs-3.19-bioc/R/library/IRanges/include' -I'E:/biocbuild/bbs-3.19-bioc/R/library/XVector/include' -I"C:/rtools44/x86_64-w64-mingw32.static.posix/include" -fopenmp -O2 -Wall -mfpmath=sse -msse2 -mstackrealign -c SparseArray_class.c -o SparseArray_class.o
gcc -I"E:/biocbuild/bbs-3.19-bioc/R/include" -DNDEBUG -I'E:/biocbuild/bbs-3.19-bioc/R/library/S4Vectors/include' -I'E:/biocbuild/bbs-3.19-bioc/R/library/IRanges/include' -I'E:/biocbuild/bbs-3.19-bioc/R/library/XVector/include' -I"C:/rtools44/x86_64-w64-mingw32.static.posix/include" -fopenmp -O2 -Wall -mfpmath=sse -msse2 -mstackrealign -c SparseArray_dim_tuning.c -o SparseArray_dim_tuning.o
gcc -I"E:/biocbuild/bbs-3.19-bioc/R/include" -DNDEBUG -I'E:/biocbuild/bbs-3.19-bioc/R/library/S4Vectors/include' -I'E:/biocbuild/bbs-3.19-bioc/R/library/IRanges/include' -I'E:/biocbuild/bbs-3.19-bioc/R/library/XVector/include' -I"C:/rtools44/x86_64-w64-mingw32.static.posix/include" -fopenmp -O2 -Wall -mfpmath=sse -msse2 -mstackrealign -c SparseArray_subassignment.c -o SparseArray_subassignment.o
gcc -I"E:/biocbuild/bbs-3.19-bioc/R/include" -DNDEBUG -I'E:/biocbuild/bbs-3.19-bioc/R/library/S4Vectors/include' -I'E:/biocbuild/bbs-3.19-bioc/R/library/IRanges/include' -I'E:/biocbuild/bbs-3.19-bioc/R/library/XVector/include' -I"C:/rtools44/x86_64-w64-mingw32.static.posix/include" -fopenmp -O2 -Wall -mfpmath=sse -msse2 -mstackrealign -c SparseArray_subsetting.c -o SparseArray_subsetting.o
gcc -I"E:/biocbuild/bbs-3.19-bioc/R/include" -DNDEBUG -I'E:/biocbuild/bbs-3.19-bioc/R/library/S4Vectors/include' -I'E:/biocbuild/bbs-3.19-bioc/R/library/IRanges/include' -I'E:/biocbuild/bbs-3.19-bioc/R/library/XVector/include' -I"C:/rtools44/x86_64-w64-mingw32.static.posix/include" -fopenmp -O2 -Wall -mfpmath=sse -msse2 -mstackrealign -c SparseArray_summarization.c -o SparseArray_summarization.o
gcc -I"E:/biocbuild/bbs-3.19-bioc/R/include" -DNDEBUG -I'E:/biocbuild/bbs-3.19-bioc/R/library/S4Vectors/include' -I'E:/biocbuild/bbs-3.19-bioc/R/library/IRanges/include' -I'E:/biocbuild/bbs-3.19-bioc/R/library/XVector/include' -I"C:/rtools44/x86_64-w64-mingw32.static.posix/include" -fopenmp -O2 -Wall -mfpmath=sse -msse2 -mstackrealign -c SparseMatrix_mult.c -o SparseMatrix_mult.o
SparseMatrix_mult.c:372:13: warning: 'crossprod2_doublemat_doubleSV' defined but not used [-Wunused-function]
372 | static void crossprod2_doublemat_doubleSV(
| ^~~~~~~~~~~~~~~~~~~~~~~~~~~~~
SparseMatrix_mult.c:332:13: warning: 'crossprod2_doubleSV_doublemat' defined but not used [-Wunused-function]
332 | static void crossprod2_doubleSV_doublemat(
| ^~~~~~~~~~~~~~~~~~~~~~~~~~~~~
gcc -I"E:/biocbuild/bbs-3.19-bioc/R/include" -DNDEBUG -I'E:/biocbuild/bbs-3.19-bioc/R/library/S4Vectors/include' -I'E:/biocbuild/bbs-3.19-bioc/R/library/IRanges/include' -I'E:/biocbuild/bbs-3.19-bioc/R/library/XVector/include' -I"C:/rtools44/x86_64-w64-mingw32.static.posix/include" -fopenmp -O2 -Wall -mfpmath=sse -msse2 -mstackrealign -c SparseVec_Arith.c -o SparseVec_Arith.o
gcc -I"E:/biocbuild/bbs-3.19-bioc/R/include" -DNDEBUG -I'E:/biocbuild/bbs-3.19-bioc/R/library/S4Vectors/include' -I'E:/biocbuild/bbs-3.19-bioc/R/library/IRanges/include' -I'E:/biocbuild/bbs-3.19-bioc/R/library/XVector/include' -I"C:/rtools44/x86_64-w64-mingw32.static.posix/include" -fopenmp -O2 -Wall -mfpmath=sse -msse2 -mstackrealign -c SparseVec_Compare.c -o SparseVec_Compare.o
gcc -I"E:/biocbuild/bbs-3.19-bioc/R/include" -DNDEBUG -I'E:/biocbuild/bbs-3.19-bioc/R/library/S4Vectors/include' -I'E:/biocbuild/bbs-3.19-bioc/R/library/IRanges/include' -I'E:/biocbuild/bbs-3.19-bioc/R/library/XVector/include' -I"C:/rtools44/x86_64-w64-mingw32.static.posix/include" -fopenmp -O2 -Wall -mfpmath=sse -msse2 -mstackrealign -c SparseVec_Logic.c -o SparseVec_Logic.o
gcc -I"E:/biocbuild/bbs-3.19-bioc/R/include" -DNDEBUG -I'E:/biocbuild/bbs-3.19-bioc/R/library/S4Vectors/include' -I'E:/biocbuild/bbs-3.19-bioc/R/library/IRanges/include' -I'E:/biocbuild/bbs-3.19-bioc/R/library/XVector/include' -I"C:/rtools44/x86_64-w64-mingw32.static.posix/include" -fopenmp -O2 -Wall -mfpmath=sse -msse2 -mstackrealign -c SparseVec_Math.c -o SparseVec_Math.o
gcc -I"E:/biocbuild/bbs-3.19-bioc/R/include" -DNDEBUG -I'E:/biocbuild/bbs-3.19-bioc/R/library/S4Vectors/include' -I'E:/biocbuild/bbs-3.19-bioc/R/library/IRanges/include' -I'E:/biocbuild/bbs-3.19-bioc/R/library/XVector/include' -I"C:/rtools44/x86_64-w64-mingw32.static.posix/include" -fopenmp -O2 -Wall -mfpmath=sse -msse2 -mstackrealign -c SparseVec_dotprod.c -o SparseVec_dotprod.o
gcc -I"E:/biocbuild/bbs-3.19-bioc/R/include" -DNDEBUG -I'E:/biocbuild/bbs-3.19-bioc/R/library/S4Vectors/include' -I'E:/biocbuild/bbs-3.19-bioc/R/library/IRanges/include' -I'E:/biocbuild/bbs-3.19-bioc/R/library/XVector/include' -I"C:/rtools44/x86_64-w64-mingw32.static.posix/include" -fopenmp -O2 -Wall -mfpmath=sse -msse2 -mstackrealign -c XVector_stubs.c -o XVector_stubs.o
gcc -I"E:/biocbuild/bbs-3.19-bioc/R/include" -DNDEBUG -I'E:/biocbuild/bbs-3.19-bioc/R/library/S4Vectors/include' -I'E:/biocbuild/bbs-3.19-bioc/R/library/IRanges/include' -I'E:/biocbuild/bbs-3.19-bioc/R/library/XVector/include' -I"C:/rtools44/x86_64-w64-mingw32.static.posix/include" -fopenmp -O2 -Wall -mfpmath=sse -msse2 -mstackrealign -c coerceVector2.c -o coerceVector2.o
gcc -I"E:/biocbuild/bbs-3.19-bioc/R/include" -DNDEBUG -I'E:/biocbuild/bbs-3.19-bioc/R/library/S4Vectors/include' -I'E:/biocbuild/bbs-3.19-bioc/R/library/IRanges/include' -I'E:/biocbuild/bbs-3.19-bioc/R/library/XVector/include' -I"C:/rtools44/x86_64-w64-mingw32.static.posix/include" -fopenmp -O2 -Wall -mfpmath=sse -msse2 -mstackrealign -c leaf_utils.c -o leaf_utils.o
gcc -I"E:/biocbuild/bbs-3.19-bioc/R/include" -DNDEBUG -I'E:/biocbuild/bbs-3.19-bioc/R/library/S4Vectors/include' -I'E:/biocbuild/bbs-3.19-bioc/R/library/IRanges/include' -I'E:/biocbuild/bbs-3.19-bioc/R/library/XVector/include' -I"C:/rtools44/x86_64-w64-mingw32.static.posix/include" -fopenmp -O2 -Wall -mfpmath=sse -msse2 -mstackrealign -c matrixStats_methods.c -o matrixStats_methods.o
gcc -I"E:/biocbuild/bbs-3.19-bioc/R/include" -DNDEBUG -I'E:/biocbuild/bbs-3.19-bioc/R/library/S4Vectors/include' -I'E:/biocbuild/bbs-3.19-bioc/R/library/IRanges/include' -I'E:/biocbuild/bbs-3.19-bioc/R/library/XVector/include' -I"C:/rtools44/x86_64-w64-mingw32.static.posix/include" -fopenmp -O2 -Wall -mfpmath=sse -msse2 -mstackrealign -c randomSparseArray.c -o randomSparseArray.o
gcc -I"E:/biocbuild/bbs-3.19-bioc/R/include" -DNDEBUG -I'E:/biocbuild/bbs-3.19-bioc/R/library/S4Vectors/include' -I'E:/biocbuild/bbs-3.19-bioc/R/library/IRanges/include' -I'E:/biocbuild/bbs-3.19-bioc/R/library/XVector/include' -I"C:/rtools44/x86_64-w64-mingw32.static.posix/include" -fopenmp -O2 -Wall -mfpmath=sse -msse2 -mstackrealign -c readSparseCSV.c -o readSparseCSV.o
gcc -I"E:/biocbuild/bbs-3.19-bioc/R/include" -DNDEBUG -I'E:/biocbuild/bbs-3.19-bioc/R/library/S4Vectors/include' -I'E:/biocbuild/bbs-3.19-bioc/R/library/IRanges/include' -I'E:/biocbuild/bbs-3.19-bioc/R/library/XVector/include' -I"C:/rtools44/x86_64-w64-mingw32.static.posix/include" -fopenmp -O2 -Wall -mfpmath=sse -msse2 -mstackrealign -c rowsum_methods.c -o rowsum_methods.o
gcc -I"E:/biocbuild/bbs-3.19-bioc/R/include" -DNDEBUG -I'E:/biocbuild/bbs-3.19-bioc/R/library/S4Vectors/include' -I'E:/biocbuild/bbs-3.19-bioc/R/library/IRanges/include' -I'E:/biocbuild/bbs-3.19-bioc/R/library/XVector/include' -I"C:/rtools44/x86_64-w64-mingw32.static.posix/include" -fopenmp -O2 -Wall -mfpmath=sse -msse2 -mstackrealign -c sparseMatrix_utils.c -o sparseMatrix_utils.o
gcc -I"E:/biocbuild/bbs-3.19-bioc/R/include" -DNDEBUG -I'E:/biocbuild/bbs-3.19-bioc/R/library/S4Vectors/include' -I'E:/biocbuild/bbs-3.19-bioc/R/library/IRanges/include' -I'E:/biocbuild/bbs-3.19-bioc/R/library/XVector/include' -I"C:/rtools44/x86_64-w64-mingw32.static.posix/include" -fopenmp -O2 -Wall -mfpmath=sse -msse2 -mstackrealign -c test.c -o test.o
gcc -I"E:/biocbuild/bbs-3.19-bioc/R/include" -DNDEBUG -I'E:/biocbuild/bbs-3.19-bioc/R/library/S4Vectors/include' -I'E:/biocbuild/bbs-3.19-bioc/R/library/IRanges/include' -I'E:/biocbuild/bbs-3.19-bioc/R/library/XVector/include' -I"C:/rtools44/x86_64-w64-mingw32.static.posix/include" -fopenmp -O2 -Wall -mfpmath=sse -msse2 -mstackrealign -c thread_control.c -o thread_control.o
gcc -shared -s -static-libgcc -o SparseArray.dll tmp.def ExtendableJaggedArray.o IRanges_stubs.o OPBufTree.o R_init_SparseArray.o Rvector_summarization.o Rvector_utils.o S4Vectors_stubs.o SBT_utils.o SVT_SparseArray_class.o SparseArray_Complex_methods.o SparseArray_Math_methods.o SparseArray_Ops_methods.o SparseArray_abind.o SparseArray_aperm.o SparseArray_class.o SparseArray_dim_tuning.o SparseArray_subassignment.o SparseArray_subsetting.o SparseArray_summarization.o SparseMatrix_mult.o SparseVec_Arith.o SparseVec_Compare.o SparseVec_Logic.o SparseVec_Math.o SparseVec_dotprod.o XVector_stubs.o coerceVector2.o leaf_utils.o matrixStats_methods.o randomSparseArray.o readSparseCSV.o rowsum_methods.o sparseMatrix_utils.o test.o thread_control.o -fopenmp -LC:/rtools44/x86_64-w64-mingw32.static.posix/lib/x64 -LC:/rtools44/x86_64-w64-mingw32.static.posix/lib -LE:/biocbuild/bbs-3.19-bioc/R/bin/x64 -lR
installing to E:/biocbuild/bbs-3.19-bioc/meat/SparseArray.buildbin-libdir/00LOCK-SparseArray/00new/SparseArray/libs/x64
** R
** inst
** byte-compile and prepare package for lazy loading
** help
*** installing help indices
** building package indices
** installing vignettes
** testing if installed package can be loaded from temporary location
** testing if installed package can be loaded from final location
** testing if installed package keeps a record of temporary installation path
* MD5 sums
packaged installation of 'SparseArray' as SparseArray_1.4.8.zip
* DONE (SparseArray)